BEGIN:VCALENDAR
VERSION:2.0
PRODID:-//Lifelong Learning Collaborative - ECPv6.15.12.2//NONSGML v1.0//EN
CALSCALE:GREGORIAN
METHOD:PUBLISH
X-WR-CALNAME:Lifelong Learning Collaborative
X-ORIGINAL-URL:https://www.lifelonglearningcollaborative.org
X-WR-CALDESC:Events for Lifelong Learning Collaborative
REFRESH-INTERVAL;VALUE=DURATION:PT1H
X-Robots-Tag:noindex
X-PUBLISHED-TTL:PT1H
BEGIN:VTIMEZONE
TZID:America/New_York
BEGIN:DAYLIGHT
TZOFFSETFROM:-0500
TZOFFSETTO:-0400
TZNAME:EDT
DTSTART:20250309T070000
END:DAYLIGHT
BEGIN:STANDARD
TZOFFSETFROM:-0400
TZOFFSETTO:-0500
TZNAME:EST
DTSTART:20251102T060000
END:STANDARD
BEGIN:DAYLIGHT
TZOFFSETFROM:-0500
TZOFFSETTO:-0400
TZNAME:EDT
DTSTART:20260308T070000
END:DAYLIGHT
BEGIN:STANDARD
TZOFFSETFROM:-0400
TZOFFSETTO:-0500
TZNAME:EST
DTSTART:20261101T060000
END:STANDARD
BEGIN:DAYLIGHT
TZOFFSETFROM:-0500
TZOFFSETTO:-0400
TZNAME:EDT
DTSTART:20270314T070000
END:DAYLIGHT
BEGIN:STANDARD
TZOFFSETFROM:-0400
TZOFFSETTO:-0500
TZNAME:EST
DTSTART:20271107T060000
END:STANDARD
END:VTIMEZONE
BEGIN:VEVENT
DTSTART;TZID=America/New_York:20260423T130000
DTEND;TZID=America/New_York:20260423T150000
DTSTAMP:20260419T163223
CREATED:20260119T163057Z
LAST-MODIFIED:20260119T163057Z
UID:10004085-1776949200-1776956400@www.lifelonglearningcollaborative.org
SUMMARY:Bridge
DESCRIPTION:
URL:https://www.lifelonglearningcollaborative.org/event/bridge-2/2026-04-23/
LOCATION:Regency Plaza Apartments\, RI\, United States
CATEGORIES:Courses
END:VEVENT
BEGIN:VEVENT
DTSTART;TZID=America/New_York:20260430T130000
DTEND;TZID=America/New_York:20260430T150000
DTSTAMP:20260419T163223
CREATED:20260119T163057Z
LAST-MODIFIED:20260119T163057Z
UID:10004086-1777554000-1777561200@www.lifelonglearningcollaborative.org
SUMMARY:Bridge
DESCRIPTION:
URL:https://www.lifelonglearningcollaborative.org/event/bridge-2/2026-04-30/
LOCATION:Regency Plaza Apartments\, RI\, United States
CATEGORIES:Courses
END:VEVENT
BEGIN:VEVENT
DTSTART;TZID=America/New_York:20260507T130000
DTEND;TZID=America/New_York:20260507T150000
DTSTAMP:20260419T163223
CREATED:20260119T163057Z
LAST-MODIFIED:20260119T163057Z
UID:10004087-1778158800-1778166000@www.lifelonglearningcollaborative.org
SUMMARY:Bridge
DESCRIPTION:
URL:https://www.lifelonglearningcollaborative.org/event/bridge-2/2026-05-07/
LOCATION:Regency Plaza Apartments\, RI\, United States
CATEGORIES:Courses
END:VEVENT
BEGIN:VEVENT
DTSTART;TZID=America/New_York:20260514T130000
DTEND;TZID=America/New_York:20260514T150000
DTSTAMP:20260419T163223
CREATED:20260119T163057Z
LAST-MODIFIED:20260119T163057Z
UID:10004088-1778763600-1778770800@www.lifelonglearningcollaborative.org
SUMMARY:Bridge
DESCRIPTION:
URL:https://www.lifelonglearningcollaborative.org/event/bridge-2/2026-05-14/
LOCATION:Regency Plaza Apartments\, RI\, United States
CATEGORIES:Courses
END:VEVENT
BEGIN:VEVENT
DTSTART;TZID=America/New_York:20260521T130000
DTEND;TZID=America/New_York:20260521T150000
DTSTAMP:20260419T163223
CREATED:20260119T163057Z
LAST-MODIFIED:20260119T163057Z
UID:10004089-1779368400-1779375600@www.lifelonglearningcollaborative.org
SUMMARY:Bridge
DESCRIPTION:
URL:https://www.lifelonglearningcollaborative.org/event/bridge-2/2026-05-21/
LOCATION:Regency Plaza Apartments\, RI\, United States
CATEGORIES:Courses
END:VEVENT
BEGIN:VEVENT
DTSTART;TZID=America/New_York:20260528T160000
DTEND;TZID=America/New_York:20260528T180000
DTSTAMP:20260419T163223
CREATED:20260406T134322Z
LAST-MODIFIED:20260406T134322Z
UID:10004245-1779984000-1779991200@www.lifelonglearningcollaborative.org
SUMMARY:Coord Appreciation
DESCRIPTION:Winter and Spring LLC coordinators are invited Thursday\, May 28 at 4 PM at the Regency Apartments or a Coordinator Appreciation Night.
URL:https://www.lifelonglearningcollaborative.org/event/coord-appreciation/
LOCATION:Regency Plaza Apartments\, RI\, United States
CATEGORIES:Courses
END:VEVENT
END:VCALENDAR