BEGIN:VCALENDAR
VERSION:2.0
PRODID:-//Lifelong Learning Collaborative - ECPv6.15.12.2//NONSGML v1.0//EN
CALSCALE:GREGORIAN
METHOD:PUBLISH
X-WR-CALNAME:Lifelong Learning Collaborative
X-ORIGINAL-URL:https://www.lifelonglearningcollaborative.org
X-WR-CALDESC:Events for Lifelong Learning Collaborative
REFRESH-INTERVAL;VALUE=DURATION:PT1H
X-Robots-Tag:noindex
X-PUBLISHED-TTL:PT1H
BEGIN:VTIMEZONE
TZID:America/New_York
BEGIN:DAYLIGHT
TZOFFSETFROM:-0500
TZOFFSETTO:-0400
TZNAME:EDT
DTSTART:20250309T070000
END:DAYLIGHT
BEGIN:STANDARD
TZOFFSETFROM:-0400
TZOFFSETTO:-0500
TZNAME:EST
DTSTART:20251102T060000
END:STANDARD
BEGIN:DAYLIGHT
TZOFFSETFROM:-0500
TZOFFSETTO:-0400
TZNAME:EDT
DTSTART:20260308T070000
END:DAYLIGHT
BEGIN:STANDARD
TZOFFSETFROM:-0400
TZOFFSETTO:-0500
TZNAME:EST
DTSTART:20261101T060000
END:STANDARD
BEGIN:DAYLIGHT
TZOFFSETFROM:-0500
TZOFFSETTO:-0400
TZNAME:EDT
DTSTART:20270314T070000
END:DAYLIGHT
BEGIN:STANDARD
TZOFFSETFROM:-0400
TZOFFSETTO:-0500
TZNAME:EST
DTSTART:20271107T060000
END:STANDARD
END:VTIMEZONE
BEGIN:VEVENT
DTSTART;TZID=America/New_York:20260422T130000
DTEND;TZID=America/New_York:20260422T150000
DTSTAMP:20260419T104758
CREATED:20260119T162913Z
LAST-MODIFIED:20260316T150634Z
UID:10004217-1776862800-1776870000@www.lifelonglearningcollaborative.org
SUMMARY:Improv Theater
DESCRIPTION:
URL:https://www.lifelonglearningcollaborative.org/event/improv-theater/2026-04-22/
LOCATION:Shriners Center\, 1 Rhodes Place\, Cranston\, RI\, 02905\, United States
CATEGORIES:Courses
END:VEVENT
BEGIN:VEVENT
DTSTART;TZID=America/New_York:20260429T130000
DTEND;TZID=America/New_York:20260429T150000
DTSTAMP:20260419T104758
CREATED:20260119T162913Z
LAST-MODIFIED:20260316T150634Z
UID:10004218-1777467600-1777474800@www.lifelonglearningcollaborative.org
SUMMARY:Improv Theater
DESCRIPTION:
URL:https://www.lifelonglearningcollaborative.org/event/improv-theater/2026-04-29/
LOCATION:Shriners Center\, 1 Rhodes Place\, Cranston\, RI\, 02905\, United States
CATEGORIES:Courses
END:VEVENT
BEGIN:VEVENT
DTSTART;TZID=America/New_York:20260506T130000
DTEND;TZID=America/New_York:20260506T150000
DTSTAMP:20260419T104758
CREATED:20260119T162913Z
LAST-MODIFIED:20260316T150634Z
UID:10004219-1778072400-1778079600@www.lifelonglearningcollaborative.org
SUMMARY:Improv Theater
DESCRIPTION:
URL:https://www.lifelonglearningcollaborative.org/event/improv-theater/2026-05-06/
LOCATION:Shriners Center\, 1 Rhodes Place\, Cranston\, RI\, 02905\, United States
CATEGORIES:Courses
END:VEVENT
BEGIN:VEVENT
DTSTART;TZID=America/New_York:20260513T130000
DTEND;TZID=America/New_York:20260513T150000
DTSTAMP:20260419T104758
CREATED:20260119T162913Z
LAST-MODIFIED:20260316T150634Z
UID:10004220-1778677200-1778684400@www.lifelonglearningcollaborative.org
SUMMARY:Improv Theater
DESCRIPTION:
URL:https://www.lifelonglearningcollaborative.org/event/improv-theater/2026-05-13/
LOCATION:Shriners Center\, 1 Rhodes Place\, Cranston\, RI\, 02905\, United States
CATEGORIES:Courses
END:VEVENT
BEGIN:VEVENT
DTSTART;TZID=America/New_York:20260520T130000
DTEND;TZID=America/New_York:20260520T150000
DTSTAMP:20260419T104758
CREATED:20260119T162913Z
LAST-MODIFIED:20260316T150634Z
UID:10004221-1779282000-1779289200@www.lifelonglearningcollaborative.org
SUMMARY:Improv Theater
DESCRIPTION:
URL:https://www.lifelonglearningcollaborative.org/event/improv-theater/2026-05-20/
LOCATION:Shriners Center\, 1 Rhodes Place\, Cranston\, RI\, 02905\, United States
CATEGORIES:Courses
END:VEVENT
BEGIN:VEVENT
DTSTART;TZID=America/New_York:20260527T130000
DTEND;TZID=America/New_York:20260527T150000
DTSTAMP:20260419T104758
CREATED:20260119T162913Z
LAST-MODIFIED:20260316T150634Z
UID:10004222-1779886800-1779894000@www.lifelonglearningcollaborative.org
SUMMARY:Improv Theater
DESCRIPTION:
URL:https://www.lifelonglearningcollaborative.org/event/improv-theater/2026-05-27/
LOCATION:Shriners Center\, 1 Rhodes Place\, Cranston\, RI\, 02905\, United States
CATEGORIES:Courses
END:VEVENT
END:VCALENDAR