BEGIN:VCALENDAR
VERSION:2.0
PRODID:-//Lifelong Learning Collaborative - ECPv6.15.12.2//NONSGML v1.0//EN
CALSCALE:GREGORIAN
METHOD:PUBLISH
X-WR-CALNAME:Lifelong Learning Collaborative
X-ORIGINAL-URL:https://www.lifelonglearningcollaborative.org
X-WR-CALDESC:Events for Lifelong Learning Collaborative
REFRESH-INTERVAL;VALUE=DURATION:PT1H
X-Robots-Tag:noindex
X-PUBLISHED-TTL:PT1H
BEGIN:VTIMEZONE
TZID:America/New_York
BEGIN:DAYLIGHT
TZOFFSETFROM:-0500
TZOFFSETTO:-0400
TZNAME:EDT
DTSTART:20250309T070000
END:DAYLIGHT
BEGIN:STANDARD
TZOFFSETFROM:-0400
TZOFFSETTO:-0500
TZNAME:EST
DTSTART:20251102T060000
END:STANDARD
BEGIN:DAYLIGHT
TZOFFSETFROM:-0500
TZOFFSETTO:-0400
TZNAME:EDT
DTSTART:20260308T070000
END:DAYLIGHT
BEGIN:STANDARD
TZOFFSETFROM:-0400
TZOFFSETTO:-0500
TZNAME:EST
DTSTART:20261101T060000
END:STANDARD
BEGIN:DAYLIGHT
TZOFFSETFROM:-0500
TZOFFSETTO:-0400
TZNAME:EDT
DTSTART:20270314T070000
END:DAYLIGHT
BEGIN:STANDARD
TZOFFSETFROM:-0400
TZOFFSETTO:-0500
TZNAME:EST
DTSTART:20271107T060000
END:STANDARD
END:VTIMEZONE
BEGIN:VEVENT
DTSTART;TZID=America/New_York:20260420T130000
DTEND;TZID=America/New_York:20260420T150000
DTSTAMP:20260419T142551
CREATED:20260119T141809Z
LAST-MODIFIED:20260119T141809Z
UID:10003923-1776690000-1776697200@www.lifelonglearningcollaborative.org
SUMMARY:Sacred Places
DESCRIPTION:
URL:https://www.lifelonglearningcollaborative.org/event/sacred-places/2026-04-20/
LOCATION:Shriners Center\, 1 Rhodes Place\, Cranston\, RI\, 02905\, United States
CATEGORIES:Courses
END:VEVENT
BEGIN:VEVENT
DTSTART;TZID=America/New_York:20260427T130000
DTEND;TZID=America/New_York:20260427T150000
DTSTAMP:20260419T142551
CREATED:20260119T141809Z
LAST-MODIFIED:20260119T141809Z
UID:10003924-1777294800-1777302000@www.lifelonglearningcollaborative.org
SUMMARY:Sacred Places
DESCRIPTION:
URL:https://www.lifelonglearningcollaborative.org/event/sacred-places/2026-04-27/
LOCATION:Shriners Center\, 1 Rhodes Place\, Cranston\, RI\, 02905\, United States
CATEGORIES:Courses
END:VEVENT
BEGIN:VEVENT
DTSTART;TZID=America/New_York:20260504T130000
DTEND;TZID=America/New_York:20260504T150000
DTSTAMP:20260419T142551
CREATED:20260119T141809Z
LAST-MODIFIED:20260119T141809Z
UID:10003925-1777899600-1777906800@www.lifelonglearningcollaborative.org
SUMMARY:Sacred Places
DESCRIPTION:
URL:https://www.lifelonglearningcollaborative.org/event/sacred-places/2026-05-04/
LOCATION:Shriners Center\, 1 Rhodes Place\, Cranston\, RI\, 02905\, United States
CATEGORIES:Courses
END:VEVENT
BEGIN:VEVENT
DTSTART;TZID=America/New_York:20260511T130000
DTEND;TZID=America/New_York:20260511T150000
DTSTAMP:20260419T142551
CREATED:20260119T141809Z
LAST-MODIFIED:20260119T141809Z
UID:10003926-1778504400-1778511600@www.lifelonglearningcollaborative.org
SUMMARY:Sacred Places
DESCRIPTION:
URL:https://www.lifelonglearningcollaborative.org/event/sacred-places/2026-05-11/
LOCATION:Shriners Center\, 1 Rhodes Place\, Cranston\, RI\, 02905\, United States
CATEGORIES:Courses
END:VEVENT
BEGIN:VEVENT
DTSTART;TZID=America/New_York:20260518T130000
DTEND;TZID=America/New_York:20260518T150000
DTSTAMP:20260419T142551
CREATED:20260119T141809Z
LAST-MODIFIED:20260119T141809Z
UID:10003927-1779109200-1779116400@www.lifelonglearningcollaborative.org
SUMMARY:Sacred Places
DESCRIPTION:
URL:https://www.lifelonglearningcollaborative.org/event/sacred-places/2026-05-18/
LOCATION:Shriners Center\, 1 Rhodes Place\, Cranston\, RI\, 02905\, United States
CATEGORIES:Courses
END:VEVENT
END:VCALENDAR