BEGIN:VCALENDAR
VERSION:2.0
PRODID:-//Lifelong Learning Collaborative - ECPv6.15.12.2//NONSGML v1.0//EN
CALSCALE:GREGORIAN
METHOD:PUBLISH
X-WR-CALNAME:Lifelong Learning Collaborative
X-ORIGINAL-URL:https://www.lifelonglearningcollaborative.org
X-WR-CALDESC:Events for Lifelong Learning Collaborative
REFRESH-INTERVAL;VALUE=DURATION:PT1H
X-Robots-Tag:noindex
X-PUBLISHED-TTL:PT1H
BEGIN:VTIMEZONE
TZID:America/New_York
BEGIN:DAYLIGHT
TZOFFSETFROM:-0500
TZOFFSETTO:-0400
TZNAME:EDT
DTSTART:20250309T070000
END:DAYLIGHT
BEGIN:STANDARD
TZOFFSETFROM:-0400
TZOFFSETTO:-0500
TZNAME:EST
DTSTART:20251102T060000
END:STANDARD
BEGIN:DAYLIGHT
TZOFFSETFROM:-0500
TZOFFSETTO:-0400
TZNAME:EDT
DTSTART:20260308T070000
END:DAYLIGHT
BEGIN:STANDARD
TZOFFSETFROM:-0400
TZOFFSETTO:-0500
TZNAME:EST
DTSTART:20261101T060000
END:STANDARD
BEGIN:DAYLIGHT
TZOFFSETFROM:-0500
TZOFFSETTO:-0400
TZNAME:EDT
DTSTART:20270314T070000
END:DAYLIGHT
BEGIN:STANDARD
TZOFFSETFROM:-0400
TZOFFSETTO:-0500
TZNAME:EST
DTSTART:20271107T060000
END:STANDARD
END:VTIMEZONE
BEGIN:VEVENT
DTSTART;TZID=America/New_York:20260202T100000
DTEND;TZID=America/New_York:20260202T120000
DTSTAMP:20260419T161937
CREATED:20251124T211018Z
LAST-MODIFIED:20251124T212538Z
UID:10003708-1770026400-1770033600@www.lifelonglearningcollaborative.org
SUMMARY:Jane Austen
DESCRIPTION:
URL:https://www.lifelonglearningcollaborative.org/event/jane-austen/2026-02-02/
LOCATION:Shriners Center\, 1 Rhodes Place\, Cranston\, RI\, 02905\, United States
CATEGORIES:Courses
END:VEVENT
BEGIN:VEVENT
DTSTART;TZID=America/New_York:20260202T100000
DTEND;TZID=America/New_York:20260202T120000
DTSTAMP:20260419T161937
CREATED:20251124T212145Z
LAST-MODIFIED:20251124T212658Z
UID:10003718-1770026400-1770033600@www.lifelonglearningcollaborative.org
SUMMARY:Open Studio Art (Zoom)
DESCRIPTION:
URL:https://www.lifelonglearningcollaborative.org/event/open-studio-art-zoom-2-5/2026-02-02/
LOCATION:ZOOM
CATEGORIES:Courses
END:VEVENT
BEGIN:VEVENT
DTSTART;TZID=America/New_York:20260202T100000
DTEND;TZID=America/New_York:20260202T120000
DTSTAMP:20260419T161937
CREATED:20251125T140258Z
LAST-MODIFIED:20251125T140258Z
UID:10003725-1770026400-1770033600@www.lifelonglearningcollaborative.org
SUMMARY:Great Decisions 2026
DESCRIPTION:
URL:https://www.lifelonglearningcollaborative.org/event/great-decisions-2026/2026-02-02/
LOCATION:ZOOM
CATEGORIES:Courses
END:VEVENT
BEGIN:VEVENT
DTSTART;TZID=America/New_York:20260202T130000
DTEND;TZID=America/New_York:20260202T150000
DTSTAMP:20260419T161937
CREATED:20251125T140356Z
LAST-MODIFIED:20251125T140356Z
UID:10003734-1770037200-1770044400@www.lifelonglearningcollaborative.org
SUMMARY:Literary Rx
DESCRIPTION:
URL:https://www.lifelonglearningcollaborative.org/event/literary-rx/2026-02-02/
LOCATION:international house of rhode island\, 8 Stimson Avenue\, Providence\, RI\, 02906\, United States
CATEGORIES:Courses
END:VEVENT
BEGIN:VEVENT
DTSTART;TZID=America/New_York:20260203T100000
DTEND;TZID=America/New_York:20260203T120000
DTSTAMP:20260419T161937
CREATED:20251125T140815Z
LAST-MODIFIED:20251125T140815Z
UID:10003762-1770112800-1770120000@www.lifelonglearningcollaborative.org
SUMMARY:Guys & Dolls
DESCRIPTION:
URL:https://www.lifelonglearningcollaborative.org/event/guys-dolls/2026-02-03/
LOCATION:ZOOM
CATEGORIES:Courses
END:VEVENT
BEGIN:VEVENT
DTSTART;TZID=America/New_York:20260203T100000
DTEND;TZID=America/New_York:20260203T120000
DTSTAMP:20260419T161937
CREATED:20251125T141124Z
LAST-MODIFIED:20251125T141124Z
UID:10003769-1770112800-1770120000@www.lifelonglearningcollaborative.org
SUMMARY:Writing a Memoir (Zoom)
DESCRIPTION:
URL:https://www.lifelonglearningcollaborative.org/event/writing-a-memoir-zoom-2-3/2026-02-03/
LOCATION:ZOOM
CATEGORIES:Courses
END:VEVENT
BEGIN:VEVENT
DTSTART;TZID=America/New_York:20260203T100000
DTEND;TZID=America/New_York:20260203T123000
DTSTAMP:20260419T161937
CREATED:20251125T140626Z
LAST-MODIFIED:20251125T140626Z
UID:10003746-1770112800-1770121800@www.lifelonglearningcollaborative.org
SUMMARY:Open Studio Art @ Shriners
DESCRIPTION:
URL:https://www.lifelonglearningcollaborative.org/event/open-studio-art-shriners/2026-02-03/
LOCATION:Shriners Center\, 1 Rhodes Place\, Cranston\, RI\, 02905\, United States
CATEGORIES:Courses
END:VEVENT
BEGIN:VEVENT
DTSTART;TZID=America/New_York:20260203T100000
DTEND;TZID=America/New_York:20260203T123000
DTSTAMP:20260419T161937
CREATED:20251125T140731Z
LAST-MODIFIED:20251125T140731Z
UID:10003754-1770112800-1770121800@www.lifelonglearningcollaborative.org
SUMMARY:Scrabble
DESCRIPTION:
URL:https://www.lifelonglearningcollaborative.org/event/scrabble-23/2026-02-03/
LOCATION:Shriners Center\, 1 Rhodes Place\, Cranston\, RI\, 02905\, United States
CATEGORIES:Courses
END:VEVENT
BEGIN:VEVENT
DTSTART;TZID=America/New_York:20260203T130000
DTEND;TZID=America/New_York:20260203T150000
DTSTAMP:20260419T161937
CREATED:20251125T141919Z
LAST-MODIFIED:20251125T141919Z
UID:10003785-1770123600-1770130800@www.lifelonglearningcollaborative.org
SUMMARY:Jewish Baking
DESCRIPTION:Private Residence in Providence
URL:https://www.lifelonglearningcollaborative.org/event/jewish-baking/2026-02-03/
CATEGORIES:Courses
END:VEVENT
BEGIN:VEVENT
DTSTART;TZID=America/New_York:20260203T160000
DTEND;TZID=America/New_York:20260203T170000
DTSTAMP:20260419T161937
CREATED:20251209T144154Z
LAST-MODIFIED:20251209T144154Z
UID:10003899-1770134400-1770138000@www.lifelonglearningcollaborative.org
SUMMARY:Webinar Lecture feat. John M. Tarro\, MD\, ENT
DESCRIPTION:
URL:https://www.lifelonglearningcollaborative.org/event/webinar-lecture-feat-john-m-tarro-md-ent/
LOCATION:ZOOM
CATEGORIES:Free Webinars
END:VEVENT
BEGIN:VEVENT
DTSTART;TZID=America/New_York:20260204T100000
DTEND;TZID=America/New_York:20260204T120000
DTSTAMP:20260419T161937
CREATED:20251125T142038Z
LAST-MODIFIED:20251125T142038Z
UID:10003795-1770199200-1770206400@www.lifelonglearningcollaborative.org
SUMMARY:How Things Are Made HYBRID
DESCRIPTION:Shriners or Zoom
URL:https://www.lifelonglearningcollaborative.org/event/how-things-are-made-hybrid-2-2/2026-02-04/
LOCATION:Shriners Center\, 1 Rhodes Place\, Cranston\, RI\, 02905\, United States
CATEGORIES:Courses
END:VEVENT
BEGIN:VEVENT
DTSTART;TZID=America/New_York:20260204T100000
DTEND;TZID=America/New_York:20260204T120000
DTSTAMP:20260419T161937
CREATED:20251125T142121Z
LAST-MODIFIED:20251125T142121Z
UID:10003802-1770199200-1770206400@www.lifelonglearningcollaborative.org
SUMMARY:Reading Plays Aloud
DESCRIPTION:
URL:https://www.lifelonglearningcollaborative.org/event/reading-plays-aloud-2-2/2026-02-04/
LOCATION:Shriners Center\, 1 Rhodes Place\, Cranston\, RI\, 02905\, United States
CATEGORIES:Courses
END:VEVENT
BEGIN:VEVENT
DTSTART;TZID=America/New_York:20260204T100000
DTEND;TZID=America/New_York:20260204T120000
DTSTAMP:20260419T161937
CREATED:20251125T142217Z
LAST-MODIFIED:20251125T142217Z
UID:10003808-1770199200-1770206400@www.lifelonglearningcollaborative.org
SUMMARY:America's Presidents
DESCRIPTION:
URL:https://www.lifelonglearningcollaborative.org/event/americas-presidents/2026-02-04/
LOCATION:ZOOM
CATEGORIES:Courses
END:VEVENT
BEGIN:VEVENT
DTSTART;TZID=America/New_York:20260204T130000
DTEND;TZID=America/New_York:20260204T150000
DTSTAMP:20260419T161937
CREATED:20251125T142451Z
LAST-MODIFIED:20251125T142451Z
UID:10003816-1770210000-1770217200@www.lifelonglearningcollaborative.org
SUMMARY:Hot Topics
DESCRIPTION:
URL:https://www.lifelonglearningcollaborative.org/event/hot-topics-3-9/2026-02-04/
LOCATION:ZOOM
CATEGORIES:Courses
END:VEVENT
BEGIN:VEVENT
DTSTART;TZID=America/New_York:20260204T130000
DTEND;TZID=America/New_York:20260204T150000
DTSTAMP:20260419T161937
CREATED:20251125T142720Z
LAST-MODIFIED:20251125T142720Z
UID:10003824-1770210000-1770217200@www.lifelonglearningcollaborative.org
SUMMARY:Roman Empire
DESCRIPTION:
URL:https://www.lifelonglearningcollaborative.org/event/roman-empire/2026-02-04/
LOCATION:ZOOM
CATEGORIES:Courses
END:VEVENT
BEGIN:VEVENT
DTSTART;TZID=America/New_York:20260204T130000
DTEND;TZID=America/New_York:20260204T150000
DTSTAMP:20260419T161937
CREATED:20251125T142939Z
LAST-MODIFIED:20251125T142939Z
UID:10003832-1770210000-1770217200@www.lifelonglearningcollaborative.org
SUMMARY:LLC Knits
DESCRIPTION:
URL:https://www.lifelonglearningcollaborative.org/event/llc-knits-3-7/2026-02-04/
LOCATION:Shriners Center\, 1 Rhodes Place\, Cranston\, RI\, 02905\, United States
CATEGORIES:Courses
END:VEVENT
BEGIN:VEVENT
DTSTART;TZID=America/New_York:20260205T100000
DTEND;TZID=America/New_York:20260205T120000
DTSTAMP:20260419T161937
CREATED:20251125T143211Z
LAST-MODIFIED:20251125T143211Z
UID:10003840-1770285600-1770292800@www.lifelonglearningcollaborative.org
SUMMARY:Science for Our Time HYBRID
DESCRIPTION:Shriners and on Zoom
URL:https://www.lifelonglearningcollaborative.org/event/science-for-our-time-hybrid/2026-02-05/
LOCATION:Shriners Center\, 1 Rhodes Place\, Cranston\, RI\, 02905\, United States
CATEGORIES:Courses
END:VEVENT
BEGIN:VEVENT
DTSTART;TZID=America/New_York:20260205T100000
DTEND;TZID=America/New_York:20260205T120000
DTSTAMP:20260419T161937
CREATED:20251125T143348Z
LAST-MODIFIED:20251125T143348Z
UID:10003848-1770285600-1770292800@www.lifelonglearningcollaborative.org
SUMMARY:O.Henry Stories
DESCRIPTION:
URL:https://www.lifelonglearningcollaborative.org/event/o-henry-stories/2026-02-05/
LOCATION:Shriners Center\, 1 Rhodes Place\, Cranston\, RI\, 02905\, United States
CATEGORIES:Courses
END:VEVENT
BEGIN:VEVENT
DTSTART;TZID=America/New_York:20260205T130000
DTEND;TZID=America/New_York:20260205T150000
DTSTAMP:20260419T161937
CREATED:20251125T143520Z
LAST-MODIFIED:20251125T143520Z
UID:10003856-1770296400-1770303600@www.lifelonglearningcollaborative.org
SUMMARY:Writing a Memoir (Shriners)
DESCRIPTION:
URL:https://www.lifelonglearningcollaborative.org/event/writing-a-memoir-shriners/2026-02-05/
LOCATION:Shriners Center\, 1 Rhodes Place\, Cranston\, RI\, 02905\, United States
CATEGORIES:Courses
END:VEVENT
BEGIN:VEVENT
DTSTART;TZID=America/New_York:20260205T130000
DTEND;TZID=America/New_York:20260205T150000
DTSTAMP:20260419T161937
CREATED:20251125T143611Z
LAST-MODIFIED:20251125T143611Z
UID:10003864-1770296400-1770303600@www.lifelonglearningcollaborative.org
SUMMARY:Collage Making
DESCRIPTION:
URL:https://www.lifelonglearningcollaborative.org/event/collage-making/2026-02-05/
LOCATION:Shriners Center\, 1 Rhodes Place\, Cranston\, RI\, 02905\, United States
CATEGORIES:Courses
END:VEVENT
BEGIN:VEVENT
DTSTART;TZID=America/New_York:20260205T130000
DTEND;TZID=America/New_York:20260205T150000
DTSTAMP:20260419T161937
CREATED:20251125T144029Z
LAST-MODIFIED:20251125T144029Z
UID:10003881-1770296400-1770303600@www.lifelonglearningcollaborative.org
SUMMARY:Ukraine
DESCRIPTION:Shriners and on Zoom
URL:https://www.lifelonglearningcollaborative.org/event/ukraine-2-2/2026-02-05/
LOCATION:Shriners Center\, 1 Rhodes Place\, Cranston\, RI\, 02905\, United States
CATEGORIES:Courses
END:VEVENT
BEGIN:VEVENT
DTSTART;TZID=America/New_York:20260206T100000
DTEND;TZID=America/New_York:20260206T110000
DTSTAMP:20260419T161937
CREATED:20251125T144132Z
LAST-MODIFIED:20251125T144132Z
UID:10003889-1770372000-1770375600@www.lifelonglearningcollaborative.org
SUMMARY:Personal Training at Home
DESCRIPTION:
URL:https://www.lifelonglearningcollaborative.org/event/personal-training-at-home/2026-02-06/
LOCATION:ZOOM
CATEGORIES:Courses
END:VEVENT
BEGIN:VEVENT
DTSTART;TZID=America/New_York:20260209T100000
DTEND;TZID=America/New_York:20260209T120000
DTSTAMP:20260419T161937
CREATED:20251124T211018Z
LAST-MODIFIED:20251124T212538Z
UID:10003709-1770631200-1770638400@www.lifelonglearningcollaborative.org
SUMMARY:Jane Austen
DESCRIPTION:
URL:https://www.lifelonglearningcollaborative.org/event/jane-austen/2026-02-09/
LOCATION:Shriners Center\, 1 Rhodes Place\, Cranston\, RI\, 02905\, United States
CATEGORIES:Courses
END:VEVENT
BEGIN:VEVENT
DTSTART;TZID=America/New_York:20260209T100000
DTEND;TZID=America/New_York:20260209T120000
DTSTAMP:20260419T161937
CREATED:20251124T212145Z
LAST-MODIFIED:20251124T212658Z
UID:10003719-1770631200-1770638400@www.lifelonglearningcollaborative.org
SUMMARY:Open Studio Art (Zoom)
DESCRIPTION:
URL:https://www.lifelonglearningcollaborative.org/event/open-studio-art-zoom-2-5/2026-02-09/
LOCATION:ZOOM
CATEGORIES:Courses
END:VEVENT
BEGIN:VEVENT
DTSTART;TZID=America/New_York:20260209T100000
DTEND;TZID=America/New_York:20260209T120000
DTSTAMP:20260419T161937
CREATED:20251125T140258Z
LAST-MODIFIED:20251125T140258Z
UID:10003726-1770631200-1770638400@www.lifelonglearningcollaborative.org
SUMMARY:Great Decisions 2026
DESCRIPTION:
URL:https://www.lifelonglearningcollaborative.org/event/great-decisions-2026/2026-02-09/
LOCATION:ZOOM
CATEGORIES:Courses
END:VEVENT
BEGIN:VEVENT
DTSTART;TZID=America/New_York:20260209T130000
DTEND;TZID=America/New_York:20260209T150000
DTSTAMP:20260419T161937
CREATED:20250714T134926Z
LAST-MODIFIED:20250714T135145Z
UID:10003404-1770642000-1770649200@www.lifelonglearningcollaborative.org
SUMMARY:Detective Novel Book Club
DESCRIPTION:
URL:https://www.lifelonglearningcollaborative.org/event/detective-novel-book-club/2026-02-09/
LOCATION:Shriners Center\, 1 Rhodes Place\, Cranston\, RI\, 02905\, United States
CATEGORIES:Courses
END:VEVENT
BEGIN:VEVENT
DTSTART;TZID=America/New_York:20260209T130000
DTEND;TZID=America/New_York:20260209T150000
DTSTAMP:20260419T161937
CREATED:20251125T140356Z
LAST-MODIFIED:20251125T140356Z
UID:10003735-1770642000-1770649200@www.lifelonglearningcollaborative.org
SUMMARY:Literary Rx
DESCRIPTION:
URL:https://www.lifelonglearningcollaborative.org/event/literary-rx/2026-02-09/
LOCATION:international house of rhode island\, 8 Stimson Avenue\, Providence\, RI\, 02906\, United States
CATEGORIES:Courses
END:VEVENT
BEGIN:VEVENT
DTSTART;TZID=America/New_York:20260210T100000
DTEND;TZID=America/New_York:20260210T120000
DTSTAMP:20260419T161937
CREATED:20251125T140815Z
LAST-MODIFIED:20251125T140815Z
UID:10003763-1770717600-1770724800@www.lifelonglearningcollaborative.org
SUMMARY:Guys & Dolls
DESCRIPTION:
URL:https://www.lifelonglearningcollaborative.org/event/guys-dolls/2026-02-10/
LOCATION:ZOOM
CATEGORIES:Courses
END:VEVENT
BEGIN:VEVENT
DTSTART;TZID=America/New_York:20260210T100000
DTEND;TZID=America/New_York:20260210T123000
DTSTAMP:20260419T161937
CREATED:20251125T140626Z
LAST-MODIFIED:20251125T140626Z
UID:10003747-1770717600-1770726600@www.lifelonglearningcollaborative.org
SUMMARY:Open Studio Art @ Shriners
DESCRIPTION:
URL:https://www.lifelonglearningcollaborative.org/event/open-studio-art-shriners/2026-02-10/
LOCATION:Shriners Center\, 1 Rhodes Place\, Cranston\, RI\, 02905\, United States
CATEGORIES:Courses
END:VEVENT
BEGIN:VEVENT
DTSTART;TZID=America/New_York:20260210T100000
DTEND;TZID=America/New_York:20260210T123000
DTSTAMP:20260419T161937
CREATED:20251125T140731Z
LAST-MODIFIED:20251125T140731Z
UID:10003755-1770717600-1770726600@www.lifelonglearningcollaborative.org
SUMMARY:Scrabble
DESCRIPTION:
URL:https://www.lifelonglearningcollaborative.org/event/scrabble-23/2026-02-10/
LOCATION:Shriners Center\, 1 Rhodes Place\, Cranston\, RI\, 02905\, United States
CATEGORIES:Courses
END:VEVENT
END:VCALENDAR