BEGIN:VCALENDAR
VERSION:2.0
PRODID:-//Lifelong Learning Collaborative - ECPv6.15.12.2//NONSGML v1.0//EN
CALSCALE:GREGORIAN
METHOD:PUBLISH
X-WR-CALNAME:Lifelong Learning Collaborative
X-ORIGINAL-URL:https://www.lifelonglearningcollaborative.org
X-WR-CALDESC:Events for Lifelong Learning Collaborative
REFRESH-INTERVAL;VALUE=DURATION:PT1H
X-Robots-Tag:noindex
X-PUBLISHED-TTL:PT1H
BEGIN:VTIMEZONE
TZID:America/New_York
BEGIN:DAYLIGHT
TZOFFSETFROM:-0500
TZOFFSETTO:-0400
TZNAME:EDT
DTSTART:20240310T070000
END:DAYLIGHT
BEGIN:STANDARD
TZOFFSETFROM:-0400
TZOFFSETTO:-0500
TZNAME:EST
DTSTART:20241103T060000
END:STANDARD
BEGIN:DAYLIGHT
TZOFFSETFROM:-0500
TZOFFSETTO:-0400
TZNAME:EDT
DTSTART:20250309T070000
END:DAYLIGHT
BEGIN:STANDARD
TZOFFSETFROM:-0400
TZOFFSETTO:-0500
TZNAME:EST
DTSTART:20251102T060000
END:STANDARD
BEGIN:DAYLIGHT
TZOFFSETFROM:-0500
TZOFFSETTO:-0400
TZNAME:EDT
DTSTART:20260308T070000
END:DAYLIGHT
BEGIN:STANDARD
TZOFFSETFROM:-0400
TZOFFSETTO:-0500
TZNAME:EST
DTSTART:20261101T060000
END:STANDARD
END:VTIMEZONE
BEGIN:VEVENT
DTSTART;TZID=America/New_York:20250130T100000
DTEND;TZID=America/New_York:20250130T120000
DTSTAMP:20260421T020810
CREATED:20241125T145944Z
LAST-MODIFIED:20241125T151200Z
UID:10002923-1738231200-1738238400@www.lifelonglearningcollaborative.org
SUMMARY:Pompeii (ZOOM)
DESCRIPTION:
URL:https://www.lifelonglearningcollaborative.org/event/pompeii-zoom/2025-01-30/
LOCATION:ZOOM
CATEGORIES:Courses
END:VEVENT
BEGIN:VEVENT
DTSTART;TZID=America/New_York:20250130T100000
DTEND;TZID=America/New_York:20250130T120000
DTSTAMP:20260421T020810
CREATED:20241125T150049Z
LAST-MODIFIED:20241125T150049Z
UID:10002896-1738231200-1738238400@www.lifelonglearningcollaborative.org
SUMMARY:Overlooked No More Hybrid
DESCRIPTION:This hybrid class is on Zoom and in-person at Temple Beth-El
URL:https://www.lifelonglearningcollaborative.org/event/overlooked-no-more-hybrid/2025-01-30/
CATEGORIES:Courses
END:VEVENT
BEGIN:VEVENT
DTSTART;TZID=America/New_York:20250130T130000
DTEND;TZID=America/New_York:20250130T150000
DTSTAMP:20260421T020810
CREATED:20241125T150127Z
LAST-MODIFIED:20241125T150127Z
UID:10002904-1738242000-1738249200@www.lifelonglearningcollaborative.org
SUMMARY:Writing a Memoir
DESCRIPTION:
URL:https://www.lifelonglearningcollaborative.org/event/writing-a-memoir-3-5/2025-01-30/
LOCATION:Temple Beth-El\, 70 Orchard Avenue\, Providence\, RI\, United States
CATEGORIES:Courses
END:VEVENT
BEGIN:VEVENT
DTSTART;TZID=America/New_York:20250131T100000
DTEND;TZID=America/New_York:20250131T110000
DTSTAMP:20260421T020810
CREATED:20241125T150614Z
LAST-MODIFIED:20241125T150614Z
UID:10002912-1738317600-1738321200@www.lifelonglearningcollaborative.org
SUMMARY:Get Fit at Home (ZOOM)
DESCRIPTION:
URL:https://www.lifelonglearningcollaborative.org/event/get-fit-at-home-zoom/2025-01-31/
LOCATION:ZOOM
CATEGORIES:Courses
END:VEVENT
BEGIN:VEVENT
DTSTART;TZID=America/New_York:20250203T100000
DTEND;TZID=America/New_York:20250203T120000
DTSTAMP:20260421T020810
CREATED:20241125T143510Z
LAST-MODIFIED:20241125T145252Z
UID:10002254-1738576800-1738584000@www.lifelonglearningcollaborative.org
SUMMARY:Open Studio Art (ZOOM)
DESCRIPTION:
URL:https://www.lifelonglearningcollaborative.org/event/open-studio-art-zoom-2-2/2025-02-03/
LOCATION:ZOOM
CATEGORIES:Courses
END:VEVENT
BEGIN:VEVENT
DTSTART;TZID=America/New_York:20250203T100000
DTEND;TZID=America/New_York:20250203T120000
DTSTAMP:20260421T020810
CREATED:20241125T143556Z
LAST-MODIFIED:20241125T144925Z
UID:10002313-1738576800-1738584000@www.lifelonglearningcollaborative.org
SUMMARY:Great Decisions (ZOOM)
DESCRIPTION:
URL:https://www.lifelonglearningcollaborative.org/event/great-decisions-zoom-3/2025-02-03/
LOCATION:ZOOM
CATEGORIES:Courses
END:VEVENT
BEGIN:VEVENT
DTSTART;TZID=America/New_York:20250204T100000
DTEND;TZID=America/New_York:20250204T120000
DTSTAMP:20260421T020810
CREATED:20241125T144203Z
LAST-MODIFIED:20241125T145313Z
UID:10002433-1738663200-1738670400@www.lifelonglearningcollaborative.org
SUMMARY:Open Studio Art
DESCRIPTION:
URL:https://www.lifelonglearningcollaborative.org/event/open-studio-art-4/2025-02-04/
LOCATION:Temple Beth-El\, 70 Orchard Avenue\, Providence\, RI\, United States
CATEGORIES:Courses
END:VEVENT
BEGIN:VEVENT
DTSTART;TZID=America/New_York:20250204T100000
DTEND;TZID=America/New_York:20250204T120000
DTSTAMP:20260421T020810
CREATED:20241125T144253Z
LAST-MODIFIED:20241125T145332Z
UID:10002493-1738663200-1738670400@www.lifelonglearningcollaborative.org
SUMMARY:Huck's Friend James Reimagined (ZOOM)
DESCRIPTION:
URL:https://www.lifelonglearningcollaborative.org/event/hucks-friend-james-reimagined-zoom/2025-02-04/
LOCATION:ZOOM
CATEGORIES:Courses
END:VEVENT
BEGIN:VEVENT
DTSTART;TZID=America/New_York:20250204T130000
DTEND;TZID=America/New_York:20250204T141500
DTSTAMP:20260421T020810
CREATED:20241125T144348Z
LAST-MODIFIED:20241125T145231Z
UID:10002553-1738674000-1738678500@www.lifelonglearningcollaborative.org
SUMMARY:Alexander Technique
DESCRIPTION:
URL:https://www.lifelonglearningcollaborative.org/event/alexander-technique/2025-02-04/
LOCATION:Temple Beth-El\, 70 Orchard Avenue\, Providence\, RI\, United States
CATEGORIES:Courses
END:VEVENT
BEGIN:VEVENT
DTSTART;TZID=America/New_York:20250204T130000
DTEND;TZID=America/New_York:20250204T150000
DTSTAMP:20260421T020810
CREATED:20241125T144600Z
LAST-MODIFIED:20241125T145146Z
UID:10002671-1738674000-1738681200@www.lifelonglearningcollaborative.org
SUMMARY:Cell Phone Photo
DESCRIPTION:
URL:https://www.lifelonglearningcollaborative.org/event/cell-phone-photo-3-2/2025-02-04/
LOCATION:Temple Beth-El\, 70 Orchard Avenue\, Providence\, RI\, United States
CATEGORIES:Courses
END:VEVENT
BEGIN:VEVENT
DTSTART;TZID=America/New_York:20250204T151500
DTEND;TZID=America/New_York:20250204T170000
DTSTAMP:20260421T020810
CREATED:20241125T144641Z
LAST-MODIFIED:20241125T145018Z
UID:10002731-1738682100-1738688400@www.lifelonglearningcollaborative.org
SUMMARY:Scrabble
DESCRIPTION:
URL:https://www.lifelonglearningcollaborative.org/event/scrabble-15/2025-02-04/
LOCATION:Temple Beth-El\, 70 Orchard Avenue\, Providence\, RI\, United States
CATEGORIES:Courses
END:VEVENT
BEGIN:VEVENT
DTSTART;TZID=America/New_York:20250205T100000
DTEND;TZID=America/New_York:20250205T120000
DTSTAMP:20260421T020810
CREATED:20241125T144745Z
LAST-MODIFIED:20241125T144958Z
UID:10002791-1738749600-1738756800@www.lifelonglearningcollaborative.org
SUMMARY:Structures Hybrid
DESCRIPTION:On Zoom and in-person at Temple Beth-El
URL:https://www.lifelonglearningcollaborative.org/event/structures-hybrid/2025-02-05/
CATEGORIES:Courses
END:VEVENT
BEGIN:VEVENT
DTSTART;TZID=America/New_York:20250205T100000
DTEND;TZID=America/New_York:20250205T120000
DTSTAMP:20260421T020810
CREATED:20241125T144840Z
LAST-MODIFIED:20241125T144840Z
UID:10002851-1738749600-1738756800@www.lifelonglearningcollaborative.org
SUMMARY:The Media (ZOOM)
DESCRIPTION:
URL:https://www.lifelonglearningcollaborative.org/event/the-media-zoom/2025-02-05/
LOCATION:ZOOM
CATEGORIES:Courses
END:VEVENT
BEGIN:VEVENT
DTSTART;TZID=America/New_York:20250205T130000
DTEND;TZID=America/New_York:20250205T150000
DTSTAMP:20260421T020810
CREATED:20241125T145122Z
LAST-MODIFIED:20241125T145122Z
UID:10002859-1738760400-1738767600@www.lifelonglearningcollaborative.org
SUMMARY:LLC Knits Hybrid
DESCRIPTION:This hybrid class is on Zoom and in-person at Temple Beth-El
URL:https://www.lifelonglearningcollaborative.org/event/llc-knits-hybrid/2025-02-05/
CATEGORIES:Courses
END:VEVENT
BEGIN:VEVENT
DTSTART;TZID=America/New_York:20250205T130000
DTEND;TZID=America/New_York:20250205T150000
DTSTAMP:20260421T020810
CREATED:20241125T145714Z
LAST-MODIFIED:20241125T145714Z
UID:10002872-1738760400-1738767600@www.lifelonglearningcollaborative.org
SUMMARY:Jewish Style Baking
DESCRIPTION:Private kitchen of LLC member Eastside Providence\, RI – address provided upon registration
URL:https://www.lifelonglearningcollaborative.org/event/jewish-style-baking/2025-02-05/
CATEGORIES:Courses
END:VEVENT
BEGIN:VEVENT
DTSTART;TZID=America/New_York:20250205T130000
DTEND;TZID=America/New_York:20250205T150000
DTSTAMP:20260421T020810
CREATED:20241125T145755Z
LAST-MODIFIED:20241125T145755Z
UID:10002880-1738760400-1738767600@www.lifelonglearningcollaborative.org
SUMMARY:Hot Topics
DESCRIPTION:
URL:https://www.lifelonglearningcollaborative.org/event/hot-topics-3-6/2025-02-05/
LOCATION:ZOOM
CATEGORIES:Courses
END:VEVENT
BEGIN:VEVENT
DTSTART;TZID=America/New_York:20250206T100000
DTEND;TZID=America/New_York:20250206T120000
DTSTAMP:20260421T020810
CREATED:20241125T145843Z
LAST-MODIFIED:20241125T145843Z
UID:10002888-1738836000-1738843200@www.lifelonglearningcollaborative.org
SUMMARY:World's Greatest Short Stories
DESCRIPTION:
URL:https://www.lifelonglearningcollaborative.org/event/worlds-greatest-short-stories/2025-02-06/
LOCATION:Temple Beth-El\, 70 Orchard Avenue\, Providence\, RI\, United States
CATEGORIES:Courses
END:VEVENT
BEGIN:VEVENT
DTSTART;TZID=America/New_York:20250206T100000
DTEND;TZID=America/New_York:20250206T120000
DTSTAMP:20260421T020810
CREATED:20241125T145944Z
LAST-MODIFIED:20241125T151200Z
UID:10002924-1738836000-1738843200@www.lifelonglearningcollaborative.org
SUMMARY:Pompeii (ZOOM)
DESCRIPTION:
URL:https://www.lifelonglearningcollaborative.org/event/pompeii-zoom/2025-02-06/
LOCATION:ZOOM
CATEGORIES:Courses
END:VEVENT
BEGIN:VEVENT
DTSTART;TZID=America/New_York:20250206T100000
DTEND;TZID=America/New_York:20250206T120000
DTSTAMP:20260421T020810
CREATED:20241125T150049Z
LAST-MODIFIED:20241125T150049Z
UID:10002897-1738836000-1738843200@www.lifelonglearningcollaborative.org
SUMMARY:Overlooked No More Hybrid
DESCRIPTION:This hybrid class is on Zoom and in-person at Temple Beth-El
URL:https://www.lifelonglearningcollaborative.org/event/overlooked-no-more-hybrid/2025-02-06/
CATEGORIES:Courses
END:VEVENT
BEGIN:VEVENT
DTSTART;TZID=America/New_York:20250206T130000
DTEND;TZID=America/New_York:20250206T150000
DTSTAMP:20260421T020810
CREATED:20241125T150127Z
LAST-MODIFIED:20241125T150127Z
UID:10002905-1738846800-1738854000@www.lifelonglearningcollaborative.org
SUMMARY:Writing a Memoir
DESCRIPTION:
URL:https://www.lifelonglearningcollaborative.org/event/writing-a-memoir-3-5/2025-02-06/
LOCATION:Temple Beth-El\, 70 Orchard Avenue\, Providence\, RI\, United States
CATEGORIES:Courses
END:VEVENT
BEGIN:VEVENT
DTSTART;TZID=America/New_York:20250207T100000
DTEND;TZID=America/New_York:20250207T110000
DTSTAMP:20260421T020810
CREATED:20241125T150614Z
LAST-MODIFIED:20241125T150614Z
UID:10002913-1738922400-1738926000@www.lifelonglearningcollaborative.org
SUMMARY:Get Fit at Home (ZOOM)
DESCRIPTION:
URL:https://www.lifelonglearningcollaborative.org/event/get-fit-at-home-zoom/2025-02-07/
LOCATION:ZOOM
CATEGORIES:Courses
END:VEVENT
BEGIN:VEVENT
DTSTART;TZID=America/New_York:20250207T100000
DTEND;TZID=America/New_York:20250207T120000
DTSTAMP:20260421T020810
CREATED:20241125T150702Z
LAST-MODIFIED:20241125T150702Z
UID:10002917-1738922400-1738929600@www.lifelonglearningcollaborative.org
SUMMARY:King Philip's War
DESCRIPTION:
URL:https://www.lifelonglearningcollaborative.org/event/king-philips-war/2025-02-07/
LOCATION:Temple Beth-El\, 70 Orchard Avenue\, Providence\, RI\, United States
CATEGORIES:Courses
END:VEVENT
BEGIN:VEVENT
DTSTART;TZID=America/New_York:20250210T100000
DTEND;TZID=America/New_York:20250210T120000
DTSTAMP:20260421T020810
CREATED:20241125T143510Z
LAST-MODIFIED:20241125T145252Z
UID:10002255-1739181600-1739188800@www.lifelonglearningcollaborative.org
SUMMARY:Open Studio Art (ZOOM)
DESCRIPTION:
URL:https://www.lifelonglearningcollaborative.org/event/open-studio-art-zoom-2-2/2025-02-10/
LOCATION:ZOOM
CATEGORIES:Courses
END:VEVENT
BEGIN:VEVENT
DTSTART;TZID=America/New_York:20250210T100000
DTEND;TZID=America/New_York:20250210T120000
DTSTAMP:20260421T020810
CREATED:20241125T143556Z
LAST-MODIFIED:20241125T144925Z
UID:10002314-1739181600-1739188800@www.lifelonglearningcollaborative.org
SUMMARY:Great Decisions (ZOOM)
DESCRIPTION:
URL:https://www.lifelonglearningcollaborative.org/event/great-decisions-zoom-3/2025-02-10/
LOCATION:ZOOM
CATEGORIES:Courses
END:VEVENT
BEGIN:VEVENT
DTSTART;TZID=America/New_York:20250210T160000
DTEND;TZID=America/New_York:20250210T170000
DTSTAMP:20260421T020810
CREATED:20241223T135950Z
LAST-MODIFIED:20241223T135950Z
UID:10002928-1739203200-1739206800@www.lifelonglearningcollaborative.org
SUMMARY:The Truth About Diets: Finding Long-Term Weight Management feat. Mary M. Flynn\, PhD\, RD\, LDN
DESCRIPTION:You can lose weight with many different diets\, but which ones truly lead to lasting results? Mary M. Flynn\, PhD\, RD\, LDN\, will explore popular weight loss diets\, discussing the pros and cons of each\, how to spot a fad diet\, and which foods promote healthy weight loss and reduce the risk of chronic diseases – just in time to shed some of the extra pounds we may put on during the winter. \nJoin us and bring all your questions! \nMary M. Flynn\, PhD\, RD\, LDN\, is an Associate Professor of Medicine (Clinical) at Brown University and a Research Dietitian at The Miriam Hospital\, where she has worked since 1984. She is the outpatient Dietitian at TMH for oncology\, taught nutrition at Brown University and has lectured in the medical school on nutrition topics since 1998. Her main research interest is how food can be used as medicine and her main food of interest is extra virgin olive oil\, which she has been researching.
URL:https://www.lifelonglearningcollaborative.org/event/the-truth-about-diets-finding-long-term-weight-management-feat-mary-m-flynn-phd-rd-ldn/
LOCATION:ZOOM
CATEGORIES:Free Webinars
END:VEVENT
BEGIN:VEVENT
DTSTART;TZID=America/New_York:20250211T100000
DTEND;TZID=America/New_York:20250211T120000
DTSTAMP:20260421T020810
CREATED:20241125T144203Z
LAST-MODIFIED:20241125T145313Z
UID:10002434-1739268000-1739275200@www.lifelonglearningcollaborative.org
SUMMARY:Open Studio Art
DESCRIPTION:
URL:https://www.lifelonglearningcollaborative.org/event/open-studio-art-4/2025-02-11/
LOCATION:Temple Beth-El\, 70 Orchard Avenue\, Providence\, RI\, United States
CATEGORIES:Courses
END:VEVENT
BEGIN:VEVENT
DTSTART;TZID=America/New_York:20250211T100000
DTEND;TZID=America/New_York:20250211T120000
DTSTAMP:20260421T020810
CREATED:20241125T144253Z
LAST-MODIFIED:20241125T145332Z
UID:10002494-1739268000-1739275200@www.lifelonglearningcollaborative.org
SUMMARY:Huck's Friend James Reimagined (ZOOM)
DESCRIPTION:
URL:https://www.lifelonglearningcollaborative.org/event/hucks-friend-james-reimagined-zoom/2025-02-11/
LOCATION:ZOOM
CATEGORIES:Courses
END:VEVENT
BEGIN:VEVENT
DTSTART;TZID=America/New_York:20250211T130000
DTEND;TZID=America/New_York:20250211T141500
DTSTAMP:20260421T020810
CREATED:20241125T144348Z
LAST-MODIFIED:20241125T145231Z
UID:10002554-1739278800-1739283300@www.lifelonglearningcollaborative.org
SUMMARY:Alexander Technique
DESCRIPTION:
URL:https://www.lifelonglearningcollaborative.org/event/alexander-technique/2025-02-11/
LOCATION:Temple Beth-El\, 70 Orchard Avenue\, Providence\, RI\, United States
CATEGORIES:Courses
END:VEVENT
BEGIN:VEVENT
DTSTART;TZID=America/New_York:20250211T130000
DTEND;TZID=America/New_York:20250211T150000
DTSTAMP:20260421T020810
CREATED:20241125T144600Z
LAST-MODIFIED:20241125T145146Z
UID:10002672-1739278800-1739286000@www.lifelonglearningcollaborative.org
SUMMARY:Cell Phone Photo
DESCRIPTION:
URL:https://www.lifelonglearningcollaborative.org/event/cell-phone-photo-3-2/2025-02-11/
LOCATION:Temple Beth-El\, 70 Orchard Avenue\, Providence\, RI\, United States
CATEGORIES:Courses
END:VEVENT
BEGIN:VEVENT
DTSTART;TZID=America/New_York:20250211T151500
DTEND;TZID=America/New_York:20250211T170000
DTSTAMP:20260421T020810
CREATED:20241125T144641Z
LAST-MODIFIED:20241125T145018Z
UID:10002732-1739286900-1739293200@www.lifelonglearningcollaborative.org
SUMMARY:Scrabble
DESCRIPTION:
URL:https://www.lifelonglearningcollaborative.org/event/scrabble-15/2025-02-11/
LOCATION:Temple Beth-El\, 70 Orchard Avenue\, Providence\, RI\, United States
CATEGORIES:Courses
END:VEVENT
END:VCALENDAR