BEGIN:VCALENDAR
VERSION:2.0
PRODID:-//Lifelong Learning Collaborative - ECPv6.15.12.2//NONSGML v1.0//EN
CALSCALE:GREGORIAN
METHOD:PUBLISH
X-WR-CALNAME:Lifelong Learning Collaborative
X-ORIGINAL-URL:https://www.lifelonglearningcollaborative.org
X-WR-CALDESC:Events for Lifelong Learning Collaborative
REFRESH-INTERVAL;VALUE=DURATION:PT1H
X-Robots-Tag:noindex
X-PUBLISHED-TTL:PT1H
BEGIN:VTIMEZONE
TZID:America/New_York
BEGIN:DAYLIGHT
TZOFFSETFROM:-0500
TZOFFSETTO:-0400
TZNAME:EDT
DTSTART:20230312T070000
END:DAYLIGHT
BEGIN:STANDARD
TZOFFSETFROM:-0400
TZOFFSETTO:-0500
TZNAME:EST
DTSTART:20231105T060000
END:STANDARD
BEGIN:DAYLIGHT
TZOFFSETFROM:-0500
TZOFFSETTO:-0400
TZNAME:EDT
DTSTART:20240310T070000
END:DAYLIGHT
BEGIN:STANDARD
TZOFFSETFROM:-0400
TZOFFSETTO:-0500
TZNAME:EST
DTSTART:20241103T060000
END:STANDARD
BEGIN:DAYLIGHT
TZOFFSETFROM:-0500
TZOFFSETTO:-0400
TZNAME:EDT
DTSTART:20250309T070000
END:DAYLIGHT
BEGIN:STANDARD
TZOFFSETFROM:-0400
TZOFFSETTO:-0500
TZNAME:EST
DTSTART:20251102T060000
END:STANDARD
END:VTIMEZONE
BEGIN:VEVENT
DTSTART;TZID=America/New_York:20240207T100000
DTEND;TZID=America/New_York:20240207T120000
DTSTAMP:20260422T161918
CREATED:20231127T155154Z
LAST-MODIFIED:20231127T155154Z
UID:10001497-1707300000-1707307200@www.lifelonglearningcollaborative.org
SUMMARY:Darwin
DESCRIPTION:
URL:https://www.lifelonglearningcollaborative.org/event/darwin/2024-02-07/
LOCATION:ZOOM
CATEGORIES:Courses
END:VEVENT
BEGIN:VEVENT
DTSTART;TZID=America/New_York:20240207T130000
DTEND;TZID=America/New_York:20240207T150000
DTSTAMP:20260422T161918
CREATED:20231127T155343Z
LAST-MODIFIED:20231127T160050Z
UID:10001505-1707310800-1707318000@www.lifelonglearningcollaborative.org
SUMMARY:Jewish Style Breads
DESCRIPTION:
URL:https://www.lifelonglearningcollaborative.org/event/jewish-style-breads/2024-02-07/
CATEGORIES:Courses
END:VEVENT
BEGIN:VEVENT
DTSTART;TZID=America/New_York:20240207T130000
DTEND;TZID=America/New_York:20240207T150000
DTSTAMP:20260422T161918
CREATED:20231127T160038Z
LAST-MODIFIED:20231127T160038Z
UID:10001514-1707310800-1707318000@www.lifelonglearningcollaborative.org
SUMMARY:LLC Knits
DESCRIPTION:
URL:https://www.lifelonglearningcollaborative.org/event/llc-knits-3-3/2024-02-07/
LOCATION:Temple Beth-El\, 70 Orchard Avenue\, Providence\, RI\, United States
CATEGORIES:Courses
END:VEVENT
BEGIN:VEVENT
DTSTART;TZID=America/New_York:20240207T130000
DTEND;TZID=America/New_York:20240207T150000
DTSTAMP:20260422T161918
CREATED:20231127T160223Z
LAST-MODIFIED:20231127T160223Z
UID:10001522-1707310800-1707318000@www.lifelonglearningcollaborative.org
SUMMARY:Hot Topics
DESCRIPTION:
URL:https://www.lifelonglearningcollaborative.org/event/hot-topics-3-3/2024-02-07/
LOCATION:ZOOM
CATEGORIES:Courses
END:VEVENT
BEGIN:VEVENT
DTSTART;TZID=America/New_York:20240208T100000
DTEND;TZID=America/New_York:20240208T120000
DTSTAMP:20260422T161918
CREATED:20231127T160329Z
LAST-MODIFIED:20231127T160329Z
UID:10001530-1707386400-1707393600@www.lifelonglearningcollaborative.org
SUMMARY:Laughter
DESCRIPTION:
URL:https://www.lifelonglearningcollaborative.org/event/laughter/2024-02-08/
LOCATION:ZOOM
CATEGORIES:Courses
END:VEVENT
BEGIN:VEVENT
DTSTART;TZID=America/New_York:20240208T130000
DTEND;TZID=America/New_York:20240208T150000
DTSTAMP:20260422T161918
CREATED:20231127T160540Z
LAST-MODIFIED:20231127T160540Z
UID:10001544-1707397200-1707404400@www.lifelonglearningcollaborative.org
SUMMARY:Fascist Italy
DESCRIPTION:
URL:https://www.lifelonglearningcollaborative.org/event/fascist-italy/2024-02-08/
LOCATION:Temple Beth-El\, 70 Orchard Avenue\, Providence\, RI\, United States
CATEGORIES:Courses
END:VEVENT
BEGIN:VEVENT
DTSTART;TZID=America/New_York:20240208T130000
DTEND;TZID=America/New_York:20240208T150000
DTSTAMP:20260422T161918
CREATED:20231127T160626Z
LAST-MODIFIED:20231127T160626Z
UID:10001552-1707397200-1707404400@www.lifelonglearningcollaborative.org
SUMMARY:Writing a Memoir
DESCRIPTION:
URL:https://www.lifelonglearningcollaborative.org/event/writing-a-memoir-3-2/2024-02-08/
LOCATION:Temple Beth-El\, 70 Orchard Avenue\, Providence\, RI\, United States
CATEGORIES:Courses
END:VEVENT
BEGIN:VEVENT
DTSTART;TZID=America/New_York:20240208T130000
DTEND;TZID=America/New_York:20240208T150000
DTSTAMP:20260422T161918
CREATED:20231127T160729Z
LAST-MODIFIED:20231127T160729Z
UID:10001560-1707397200-1707404400@www.lifelonglearningcollaborative.org
SUMMARY:O.Henry Prize Stories
DESCRIPTION:
URL:https://www.lifelonglearningcollaborative.org/event/o-henry-prize-stories/2024-02-08/
LOCATION:Temple Beth-El\, 70 Orchard Avenue\, Providence\, RI\, United States
CATEGORIES:Courses
END:VEVENT
BEGIN:VEVENT
DTSTART;TZID=America/New_York:20240209T100000
DTEND;TZID=America/New_York:20240209T110000
DTSTAMP:20260422T161918
CREATED:20231127T160846Z
LAST-MODIFIED:20231127T160846Z
UID:10001568-1707472800-1707476400@www.lifelonglearningcollaborative.org
SUMMARY:Get Fit at Home
DESCRIPTION:
URL:https://www.lifelonglearningcollaborative.org/event/get-fit-at-home-3-4/2024-02-09/
LOCATION:ZOOM
CATEGORIES:Courses
END:VEVENT
BEGIN:VEVENT
DTSTART;TZID=America/New_York:20240212T100000
DTEND;TZID=America/New_York:20240212T120000
DTSTAMP:20260422T161918
CREATED:20231127T153729Z
LAST-MODIFIED:20231127T153729Z
UID:10001429-1707732000-1707739200@www.lifelonglearningcollaborative.org
SUMMARY:Open Studio Art
DESCRIPTION:
URL:https://www.lifelonglearningcollaborative.org/event/open-studio-art-10/2024-02-12/
LOCATION:ZOOM
CATEGORIES:Courses
END:VEVENT
BEGIN:VEVENT
DTSTART;TZID=America/New_York:20240213T080000
DTEND;TZID=America/New_York:20240213T170000
DTSTAMP:20260422T161918
CREATED:20231127T154706Z
LAST-MODIFIED:20231127T154706Z
UID:10001473-1707811200-1707843600@www.lifelonglearningcollaborative.org
SUMMARY:Scrabble
DESCRIPTION:
URL:https://www.lifelonglearningcollaborative.org/event/scrabble-9/2024-02-13/
LOCATION:Temple Beth-El\, 70 Orchard Avenue\, Providence\, RI\, United States
CATEGORIES:Courses
END:VEVENT
BEGIN:VEVENT
DTSTART;TZID=America/New_York:20240213T100000
DTEND;TZID=America/New_York:20240213T120000
DTSTAMP:20260422T161918
CREATED:20231127T154046Z
LAST-MODIFIED:20231127T154046Z
UID:10001441-1707818400-1707825600@www.lifelonglearningcollaborative.org
SUMMARY:Great Decisions
DESCRIPTION:
URL:https://www.lifelonglearningcollaborative.org/event/great-decisions-2-2/2024-02-13/
LOCATION:ZOOM
CATEGORIES:Courses
END:VEVENT
BEGIN:VEVENT
DTSTART;TZID=America/New_York:20240213T130000
DTEND;TZID=America/New_York:20240213T150000
DTSTAMP:20260422T161918
CREATED:20231127T154439Z
LAST-MODIFIED:20231127T154439Z
UID:10001457-1707829200-1707836400@www.lifelonglearningcollaborative.org
SUMMARY:Cell Phone Camera Club February
DESCRIPTION:
URL:https://www.lifelonglearningcollaborative.org/event/cell-phone-camera-club-february/2024-02-13/
LOCATION:Temple Beth-El\, 70 Orchard Avenue\, Providence\, RI\, United States
CATEGORIES:Courses
END:VEVENT
BEGIN:VEVENT
DTSTART;TZID=America/New_York:20240213T153000
DTEND;TZID=America/New_York:20240213T163000
DTSTAMP:20260422T161918
CREATED:20231106T123004Z
LAST-MODIFIED:20231106T123005Z
UID:10001421-1707838200-1707841800@www.lifelonglearningcollaborative.org
SUMMARY:Board Meeting
DESCRIPTION:Board Meetings are usually held the second Tuesday of the month. Board Members receive their Zoom link via email.
URL:https://www.lifelonglearningcollaborative.org/event/board-meeting-2-2/2024-02-13/
LOCATION:ZOOM
CATEGORIES:Board Meetings
END:VEVENT
BEGIN:VEVENT
DTSTART;TZID=America/New_York:20240214T100000
DTEND;TZID=America/New_York:20240214T120000
DTSTAMP:20260422T161918
CREATED:20231127T155016Z
LAST-MODIFIED:20231127T155016Z
UID:10001481-1707904800-1707912000@www.lifelonglearningcollaborative.org
SUMMARY:Fine Art Photography
DESCRIPTION:
URL:https://www.lifelonglearningcollaborative.org/event/fine-art-photography/2024-02-14/
LOCATION:Temple Beth-El\, 70 Orchard Avenue\, Providence\, RI\, United States
CATEGORIES:Courses
END:VEVENT
BEGIN:VEVENT
DTSTART;TZID=America/New_York:20240214T100000
DTEND;TZID=America/New_York:20240214T120000
DTSTAMP:20260422T161918
CREATED:20231127T155105Z
LAST-MODIFIED:20231127T155105Z
UID:10001488-1707904800-1707912000@www.lifelonglearningcollaborative.org
SUMMARY:Ancient Sicily
DESCRIPTION:
URL:https://www.lifelonglearningcollaborative.org/event/ancient-sicily/2024-02-14/
LOCATION:ZOOM
CATEGORIES:Courses
END:VEVENT
BEGIN:VEVENT
DTSTART;TZID=America/New_York:20240214T100000
DTEND;TZID=America/New_York:20240214T120000
DTSTAMP:20260422T161918
CREATED:20231127T155154Z
LAST-MODIFIED:20231127T155154Z
UID:10001498-1707904800-1707912000@www.lifelonglearningcollaborative.org
SUMMARY:Darwin
DESCRIPTION:
URL:https://www.lifelonglearningcollaborative.org/event/darwin/2024-02-14/
LOCATION:ZOOM
CATEGORIES:Courses
END:VEVENT
BEGIN:VEVENT
DTSTART;TZID=America/New_York:20240214T130000
DTEND;TZID=America/New_York:20240214T150000
DTSTAMP:20260422T161918
CREATED:20231127T155343Z
LAST-MODIFIED:20231127T160050Z
UID:10001506-1707915600-1707922800@www.lifelonglearningcollaborative.org
SUMMARY:Jewish Style Breads
DESCRIPTION:
URL:https://www.lifelonglearningcollaborative.org/event/jewish-style-breads/2024-02-14/
CATEGORIES:Courses
END:VEVENT
BEGIN:VEVENT
DTSTART;TZID=America/New_York:20240214T130000
DTEND;TZID=America/New_York:20240214T150000
DTSTAMP:20260422T161918
CREATED:20231127T160038Z
LAST-MODIFIED:20231127T160038Z
UID:10001515-1707915600-1707922800@www.lifelonglearningcollaborative.org
SUMMARY:LLC Knits
DESCRIPTION:
URL:https://www.lifelonglearningcollaborative.org/event/llc-knits-3-3/2024-02-14/
LOCATION:Temple Beth-El\, 70 Orchard Avenue\, Providence\, RI\, United States
CATEGORIES:Courses
END:VEVENT
BEGIN:VEVENT
DTSTART;TZID=America/New_York:20240214T130000
DTEND;TZID=America/New_York:20240214T150000
DTSTAMP:20260422T161918
CREATED:20231127T160223Z
LAST-MODIFIED:20231127T160223Z
UID:10001523-1707915600-1707922800@www.lifelonglearningcollaborative.org
SUMMARY:Hot Topics
DESCRIPTION:
URL:https://www.lifelonglearningcollaborative.org/event/hot-topics-3-3/2024-02-14/
LOCATION:ZOOM
CATEGORIES:Courses
END:VEVENT
BEGIN:VEVENT
DTSTART;TZID=America/New_York:20240215T100000
DTEND;TZID=America/New_York:20240215T120000
DTSTAMP:20260422T161918
CREATED:20231127T160329Z
LAST-MODIFIED:20231127T160329Z
UID:10001531-1707991200-1707998400@www.lifelonglearningcollaborative.org
SUMMARY:Laughter
DESCRIPTION:
URL:https://www.lifelonglearningcollaborative.org/event/laughter/2024-02-15/
LOCATION:ZOOM
CATEGORIES:Courses
END:VEVENT
BEGIN:VEVENT
DTSTART;TZID=America/New_York:20240215T100000
DTEND;TZID=America/New_York:20240215T120000
DTSTAMP:20260422T161918
CREATED:20231127T160453Z
LAST-MODIFIED:20231127T160453Z
UID:10001538-1707991200-1707998400@www.lifelonglearningcollaborative.org
SUMMARY:Design Your Own LLC Course
DESCRIPTION:
URL:https://www.lifelonglearningcollaborative.org/event/design-your-own-llc-course/2024-02-15/
LOCATION:Temple Beth-El\, 70 Orchard Avenue\, Providence\, RI\, United States
CATEGORIES:Courses
END:VEVENT
BEGIN:VEVENT
DTSTART;TZID=America/New_York:20240215T130000
DTEND;TZID=America/New_York:20240215T150000
DTSTAMP:20260422T161918
CREATED:20231127T160540Z
LAST-MODIFIED:20231127T160540Z
UID:10001545-1708002000-1708009200@www.lifelonglearningcollaborative.org
SUMMARY:Fascist Italy
DESCRIPTION:
URL:https://www.lifelonglearningcollaborative.org/event/fascist-italy/2024-02-15/
LOCATION:Temple Beth-El\, 70 Orchard Avenue\, Providence\, RI\, United States
CATEGORIES:Courses
END:VEVENT
BEGIN:VEVENT
DTSTART;TZID=America/New_York:20240215T130000
DTEND;TZID=America/New_York:20240215T150000
DTSTAMP:20260422T161918
CREATED:20231127T160626Z
LAST-MODIFIED:20231127T160626Z
UID:10001553-1708002000-1708009200@www.lifelonglearningcollaborative.org
SUMMARY:Writing a Memoir
DESCRIPTION:
URL:https://www.lifelonglearningcollaborative.org/event/writing-a-memoir-3-2/2024-02-15/
LOCATION:Temple Beth-El\, 70 Orchard Avenue\, Providence\, RI\, United States
CATEGORIES:Courses
END:VEVENT
BEGIN:VEVENT
DTSTART;TZID=America/New_York:20240215T130000
DTEND;TZID=America/New_York:20240215T150000
DTSTAMP:20260422T161918
CREATED:20231127T160729Z
LAST-MODIFIED:20231127T160729Z
UID:10001561-1708002000-1708009200@www.lifelonglearningcollaborative.org
SUMMARY:O.Henry Prize Stories
DESCRIPTION:
URL:https://www.lifelonglearningcollaborative.org/event/o-henry-prize-stories/2024-02-15/
LOCATION:Temple Beth-El\, 70 Orchard Avenue\, Providence\, RI\, United States
CATEGORIES:Courses
END:VEVENT
BEGIN:VEVENT
DTSTART;TZID=America/New_York:20240216T100000
DTEND;TZID=America/New_York:20240216T110000
DTSTAMP:20260422T161918
CREATED:20231127T160846Z
LAST-MODIFIED:20231127T160846Z
UID:10001569-1708077600-1708081200@www.lifelonglearningcollaborative.org
SUMMARY:Get Fit at Home
DESCRIPTION:
URL:https://www.lifelonglearningcollaborative.org/event/get-fit-at-home-3-4/2024-02-16/
LOCATION:ZOOM
CATEGORIES:Courses
END:VEVENT
BEGIN:VEVENT
DTSTART;TZID=America/New_York:20240219T100000
DTEND;TZID=America/New_York:20240219T120000
DTSTAMP:20260422T161918
CREATED:20231127T153729Z
LAST-MODIFIED:20231127T153729Z
UID:10001430-1708336800-1708344000@www.lifelonglearningcollaborative.org
SUMMARY:Open Studio Art
DESCRIPTION:
URL:https://www.lifelonglearningcollaborative.org/event/open-studio-art-10/2024-02-19/
LOCATION:ZOOM
CATEGORIES:Courses
END:VEVENT
BEGIN:VEVENT
DTSTART;TZID=America/New_York:20240220T080000
DTEND;TZID=America/New_York:20240220T170000
DTSTAMP:20260422T161918
CREATED:20231127T154706Z
LAST-MODIFIED:20231127T154706Z
UID:10001474-1708416000-1708448400@www.lifelonglearningcollaborative.org
SUMMARY:Scrabble
DESCRIPTION:
URL:https://www.lifelonglearningcollaborative.org/event/scrabble-9/2024-02-20/
LOCATION:Temple Beth-El\, 70 Orchard Avenue\, Providence\, RI\, United States
CATEGORIES:Courses
END:VEVENT
BEGIN:VEVENT
DTSTART;TZID=America/New_York:20240220T100000
DTEND;TZID=America/New_York:20240220T120000
DTSTAMP:20260422T161918
CREATED:20231127T154046Z
LAST-MODIFIED:20231127T154046Z
UID:10001442-1708423200-1708430400@www.lifelonglearningcollaborative.org
SUMMARY:Great Decisions
DESCRIPTION:
URL:https://www.lifelonglearningcollaborative.org/event/great-decisions-2-2/2024-02-20/
LOCATION:ZOOM
CATEGORIES:Courses
END:VEVENT
BEGIN:VEVENT
DTSTART;TZID=America/New_York:20240220T130000
DTEND;TZID=America/New_York:20240220T150000
DTSTAMP:20260422T161918
CREATED:20231127T154439Z
LAST-MODIFIED:20231127T154439Z
UID:10001458-1708434000-1708441200@www.lifelonglearningcollaborative.org
SUMMARY:Cell Phone Camera Club February
DESCRIPTION:
URL:https://www.lifelonglearningcollaborative.org/event/cell-phone-camera-club-february/2024-02-20/
LOCATION:Temple Beth-El\, 70 Orchard Avenue\, Providence\, RI\, United States
CATEGORIES:Courses
END:VEVENT
END:VCALENDAR