BEGIN:VCALENDAR
VERSION:2.0
PRODID:-//Lifelong Learning Collaborative - ECPv6.15.12.2//NONSGML v1.0//EN
CALSCALE:GREGORIAN
METHOD:PUBLISH
X-WR-CALNAME:Lifelong Learning Collaborative
X-ORIGINAL-URL:https://www.lifelonglearningcollaborative.org
X-WR-CALDESC:Events for Lifelong Learning Collaborative
REFRESH-INTERVAL;VALUE=DURATION:PT1H
X-Robots-Tag:noindex
X-PUBLISHED-TTL:PT1H
BEGIN:VTIMEZONE
TZID:America/New_York
BEGIN:DAYLIGHT
TZOFFSETFROM:-0500
TZOFFSETTO:-0400
TZNAME:EDT
DTSTART:20240310T070000
END:DAYLIGHT
BEGIN:STANDARD
TZOFFSETFROM:-0400
TZOFFSETTO:-0500
TZNAME:EST
DTSTART:20241103T060000
END:STANDARD
BEGIN:DAYLIGHT
TZOFFSETFROM:-0500
TZOFFSETTO:-0400
TZNAME:EDT
DTSTART:20250309T070000
END:DAYLIGHT
BEGIN:STANDARD
TZOFFSETFROM:-0400
TZOFFSETTO:-0500
TZNAME:EST
DTSTART:20251102T060000
END:STANDARD
BEGIN:DAYLIGHT
TZOFFSETFROM:-0500
TZOFFSETTO:-0400
TZNAME:EDT
DTSTART:20260308T070000
END:DAYLIGHT
BEGIN:STANDARD
TZOFFSETFROM:-0400
TZOFFSETTO:-0500
TZNAME:EST
DTSTART:20261101T060000
END:STANDARD
END:VTIMEZONE
BEGIN:VEVENT
DTSTART;TZID=America/New_York:20251027T130000
DTEND;TZID=America/New_York:20251027T150000
DTSTAMP:20260421T003952
CREATED:20250714T135535Z
LAST-MODIFIED:20250714T135535Z
UID:10003410-1761570000-1761577200@www.lifelonglearningcollaborative.org
SUMMARY:Hist Novel Book Club 25-26
DESCRIPTION:
URL:https://www.lifelonglearningcollaborative.org/event/hist-novel-book-club-25-26/2025-10-27/
LOCATION:ZOOM
CATEGORIES:Courses
END:VEVENT
BEGIN:VEVENT
DTSTART;TZID=America/New_York:20251027T100000
DTEND;TZID=America/New_York:20251027T120000
DTSTAMP:20260421T003952
CREATED:20250714T134514Z
LAST-MODIFIED:20250714T134514Z
UID:10003375-1761559200-1761566400@www.lifelonglearningcollaborative.org
SUMMARY:Open Studio Art (Zoom)
DESCRIPTION:
URL:https://www.lifelonglearningcollaborative.org/event/open-studio-art-zoom-2-4/2025-10-27/
LOCATION:ZOOM
CATEGORIES:Courses
END:VEVENT
BEGIN:VEVENT
DTSTART;TZID=America/New_York:20251027T100000
DTEND;TZID=America/New_York:20251027T120000
DTSTAMP:20260421T003952
CREATED:20250526T233807Z
LAST-MODIFIED:20251103T210152Z
UID:10003243-1761559200-1761566400@www.lifelonglearningcollaborative.org
SUMMARY:Current Events
DESCRIPTION:
URL:https://www.lifelonglearningcollaborative.org/event/current-events/2025-10-27/
LOCATION:ZOOM
CATEGORIES:Courses
END:VEVENT
BEGIN:VEVENT
DTSTART;TZID=America/New_York:20251024T100000
DTEND;TZID=America/New_York:20251024T230000
DTSTAMP:20260421T003952
CREATED:20250714T145833Z
LAST-MODIFIED:20251103T205822Z
UID:10003617-1761300000-1761346800@www.lifelonglearningcollaborative.org
SUMMARY:Get Fit
DESCRIPTION:
URL:https://www.lifelonglearningcollaborative.org/event/get-fit-2-2/2025-10-24/
LOCATION:ZOOM
CATEGORIES:Courses
END:VEVENT
BEGIN:VEVENT
DTSTART;TZID=America/New_York:20251024T100000
DTEND;TZID=America/New_York:20251024T120000
DTSTAMP:20260421T003952
CREATED:20250714T150033Z
LAST-MODIFIED:20250714T150033Z
UID:10003687-1761300000-1761307200@www.lifelonglearningcollaborative.org
SUMMARY:Anthropology/Movies
DESCRIPTION:
URL:https://www.lifelonglearningcollaborative.org/event/anthropology-movies/2025-10-24/
LOCATION:Shriners Center\, 1 Rhodes Place\, Cranston\, RI\, 02905\, United States
CATEGORIES:Courses
END:VEVENT
BEGIN:VEVENT
DTSTART;TZID=America/New_York:20251024T100000
DTEND;TZID=America/New_York:20251024T120000
DTSTAMP:20260421T003952
CREATED:20250714T145943Z
LAST-MODIFIED:20250714T145943Z
UID:10003676-1761300000-1761307200@www.lifelonglearningcollaborative.org
SUMMARY:1936 Olympics
DESCRIPTION:
URL:https://www.lifelonglearningcollaborative.org/event/1936-olympics/2025-10-24/
LOCATION:Shriners Center\, 1 Rhodes Place\, Cranston\, RI\, 02905\, United States
CATEGORIES:Courses
END:VEVENT
BEGIN:VEVENT
DTSTART;TZID=America/New_York:20251023T130000
DTEND;TZID=America/New_York:20251023T150000
DTSTAMP:20260421T003952
CREATED:20250714T145642Z
LAST-MODIFIED:20250714T145642Z
UID:10003600-1761224400-1761231600@www.lifelonglearningcollaborative.org
SUMMARY:Writing a Memoir (In-person)
DESCRIPTION:
URL:https://www.lifelonglearningcollaborative.org/event/writing-a-memoir-in-person/2025-10-23/
LOCATION:Shriners Center\, 1 Rhodes Place\, Cranston\, RI\, 02905\, United States
CATEGORIES:Courses
END:VEVENT
BEGIN:VEVENT
DTSTART;TZID=America/New_York:20251023T130000
DTEND;TZID=America/New_York:20251023T150000
DTSTAMP:20260421T003952
CREATED:20250714T145546Z
LAST-MODIFIED:20250714T145546Z
UID:10003590-1761224400-1761231600@www.lifelonglearningcollaborative.org
SUMMARY:Collage
DESCRIPTION:
URL:https://www.lifelonglearningcollaborative.org/event/collage/2025-10-23/
LOCATION:Shriners Center\, 1 Rhodes Place\, Cranston\, RI\, 02905\, United States
CATEGORIES:Courses
END:VEVENT
BEGIN:VEVENT
DTSTART;TZID=America/New_York:20251023T130000
DTEND;TZID=America/New_York:20251023T141500
DTSTAMP:20260421T003952
CREATED:20250714T145748Z
LAST-MODIFIED:20250714T145748Z
UID:10003610-1761224400-1761228900@www.lifelonglearningcollaborative.org
SUMMARY:Alexander Technique
DESCRIPTION:
URL:https://www.lifelonglearningcollaborative.org/event/alexander-technique-2-3/2025-10-23/
LOCATION:Shriners Center\, 1 Rhodes Place\, Cranston\, RI\, 02905\, United States
CATEGORIES:Courses
END:VEVENT
BEGIN:VEVENT
DTSTART;TZID=America/New_York:20251023T100000
DTEND;TZID=America/New_York:20251023T120000
DTSTAMP:20260421T003952
CREATED:20250714T145438Z
LAST-MODIFIED:20250714T145438Z
UID:10003578-1761213600-1761220800@www.lifelonglearningcollaborative.org
SUMMARY:Theater Conversations
DESCRIPTION:
URL:https://www.lifelonglearningcollaborative.org/event/theater-conversations-3-4/2025-10-23/
LOCATION:Shriners Center\, 1 Rhodes Place\, Cranston\, RI\, 02905\, United States
CATEGORIES:Courses
END:VEVENT
BEGIN:VEVENT
DTSTART;TZID=America/New_York:20251023T100000
DTEND;TZID=America/New_York:20251023T120000
DTSTAMP:20260421T003952
CREATED:20250714T145324Z
LAST-MODIFIED:20250714T145324Z
UID:10003570-1761213600-1761220800@www.lifelonglearningcollaborative.org
SUMMARY:You Should Hear This
DESCRIPTION:
URL:https://www.lifelonglearningcollaborative.org/event/you-should-hear-this/2025-10-23/
LOCATION:Shriners Center\, 1 Rhodes Place\, Cranston\, RI\, 02905\, United States
CATEGORIES:Courses
END:VEVENT
BEGIN:VEVENT
DTSTART;TZID=America/New_York:20251023T100000
DTEND;TZID=America/New_York:20251023T120000
DTSTAMP:20260421T003952
CREATED:20250714T145207Z
LAST-MODIFIED:20250714T145207Z
UID:10003560-1761213600-1761220800@www.lifelonglearningcollaborative.org
SUMMARY:End Time Corporations
DESCRIPTION:
URL:https://www.lifelonglearningcollaborative.org/event/end-time-corporations/2025-10-23/
LOCATION:Shriners Center\, 1 Rhodes Place\, Cranston\, RI\, 02905\, United States
CATEGORIES:Courses
END:VEVENT
BEGIN:VEVENT
DTSTART;TZID=America/New_York:20251022T130000
DTEND;TZID=America/New_York:20251022T150000
DTSTAMP:20260421T003952
CREATED:20250714T145106Z
LAST-MODIFIED:20250714T145106Z
UID:10003549-1761138000-1761145200@www.lifelonglearningcollaborative.org
SUMMARY:Luminous Things (Hybrid)
DESCRIPTION:
URL:https://www.lifelonglearningcollaborative.org/event/luminous-things-hybrid/2025-10-22/
LOCATION:Shriners Center\, 1 Rhodes Place\, Cranston\, RI\, 02905\, United States
CATEGORIES:Courses
END:VEVENT
BEGIN:VEVENT
DTSTART;TZID=America/New_York:20251022T130000
DTEND;TZID=America/New_York:20251022T150000
DTSTAMP:20260421T003952
CREATED:20250714T144934Z
LAST-MODIFIED:20250714T144934Z
UID:10003541-1761138000-1761145200@www.lifelonglearningcollaborative.org
SUMMARY:LLC Knits
DESCRIPTION:
URL:https://www.lifelonglearningcollaborative.org/event/llc-knits-3-6/2025-10-22/
LOCATION:Shriners Center\, 1 Rhodes Place\, Cranston\, RI\, 02905\, United States
CATEGORIES:Courses
END:VEVENT
BEGIN:VEVENT
DTSTART;TZID=America/New_York:20251022T130000
DTEND;TZID=America/New_York:20251022T150000
DTSTAMP:20260421T003952
CREATED:20250714T144838Z
LAST-MODIFIED:20250714T144838Z
UID:10003533-1761138000-1761145200@www.lifelonglearningcollaborative.org
SUMMARY:Jazz Dance
DESCRIPTION:
URL:https://www.lifelonglearningcollaborative.org/event/jazz-dance-2-2/2025-10-22/
LOCATION:Shriners Center\, 1 Rhodes Place\, Cranston\, RI\, 02905\, United States
CATEGORIES:Courses
END:VEVENT
BEGIN:VEVENT
DTSTART;TZID=America/New_York:20251022T130000
DTEND;TZID=America/New_York:20251022T150000
DTSTAMP:20260421T003952
CREATED:20250714T144722Z
LAST-MODIFIED:20250714T144722Z
UID:10003522-1761138000-1761145200@www.lifelonglearningcollaborative.org
SUMMARY:Hot Topics
DESCRIPTION:
URL:https://www.lifelonglearningcollaborative.org/event/hot-topics-3-8/2025-10-22/
LOCATION:ZOOM
CATEGORIES:Courses
END:VEVENT
BEGIN:VEVENT
DTSTART;TZID=America/New_York:20251022T100000
DTEND;TZID=America/New_York:20251022T120000
DTSTAMP:20260421T003952
CREATED:20250714T144630Z
LAST-MODIFIED:20250714T144630Z
UID:10003513-1761127200-1761134400@www.lifelonglearningcollaborative.org
SUMMARY:Ibsen Plays
DESCRIPTION:
URL:https://www.lifelonglearningcollaborative.org/event/ibsen-plays/2025-10-22/
LOCATION:Shriners Center\, 1 Rhodes Place\, Cranston\, RI\, 02905\, United States
CATEGORIES:Courses
END:VEVENT
BEGIN:VEVENT
DTSTART;TZID=America/New_York:20251021T130000
DTEND;TZID=America/New_York:20251021T150000
DTSTAMP:20260421T003952
CREATED:20250714T144217Z
LAST-MODIFIED:20250714T144217Z
UID:10003484-1761051600-1761058800@www.lifelonglearningcollaborative.org
SUMMARY:Cell Phone Photo
DESCRIPTION:
URL:https://www.lifelonglearningcollaborative.org/event/cell-phone-photo-3-3/2025-10-21/
LOCATION:Shriners Center\, 1 Rhodes Place\, Cranston\, RI\, 02905\, United States
CATEGORIES:Courses
END:VEVENT
BEGIN:VEVENT
DTSTART;TZID=America/New_York:20251021T130000
DTEND;TZID=America/New_York:20251021T150000
DTSTAMP:20260421T003952
CREATED:20250714T143952Z
LAST-MODIFIED:20250714T143952Z
UID:10003474-1761051600-1761058800@www.lifelonglearningcollaborative.org
SUMMARY:Burning World
DESCRIPTION:
URL:https://www.lifelonglearningcollaborative.org/event/burning-world/2025-10-21/
LOCATION:Shriners Center\, 1 Rhodes Place\, Cranston\, RI\, 02905\, United States
CATEGORIES:Courses
END:VEVENT
BEGIN:VEVENT
DTSTART;TZID=America/New_York:20251021T100000
DTEND;TZID=America/New_York:20251021T123000
DTSTAMP:20260421T003952
CREATED:20250714T143654Z
LAST-MODIFIED:20250714T143654Z
UID:10003459-1761040800-1761049800@www.lifelonglearningcollaborative.org
SUMMARY:Scrabble
DESCRIPTION:
URL:https://www.lifelonglearningcollaborative.org/event/scrabble-21/2025-10-21/
LOCATION:Shriners Center\, 1 Rhodes Place\, Cranston\, RI\, 02905\, United States
CATEGORIES:Courses
END:VEVENT
BEGIN:VEVENT
DTSTART;TZID=America/New_York:20251021T100000
DTEND;TZID=America/New_York:20251021T123000
DTSTAMP:20260421T003952
CREATED:20250714T143422Z
LAST-MODIFIED:20250714T143422Z
UID:10003449-1761040800-1761049800@www.lifelonglearningcollaborative.org
SUMMARY:Open Studio Art (In-person)
DESCRIPTION:
URL:https://www.lifelonglearningcollaborative.org/event/open-studio-art-in-person/2025-10-21/
LOCATION:Shriners Center\, 1 Rhodes Place\, Cranston\, RI\, 02905\, United States
CATEGORIES:Courses
END:VEVENT
BEGIN:VEVENT
DTSTART;TZID=America/New_York:20251021T100000
DTEND;TZID=America/New_York:20251021T120000
DTSTAMP:20260421T003952
CREATED:20250714T143319Z
LAST-MODIFIED:20250714T143319Z
UID:10003441-1761040800-1761048000@www.lifelonglearningcollaborative.org
SUMMARY:Writing a Memoir (Zoom)
DESCRIPTION:
URL:https://www.lifelonglearningcollaborative.org/event/writing-a-memoir-zoom-2-2/2025-10-21/
LOCATION:ZOOM
CATEGORIES:Courses
END:VEVENT
BEGIN:VEVENT
DTSTART;TZID=America/New_York:20251021T100000
DTEND;TZID=America/New_York:20251021T120000
DTSTAMP:20260421T003952
CREATED:20250714T143035Z
LAST-MODIFIED:20250714T143035Z
UID:10003433-1761040800-1761048000@www.lifelonglearningcollaborative.org
SUMMARY:Short Stories Desai & Eisenberg
DESCRIPTION:
URL:https://www.lifelonglearningcollaborative.org/event/short-stories-desai-eisenberg/2025-10-21/
LOCATION:Shriners Center\, 1 Rhodes Place\, Cranston\, RI\, 02905\, United States
CATEGORIES:Courses
END:VEVENT
BEGIN:VEVENT
DTSTART;TZID=America/New_York:20251020T100000
DTEND;TZID=America/New_York:20251020T120000
DTSTAMP:20260421T003952
CREATED:20250714T134514Z
LAST-MODIFIED:20250714T134514Z
UID:10003374-1760954400-1760961600@www.lifelonglearningcollaborative.org
SUMMARY:Open Studio Art (Zoom)
DESCRIPTION:
URL:https://www.lifelonglearningcollaborative.org/event/open-studio-art-zoom-2-4/2025-10-20/
LOCATION:ZOOM
CATEGORIES:Courses
END:VEVENT
BEGIN:VEVENT
DTSTART;TZID=America/New_York:20251020T100000
DTEND;TZID=America/New_York:20251020T120000
DTSTAMP:20260421T003952
CREATED:20250526T233807Z
LAST-MODIFIED:20251103T210152Z
UID:10003242-1760954400-1760961600@www.lifelonglearningcollaborative.org
SUMMARY:Current Events
DESCRIPTION:
URL:https://www.lifelonglearningcollaborative.org/event/current-events/2025-10-20/
LOCATION:ZOOM
CATEGORIES:Courses
END:VEVENT
BEGIN:VEVENT
DTSTART;TZID=America/New_York:20251017T100000
DTEND;TZID=America/New_York:20251017T230000
DTSTAMP:20260421T003952
CREATED:20250714T145833Z
LAST-MODIFIED:20251103T205822Z
UID:10003616-1760695200-1760742000@www.lifelonglearningcollaborative.org
SUMMARY:Get Fit
DESCRIPTION:
URL:https://www.lifelonglearningcollaborative.org/event/get-fit-2-2/2025-10-17/
LOCATION:ZOOM
CATEGORIES:Courses
END:VEVENT
BEGIN:VEVENT
DTSTART;TZID=America/New_York:20251017T100000
DTEND;TZID=America/New_York:20251017T120000
DTSTAMP:20260421T003952
CREATED:20250714T150033Z
LAST-MODIFIED:20250714T150033Z
UID:10003686-1760695200-1760702400@www.lifelonglearningcollaborative.org
SUMMARY:Anthropology/Movies
DESCRIPTION:
URL:https://www.lifelonglearningcollaborative.org/event/anthropology-movies/2025-10-17/
LOCATION:Shriners Center\, 1 Rhodes Place\, Cranston\, RI\, 02905\, United States
CATEGORIES:Courses
END:VEVENT
BEGIN:VEVENT
DTSTART;TZID=America/New_York:20251017T100000
DTEND;TZID=America/New_York:20251017T120000
DTSTAMP:20260421T003952
CREATED:20250714T145943Z
LAST-MODIFIED:20250714T145943Z
UID:10003675-1760695200-1760702400@www.lifelonglearningcollaborative.org
SUMMARY:1936 Olympics
DESCRIPTION:
URL:https://www.lifelonglearningcollaborative.org/event/1936-olympics/2025-10-17/
LOCATION:Shriners Center\, 1 Rhodes Place\, Cranston\, RI\, 02905\, United States
CATEGORIES:Courses
END:VEVENT
BEGIN:VEVENT
DTSTART;TZID=America/New_York:20251016T130000
DTEND;TZID=America/New_York:20251016T150000
DTSTAMP:20260421T003952
CREATED:20250714T145642Z
LAST-MODIFIED:20250714T145642Z
UID:10003599-1760619600-1760626800@www.lifelonglearningcollaborative.org
SUMMARY:Writing a Memoir (In-person)
DESCRIPTION:
URL:https://www.lifelonglearningcollaborative.org/event/writing-a-memoir-in-person/2025-10-16/
LOCATION:Shriners Center\, 1 Rhodes Place\, Cranston\, RI\, 02905\, United States
CATEGORIES:Courses
END:VEVENT
BEGIN:VEVENT
DTSTART;TZID=America/New_York:20251016T130000
DTEND;TZID=America/New_York:20251016T150000
DTSTAMP:20260421T003952
CREATED:20250714T145546Z
LAST-MODIFIED:20250714T145546Z
UID:10003589-1760619600-1760626800@www.lifelonglearningcollaborative.org
SUMMARY:Collage
DESCRIPTION:
URL:https://www.lifelonglearningcollaborative.org/event/collage/2025-10-16/
LOCATION:Shriners Center\, 1 Rhodes Place\, Cranston\, RI\, 02905\, United States
CATEGORIES:Courses
END:VEVENT
END:VCALENDAR