BEGIN:VCALENDAR
VERSION:2.0
PRODID:-//Lifelong Learning Collaborative - ECPv6.15.12.2//NONSGML v1.0//EN
CALSCALE:GREGORIAN
METHOD:PUBLISH
X-WR-CALNAME:Lifelong Learning Collaborative
X-ORIGINAL-URL:https://www.lifelonglearningcollaborative.org
X-WR-CALDESC:Events for Lifelong Learning Collaborative
REFRESH-INTERVAL;VALUE=DURATION:PT1H
X-Robots-Tag:noindex
X-PUBLISHED-TTL:PT1H
BEGIN:VTIMEZONE
TZID:America/New_York
BEGIN:DAYLIGHT
TZOFFSETFROM:-0500
TZOFFSETTO:-0400
TZNAME:EDT
DTSTART:20220313T070000
END:DAYLIGHT
BEGIN:STANDARD
TZOFFSETFROM:-0400
TZOFFSETTO:-0500
TZNAME:EST
DTSTART:20221106T060000
END:STANDARD
BEGIN:DAYLIGHT
TZOFFSETFROM:-0500
TZOFFSETTO:-0400
TZNAME:EDT
DTSTART:20230312T070000
END:DAYLIGHT
BEGIN:STANDARD
TZOFFSETFROM:-0400
TZOFFSETTO:-0500
TZNAME:EST
DTSTART:20231105T060000
END:STANDARD
BEGIN:DAYLIGHT
TZOFFSETFROM:-0500
TZOFFSETTO:-0400
TZNAME:EDT
DTSTART:20240310T070000
END:DAYLIGHT
BEGIN:STANDARD
TZOFFSETFROM:-0400
TZOFFSETTO:-0500
TZNAME:EST
DTSTART:20241103T060000
END:STANDARD
END:VTIMEZONE
BEGIN:VEVENT
DTSTART;TZID=America/New_York:20231027T100000
DTEND;TZID=America/New_York:20231027T110000
DTSTAMP:20260422T180703
CREATED:20230717T134610Z
LAST-MODIFIED:20230717T134610Z
UID:10001382-1698400800-1698404400@www.lifelonglearningcollaborative.org
SUMMARY:Get Fit at Home
DESCRIPTION:
URL:https://www.lifelonglearningcollaborative.org/event/get-fit-at-home-3-3/2023-10-27/
LOCATION:ZOOM
CATEGORIES:Courses
END:VEVENT
BEGIN:VEVENT
DTSTART;TZID=America/New_York:20231026T130000
DTEND;TZID=America/New_York:20231026T150000
DTSTAMP:20260422T180703
CREATED:20230717T134155Z
LAST-MODIFIED:20230717T134155Z
UID:10001273-1698325200-1698332400@www.lifelonglearningcollaborative.org
SUMMARY:Photo Journey II
DESCRIPTION:ZOOM and Temple Beth-El
URL:https://www.lifelonglearningcollaborative.org/event/photo-journey-ii/2023-10-26/
LOCATION:Temple Beth-El\, 70 Orchard Avenue\, Providence\, RI\, United States
CATEGORIES:Courses
END:VEVENT
BEGIN:VEVENT
DTSTART;TZID=America/New_York:20231026T130000
DTEND;TZID=America/New_York:20231026T150000
DTSTAMP:20260422T180703
CREATED:20230717T134009Z
LAST-MODIFIED:20230717T134009Z
UID:10001254-1698325200-1698332400@www.lifelonglearningcollaborative.org
SUMMARY:Paintings/Paris Cafes
DESCRIPTION:
URL:https://www.lifelonglearningcollaborative.org/event/paintings-paris-cafes/2023-10-26/
LOCATION:Temple Beth-El\, 70 Orchard Avenue\, Providence\, RI\, United States
CATEGORIES:Courses
END:VEVENT
BEGIN:VEVENT
DTSTART;TZID=America/New_York:20231026T130000
DTEND;TZID=America/New_York:20231026T150000
DTSTAMP:20260422T180703
CREATED:20230717T133858Z
LAST-MODIFIED:20230717T133858Z
UID:10001244-1698325200-1698332400@www.lifelonglearningcollaborative.org
SUMMARY:Memoir
DESCRIPTION:
URL:https://www.lifelonglearningcollaborative.org/event/memoir/2023-10-26/
LOCATION:Temple Beth-El\, 70 Orchard Avenue\, Providence\, RI\, United States
CATEGORIES:Courses
END:VEVENT
BEGIN:VEVENT
DTSTART;TZID=America/New_York:20231026T130000
DTEND;TZID=America/New_York:20231026T150000
DTSTAMP:20260422T180703
CREATED:20230717T133447Z
LAST-MODIFIED:20230717T221908Z
UID:10001406-1698325200-1698332400@www.lifelonglearningcollaborative.org
SUMMARY:Your Hometown
DESCRIPTION:
URL:https://www.lifelonglearningcollaborative.org/event/your-hometown/2023-10-26/
LOCATION:Temple Beth-El\, 70 Orchard Avenue\, Providence\, RI\, United States
CATEGORIES:Courses
END:VEVENT
BEGIN:VEVENT
DTSTART;TZID=America/New_York:20231026T100000
DTEND;TZID=America/New_York:20231026T120000
DTSTAMP:20260422T180703
CREATED:20230717T133808Z
LAST-MODIFIED:20230717T133808Z
UID:10001227-1698314400-1698321600@www.lifelonglearningcollaborative.org
SUMMARY:Theater Conversations
DESCRIPTION:
URL:https://www.lifelonglearningcollaborative.org/event/theater-conversations/2023-10-26/
LOCATION:Temple Beth-El\, 70 Orchard Avenue\, Providence\, RI\, United States
CATEGORIES:Courses
END:VEVENT
BEGIN:VEVENT
DTSTART;TZID=America/New_York:20231025T130000
DTEND;TZID=America/New_York:20231025T150000
DTSTAMP:20260422T180703
CREATED:20230717T133327Z
LAST-MODIFIED:20230717T133327Z
UID:10001170-1698238800-1698246000@www.lifelonglearningcollaborative.org
SUMMARY:LLC Knits
DESCRIPTION:
URL:https://www.lifelonglearningcollaborative.org/event/llc-knits-3-2/2023-10-25/
LOCATION:Temple Beth-El\, 70 Orchard Avenue\, Providence\, RI\, United States
CATEGORIES:Courses
END:VEVENT
BEGIN:VEVENT
DTSTART;TZID=America/New_York:20231025T130000
DTEND;TZID=America/New_York:20231025T150000
DTSTAMP:20260422T180703
CREATED:20230717T133214Z
LAST-MODIFIED:20230717T133247Z
UID:10001160-1698238800-1698246000@www.lifelonglearningcollaborative.org
SUMMARY:Hot Topics
DESCRIPTION:
URL:https://www.lifelonglearningcollaborative.org/event/hot-topics-3-2/2023-10-25/
LOCATION:ZOOM
CATEGORIES:Courses
END:VEVENT
BEGIN:VEVENT
DTSTART;TZID=America/New_York:20231025T100000
DTEND;TZID=America/New_York:20231025T120000
DTSTAMP:20260422T180703
CREATED:20230717T133007Z
LAST-MODIFIED:20230717T133007Z
UID:10001132-1698228000-1698235200@www.lifelonglearningcollaborative.org
SUMMARY:Gender/Power Plays
DESCRIPTION:
URL:https://www.lifelonglearningcollaborative.org/event/gender-power-plays/2023-10-25/
LOCATION:Temple Beth-El\, 70 Orchard Avenue\, Providence\, RI\, United States
CATEGORIES:Courses
END:VEVENT
BEGIN:VEVENT
DTSTART;TZID=America/New_York:20231025T100000
DTEND;TZID=America/New_York:20231025T120000
DTSTAMP:20260422T180703
CREATED:20230717T132907Z
LAST-MODIFIED:20230717T132912Z
UID:10001124-1698228000-1698235200@www.lifelonglearningcollaborative.org
SUMMARY:US Supreme Court Decisions
DESCRIPTION:
URL:https://www.lifelonglearningcollaborative.org/event/us-supreme-court-decisions/2023-10-25/
LOCATION:ZOOM
CATEGORIES:Courses
END:VEVENT
BEGIN:VEVENT
DTSTART;TZID=America/New_York:20231024T151500
DTEND;TZID=America/New_York:20231024T171500
DTSTAMP:20260422T180703
CREATED:20230717T132527Z
LAST-MODIFIED:20230717T132550Z
UID:10001105-1698160500-1698167700@www.lifelonglearningcollaborative.org
SUMMARY:Scrabble
DESCRIPTION:
URL:https://www.lifelonglearningcollaborative.org/event/scrabble-7/2023-10-24/
LOCATION:Temple Beth-El\, 70 Orchard Avenue\, Providence\, RI\, United States
CATEGORIES:Courses
END:VEVENT
BEGIN:VEVENT
DTSTART;TZID=America/New_York:20231024T130000
DTEND;TZID=America/New_York:20231024T150000
DTSTAMP:20260422T180703
CREATED:20230717T132330Z
LAST-MODIFIED:20230717T132330Z
UID:10001074-1698152400-1698159600@www.lifelonglearningcollaborative.org
SUMMARY:Cell Phone Photo Club
DESCRIPTION:
URL:https://www.lifelonglearningcollaborative.org/event/cell-phone-photo-club-2-2/2023-10-24/
LOCATION:Temple Beth-El\, 70 Orchard Avenue\, Providence\, RI\, United States
CATEGORIES:Courses
END:VEVENT
BEGIN:VEVENT
DTSTART;TZID=America/New_York:20231024T130000
DTEND;TZID=America/New_York:20231024T150000
DTSTAMP:20260422T180703
CREATED:20230717T131842Z
LAST-MODIFIED:20230717T132013Z
UID:10001054-1698152400-1698159600@www.lifelonglearningcollaborative.org
SUMMARY:Classical Music 20th C.
DESCRIPTION:
URL:https://www.lifelonglearningcollaborative.org/event/classical-music-20th-c/2023-10-24/
LOCATION:Temple Beth-El\, 70 Orchard Avenue\, Providence\, RI\, United States
CATEGORIES:Courses
END:VEVENT
BEGIN:VEVENT
DTSTART;TZID=America/New_York:20231024T100000
DTEND;TZID=America/New_York:20231024T120000
DTSTAMP:20260422T180703
CREATED:20230717T131734Z
LAST-MODIFIED:20230717T132146Z
UID:10001034-1698141600-1698148800@www.lifelonglearningcollaborative.org
SUMMARY:Düsseldorf
DESCRIPTION:
URL:https://www.lifelonglearningcollaborative.org/event/dusseldorf/2023-10-24/
LOCATION:Temple Beth-El\, 70 Orchard Avenue\, Providence\, RI\, United States
CATEGORIES:Courses
END:VEVENT
BEGIN:VEVENT
DTSTART;TZID=America/New_York:20231024T100000
DTEND;TZID=America/New_York:20231024T120000
DTSTAMP:20260422T180703
CREATED:20230717T131409Z
LAST-MODIFIED:20230717T131409Z
UID:10000953-1698141600-1698148800@www.lifelonglearningcollaborative.org
SUMMARY:Luminous Things: Big Six
DESCRIPTION:Hybrid: Temple Beth-El and Zoom
URL:https://www.lifelonglearningcollaborative.org/event/luminous-things-big-six/2023-10-24/
LOCATION:Temple Beth-El\, 70 Orchard Avenue\, Providence\, RI\, United States
CATEGORIES:Courses
END:VEVENT
BEGIN:VEVENT
DTSTART;TZID=America/New_York:20231023T130000
DTEND;TZID=America/New_York:20231023T150000
DTSTAMP:20260422T180703
CREATED:20230717T131124Z
LAST-MODIFIED:20230717T133550Z
UID:10001197-1698066000-1698073200@www.lifelonglearningcollaborative.org
SUMMARY:Women Leaders
DESCRIPTION:
URL:https://www.lifelonglearningcollaborative.org/event/women-leaders/2023-10-23/
LOCATION:ZOOM
CATEGORIES:Courses
END:VEVENT
BEGIN:VEVENT
DTSTART;TZID=America/New_York:20231023T130000
DTEND;TZID=America/New_York:20231023T150000
DTSTAMP:20260422T180703
CREATED:20230717T130815Z
LAST-MODIFIED:20240715T142005Z
UID:10000853-1698066000-1698073200@www.lifelonglearningcollaborative.org
SUMMARY:Book Club
DESCRIPTION:
URL:https://www.lifelonglearningcollaborative.org/event/book-club/2023-10-23/
LOCATION:ZOOM
CATEGORIES:Courses
END:VEVENT
BEGIN:VEVENT
DTSTART;TZID=America/New_York:20231023T100000
DTEND;TZID=America/New_York:20231023T120000
DTSTAMP:20260422T180703
CREATED:20230717T130612Z
LAST-MODIFIED:20230717T132051Z
UID:10000794-1698055200-1698062400@www.lifelonglearningcollaborative.org
SUMMARY:An Immense World
DESCRIPTION:
URL:https://www.lifelonglearningcollaborative.org/event/an-immense-world/2023-10-23/
LOCATION:ZOOM
CATEGORIES:Courses
END:VEVENT
BEGIN:VEVENT
DTSTART;TZID=America/New_York:20231023T100000
DTEND;TZID=America/New_York:20231023T120000
DTSTAMP:20260422T180703
CREATED:20230717T130443Z
LAST-MODIFIED:20230717T132232Z
UID:10000732-1698055200-1698062400@www.lifelonglearningcollaborative.org
SUMMARY:Great Depression
DESCRIPTION:
URL:https://www.lifelonglearningcollaborative.org/event/great-depression/2023-10-23/
LOCATION:ZOOM
CATEGORIES:Courses
END:VEVENT
BEGIN:VEVENT
DTSTART;TZID=America/New_York:20231023T100000
DTEND;TZID=America/New_York:20231023T120000
DTSTAMP:20260422T180703
CREATED:20230717T130343Z
LAST-MODIFIED:20230717T130343Z
UID:10000670-1698055200-1698062400@www.lifelonglearningcollaborative.org
SUMMARY:Open Studio Art
DESCRIPTION:
URL:https://www.lifelonglearningcollaborative.org/event/open-studio-art-8/2023-10-23/
LOCATION:ZOOM
CATEGORIES:Courses
END:VEVENT
BEGIN:VEVENT
DTSTART;TZID=America/New_York:20231020T100000
DTEND;TZID=America/New_York:20231020T120000
DTSTAMP:20260422T180703
CREATED:20230717T134450Z
LAST-MODIFIED:20230717T134450Z
UID:10001310-1697796000-1697803200@www.lifelonglearningcollaborative.org
SUMMARY:Lives of Objects
DESCRIPTION:
URL:https://www.lifelonglearningcollaborative.org/event/lives-of-objects/2023-10-20/
LOCATION:Temple Beth-El\, 70 Orchard Avenue\, Providence\, RI\, United States
CATEGORIES:Courses
END:VEVENT
BEGIN:VEVENT
DTSTART;TZID=America/New_York:20231020T100000
DTEND;TZID=America/New_York:20231020T110000
DTSTAMP:20260422T180703
CREATED:20230717T134610Z
LAST-MODIFIED:20230717T134610Z
UID:10001381-1697796000-1697799600@www.lifelonglearningcollaborative.org
SUMMARY:Get Fit at Home
DESCRIPTION:
URL:https://www.lifelonglearningcollaborative.org/event/get-fit-at-home-3-3/2023-10-20/
LOCATION:ZOOM
CATEGORIES:Courses
END:VEVENT
BEGIN:VEVENT
DTSTART;TZID=America/New_York:20231019T130000
DTEND;TZID=America/New_York:20231019T150000
DTSTAMP:20260422T180703
CREATED:20230717T134155Z
LAST-MODIFIED:20230717T134155Z
UID:10001272-1697720400-1697727600@www.lifelonglearningcollaborative.org
SUMMARY:Photo Journey II
DESCRIPTION:ZOOM and Temple Beth-El
URL:https://www.lifelonglearningcollaborative.org/event/photo-journey-ii/2023-10-19/
LOCATION:Temple Beth-El\, 70 Orchard Avenue\, Providence\, RI\, United States
CATEGORIES:Courses
END:VEVENT
BEGIN:VEVENT
DTSTART;TZID=America/New_York:20231019T130000
DTEND;TZID=America/New_York:20231019T150000
DTSTAMP:20260422T180703
CREATED:20230717T134009Z
LAST-MODIFIED:20230717T134009Z
UID:10001253-1697720400-1697727600@www.lifelonglearningcollaborative.org
SUMMARY:Paintings/Paris Cafes
DESCRIPTION:
URL:https://www.lifelonglearningcollaborative.org/event/paintings-paris-cafes/2023-10-19/
LOCATION:Temple Beth-El\, 70 Orchard Avenue\, Providence\, RI\, United States
CATEGORIES:Courses
END:VEVENT
BEGIN:VEVENT
DTSTART;TZID=America/New_York:20231019T130000
DTEND;TZID=America/New_York:20231019T150000
DTSTAMP:20260422T180703
CREATED:20230717T133858Z
LAST-MODIFIED:20230717T133858Z
UID:10001243-1697720400-1697727600@www.lifelonglearningcollaborative.org
SUMMARY:Memoir
DESCRIPTION:
URL:https://www.lifelonglearningcollaborative.org/event/memoir/2023-10-19/
LOCATION:Temple Beth-El\, 70 Orchard Avenue\, Providence\, RI\, United States
CATEGORIES:Courses
END:VEVENT
BEGIN:VEVENT
DTSTART;TZID=America/New_York:20231019T130000
DTEND;TZID=America/New_York:20231019T150000
DTSTAMP:20260422T180703
CREATED:20230717T133447Z
LAST-MODIFIED:20230717T221908Z
UID:10001405-1697720400-1697727600@www.lifelonglearningcollaborative.org
SUMMARY:Your Hometown
DESCRIPTION:
URL:https://www.lifelonglearningcollaborative.org/event/your-hometown/2023-10-19/
LOCATION:Temple Beth-El\, 70 Orchard Avenue\, Providence\, RI\, United States
CATEGORIES:Courses
END:VEVENT
BEGIN:VEVENT
DTSTART;TZID=America/New_York:20231019T100000
DTEND;TZID=America/New_York:20231019T120000
DTSTAMP:20260422T180703
CREATED:20230717T133808Z
LAST-MODIFIED:20230717T133808Z
UID:10001226-1697709600-1697716800@www.lifelonglearningcollaborative.org
SUMMARY:Theater Conversations
DESCRIPTION:
URL:https://www.lifelonglearningcollaborative.org/event/theater-conversations/2023-10-19/
LOCATION:Temple Beth-El\, 70 Orchard Avenue\, Providence\, RI\, United States
CATEGORIES:Courses
END:VEVENT
BEGIN:VEVENT
DTSTART;TZID=America/New_York:20231018T130000
DTEND;TZID=America/New_York:20231018T150000
DTSTAMP:20260422T180703
CREATED:20230717T133327Z
LAST-MODIFIED:20230717T133327Z
UID:10001169-1697634000-1697641200@www.lifelonglearningcollaborative.org
SUMMARY:LLC Knits
DESCRIPTION:
URL:https://www.lifelonglearningcollaborative.org/event/llc-knits-3-2/2023-10-18/
LOCATION:Temple Beth-El\, 70 Orchard Avenue\, Providence\, RI\, United States
CATEGORIES:Courses
END:VEVENT
BEGIN:VEVENT
DTSTART;TZID=America/New_York:20231018T130000
DTEND;TZID=America/New_York:20231018T150000
DTSTAMP:20260422T180703
CREATED:20230717T133214Z
LAST-MODIFIED:20230717T133247Z
UID:10001159-1697634000-1697641200@www.lifelonglearningcollaborative.org
SUMMARY:Hot Topics
DESCRIPTION:
URL:https://www.lifelonglearningcollaborative.org/event/hot-topics-3-2/2023-10-18/
LOCATION:ZOOM
CATEGORIES:Courses
END:VEVENT
BEGIN:VEVENT
DTSTART;TZID=America/New_York:20231018T100000
DTEND;TZID=America/New_York:20231018T120000
DTSTAMP:20260422T180704
CREATED:20230717T133007Z
LAST-MODIFIED:20230717T133007Z
UID:10001131-1697623200-1697630400@www.lifelonglearningcollaborative.org
SUMMARY:Gender/Power Plays
DESCRIPTION:
URL:https://www.lifelonglearningcollaborative.org/event/gender-power-plays/2023-10-18/
LOCATION:Temple Beth-El\, 70 Orchard Avenue\, Providence\, RI\, United States
CATEGORIES:Courses
END:VEVENT
END:VCALENDAR