BEGIN:VCALENDAR
VERSION:2.0
PRODID:-//Lifelong Learning Collaborative - ECPv6.15.12.2//NONSGML v1.0//EN
CALSCALE:GREGORIAN
METHOD:PUBLISH
X-WR-CALNAME:Lifelong Learning Collaborative
X-ORIGINAL-URL:https://www.lifelonglearningcollaborative.org
X-WR-CALDESC:Events for Lifelong Learning Collaborative
REFRESH-INTERVAL;VALUE=DURATION:PT1H
X-Robots-Tag:noindex
X-PUBLISHED-TTL:PT1H
BEGIN:VTIMEZONE
TZID:America/New_York
BEGIN:DAYLIGHT
TZOFFSETFROM:-0500
TZOFFSETTO:-0400
TZNAME:EDT
DTSTART:20220313T070000
END:DAYLIGHT
BEGIN:STANDARD
TZOFFSETFROM:-0400
TZOFFSETTO:-0500
TZNAME:EST
DTSTART:20221106T060000
END:STANDARD
BEGIN:DAYLIGHT
TZOFFSETFROM:-0500
TZOFFSETTO:-0400
TZNAME:EDT
DTSTART:20230312T070000
END:DAYLIGHT
BEGIN:STANDARD
TZOFFSETFROM:-0400
TZOFFSETTO:-0500
TZNAME:EST
DTSTART:20231105T060000
END:STANDARD
BEGIN:DAYLIGHT
TZOFFSETFROM:-0500
TZOFFSETTO:-0400
TZNAME:EDT
DTSTART:20240310T070000
END:DAYLIGHT
BEGIN:STANDARD
TZOFFSETFROM:-0400
TZOFFSETTO:-0500
TZNAME:EST
DTSTART:20241103T060000
END:STANDARD
BEGIN:DAYLIGHT
TZOFFSETFROM:-0500
TZOFFSETTO:-0400
TZNAME:EDT
DTSTART:20250309T070000
END:DAYLIGHT
BEGIN:STANDARD
TZOFFSETFROM:-0400
TZOFFSETTO:-0500
TZNAME:EST
DTSTART:20251102T060000
END:STANDARD
END:VTIMEZONE
BEGIN:VEVENT
DTSTART;TZID=America/New_York:20240109T153000
DTEND;TZID=America/New_York:20240109T163000
DTSTAMP:20260422T180659
CREATED:20231106T123004Z
LAST-MODIFIED:20231106T123005Z
UID:10001420-1704814200-1704817800@www.lifelonglearningcollaborative.org
SUMMARY:Board Meeting
DESCRIPTION:Board Meetings are usually held the second Tuesday of the month. Board Members receive their Zoom link via email.
URL:https://www.lifelonglearningcollaborative.org/event/board-meeting-2-2/2024-01-09/
LOCATION:ZOOM
CATEGORIES:Board Meetings
END:VEVENT
BEGIN:VEVENT
DTSTART;TZID=America/New_York:20240109T130000
DTEND;TZID=America/New_York:20240109T150000
DTSTAMP:20260422T180659
CREATED:20231127T154309Z
LAST-MODIFIED:20231127T154309Z
UID:10001452-1704805200-1704812400@www.lifelonglearningcollaborative.org
SUMMARY:Cell Phone Camera Club January
DESCRIPTION:
URL:https://www.lifelonglearningcollaborative.org/event/cell-phone-camera-club-january/2024-01-09/
LOCATION:Temple Beth-El\, 70 Orchard Avenue\, Providence\, RI\, United States
CATEGORIES:Courses
END:VEVENT
BEGIN:VEVENT
DTSTART;TZID=America/New_York:20240109T100000
DTEND;TZID=America/New_York:20240109T120000
DTSTAMP:20260422T180659
CREATED:20231127T154046Z
LAST-MODIFIED:20231127T154046Z
UID:10001436-1704794400-1704801600@www.lifelonglearningcollaborative.org
SUMMARY:Great Decisions
DESCRIPTION:
URL:https://www.lifelonglearningcollaborative.org/event/great-decisions-2-2/2024-01-09/
LOCATION:ZOOM
CATEGORIES:Courses
END:VEVENT
BEGIN:VEVENT
DTSTART;TZID=America/New_York:20240109T100000
DTEND;TZID=America/New_York:20240109T120000
DTSTAMP:20260422T180659
CREATED:20231127T153923Z
LAST-MODIFIED:20231127T153923Z
UID:10001432-1704794400-1704801600@www.lifelonglearningcollaborative.org
SUMMARY:Armchair Travelers
DESCRIPTION:
URL:https://www.lifelonglearningcollaborative.org/event/armchair-travelers/2024-01-09/
LOCATION:Temple Beth-El\, 70 Orchard Avenue\, Providence\, RI\, United States
CATEGORIES:Courses
END:VEVENT
BEGIN:VEVENT
DTSTART;TZID=America/New_York:20240109T080000
DTEND;TZID=America/New_York:20240109T170000
DTSTAMP:20260422T180659
CREATED:20231127T154706Z
LAST-MODIFIED:20231127T154706Z
UID:10001468-1704787200-1704819600@www.lifelonglearningcollaborative.org
SUMMARY:Scrabble
DESCRIPTION:
URL:https://www.lifelonglearningcollaborative.org/event/scrabble-9/2024-01-09/
LOCATION:Temple Beth-El\, 70 Orchard Avenue\, Providence\, RI\, United States
CATEGORIES:Courses
END:VEVENT
BEGIN:VEVENT
DTSTART;TZID=America/New_York:20240108T100000
DTEND;TZID=America/New_York:20240108T120000
DTSTAMP:20260422T180659
CREATED:20231127T153729Z
LAST-MODIFIED:20231127T153729Z
UID:10001424-1704708000-1704715200@www.lifelonglearningcollaborative.org
SUMMARY:Open Studio Art
DESCRIPTION:
URL:https://www.lifelonglearningcollaborative.org/event/open-studio-art-10/2024-01-08/
LOCATION:ZOOM
CATEGORIES:Courses
END:VEVENT
BEGIN:VEVENT
DTSTART;VALUE=DATE:20240108
DTEND;VALUE=DATE:20240113
DTSTAMP:20260422T180659
CREATED:20231024T203305Z
LAST-MODIFIED:20231024T203305Z
UID:10001418-1704672000-1705103999@www.lifelonglearningcollaborative.org
SUMMARY:Wintersession classes begin
DESCRIPTION:
URL:https://www.lifelonglearningcollaborative.org/event/wintersession-classes-begin/
CATEGORIES:Semester Announcements
END:VEVENT
BEGIN:VEVENT
DTSTART;TZID=America/New_York:20231225T130000
DTEND;TZID=America/New_York:20231225T150000
DTSTAMP:20260422T180659
CREATED:20230717T130815Z
LAST-MODIFIED:20240715T142005Z
UID:10000855-1703509200-1703516400@www.lifelonglearningcollaborative.org
SUMMARY:Book Club
DESCRIPTION:
URL:https://www.lifelonglearningcollaborative.org/event/book-club/2023-12-25/
LOCATION:ZOOM
CATEGORIES:Courses
END:VEVENT
BEGIN:VEVENT
DTSTART;TZID=America/New_York:20231214T130000
DTEND;TZID=America/New_York:20231214T160000
DTSTAMP:20260422T180659
CREATED:20231024T203001Z
LAST-MODIFIED:20231024T203001Z
UID:10001415-1702558800-1702569600@www.lifelonglearningcollaborative.org
SUMMARY:Blithewold Holiday Tea
DESCRIPTION:
URL:https://www.lifelonglearningcollaborative.org/event/blithewold-holiday-tea/
CATEGORIES:Cultural Trips
END:VEVENT
BEGIN:VEVENT
DTSTART;TZID=America/New_York:20231212T153000
DTEND;TZID=America/New_York:20231212T163000
DTSTAMP:20260422T180659
CREATED:20231106T123004Z
LAST-MODIFIED:20231106T123005Z
UID:10001419-1702395000-1702398600@www.lifelonglearningcollaborative.org
SUMMARY:Board Meeting
DESCRIPTION:Board Meetings are usually held the second Tuesday of the month. Board Members receive their Zoom link via email.
URL:https://www.lifelonglearningcollaborative.org/event/board-meeting-2-2/2023-12-12/
LOCATION:ZOOM
CATEGORIES:Board Meetings
END:VEVENT
BEGIN:VEVENT
DTSTART;TZID=America/New_York:20231207T100000
DTEND;TZID=America/New_York:20231207T120000
DTSTAMP:20260422T180659
CREATED:20230717T133646Z
LAST-MODIFIED:20230717T133719Z
UID:10001214-1701943200-1701950400@www.lifelonglearningcollaborative.org
SUMMARY:Winter Waterfowl
DESCRIPTION:Temple Beth-El and field locations
URL:https://www.lifelonglearningcollaborative.org/event/winter-waterfowl-2-2/2023-12-07/
LOCATION:Temple Beth-El\, 70 Orchard Avenue\, Providence\, RI\, United States
CATEGORIES:Courses
END:VEVENT
BEGIN:VEVENT
DTSTART;TZID=America/New_York:20231204T090000
DTEND;TZID=America/New_York:20231204T235900
DTSTAMP:20260422T180659
CREATED:20231024T203116Z
LAST-MODIFIED:20231024T203116Z
UID:10001417-1701680400-1701734340@www.lifelonglearningcollaborative.org
SUMMARY:Wintersession Registration opens
DESCRIPTION:
URL:https://www.lifelonglearningcollaborative.org/event/wintersession-registration-opens/
CATEGORIES:Semester Announcements
END:VEVENT
BEGIN:VEVENT
DTSTART;TZID=America/New_York:20231201T100000
DTEND;TZID=America/New_York:20231201T120000
DTSTAMP:20260422T180659
CREATED:20230717T134450Z
LAST-MODIFIED:20230717T134450Z
UID:10001314-1701424800-1701432000@www.lifelonglearningcollaborative.org
SUMMARY:Lives of Objects
DESCRIPTION:
URL:https://www.lifelonglearningcollaborative.org/event/lives-of-objects/2023-12-01/
LOCATION:Temple Beth-El\, 70 Orchard Avenue\, Providence\, RI\, United States
CATEGORIES:Courses
END:VEVENT
BEGIN:VEVENT
DTSTART;TZID=America/New_York:20231130T100000
DTEND;TZID=America/New_York:20231130T120000
DTSTAMP:20260422T180659
CREATED:20230717T133646Z
LAST-MODIFIED:20230717T133719Z
UID:10001213-1701338400-1701345600@www.lifelonglearningcollaborative.org
SUMMARY:Winter Waterfowl
DESCRIPTION:Temple Beth-El and field locations
URL:https://www.lifelonglearningcollaborative.org/event/winter-waterfowl-2-2/2023-11-30/
LOCATION:Temple Beth-El\, 70 Orchard Avenue\, Providence\, RI\, United States
CATEGORIES:Courses
END:VEVENT
BEGIN:VEVENT
DTSTART;TZID=America/New_York:20231127T130000
DTEND;TZID=America/New_York:20231127T150000
DTSTAMP:20260422T180659
CREATED:20230717T131124Z
LAST-MODIFIED:20230717T133550Z
UID:10001202-1701090000-1701097200@www.lifelonglearningcollaborative.org
SUMMARY:Women Leaders
DESCRIPTION:
URL:https://www.lifelonglearningcollaborative.org/event/women-leaders/2023-11-27/
LOCATION:ZOOM
CATEGORIES:Courses
END:VEVENT
BEGIN:VEVENT
DTSTART;TZID=America/New_York:20231127T130000
DTEND;TZID=America/New_York:20231127T150000
DTSTAMP:20260422T180659
CREATED:20230717T130815Z
LAST-MODIFIED:20240715T142005Z
UID:10000854-1701090000-1701097200@www.lifelonglearningcollaborative.org
SUMMARY:Book Club
DESCRIPTION:
URL:https://www.lifelonglearningcollaborative.org/event/book-club/2023-11-27/
LOCATION:ZOOM
CATEGORIES:Courses
END:VEVENT
BEGIN:VEVENT
DTSTART;TZID=America/New_York:20231127T100000
DTEND;TZID=America/New_York:20231127T120000
DTSTAMP:20260422T180659
CREATED:20231024T203649Z
LAST-MODIFIED:20231024T203649Z
UID:10000799-1701079200-1701086400@www.lifelonglearningcollaborative.org
SUMMARY:An Immense World
DESCRIPTION:
URL:https://www.lifelonglearningcollaborative.org/event/an-immense-world-2-2/2023-11-27/
LOCATION:ZOOM
CATEGORIES:Courses
END:VEVENT
BEGIN:VEVENT
DTSTART;TZID=America/New_York:20231127T090000
DTEND;TZID=America/New_York:20231127T090000
DTSTAMP:20260422T180659
CREATED:20231024T203046Z
LAST-MODIFIED:20231024T203046Z
UID:10001416-1701075600-1701075600@www.lifelonglearningcollaborative.org
SUMMARY:Wintersession Catalog Email
DESCRIPTION:
URL:https://www.lifelonglearningcollaborative.org/event/wintersession-catalog-email/
CATEGORIES:Semester Announcements
END:VEVENT
BEGIN:VEVENT
DTSTART;TZID=America/New_York:20231123T100000
DTEND;TZID=America/New_York:20231123T120000
DTSTAMP:20260422T180659
CREATED:20230717T133646Z
LAST-MODIFIED:20230717T133719Z
UID:10001212-1700733600-1700740800@www.lifelonglearningcollaborative.org
SUMMARY:Winter Waterfowl
DESCRIPTION:Temple Beth-El and field locations
URL:https://www.lifelonglearningcollaborative.org/event/winter-waterfowl-2-2/2023-11-23/
LOCATION:Temple Beth-El\, 70 Orchard Avenue\, Providence\, RI\, United States
CATEGORIES:Courses
END:VEVENT
BEGIN:VEVENT
DTSTART;TZID=America/New_York:20231121T160000
DTEND;TZID=America/New_York:20231121T170000
DTSTAMP:20260422T180659
CREATED:20230821T135747Z
LAST-MODIFIED:20230828T150711Z
UID:10001414-1700582400-1700586000@www.lifelonglearningcollaborative.org
SUMMARY:Brown Bag Lecture feat. Maria DeCarvalho
DESCRIPTION:For History Buffs\, and lovers of Beauty: Azulejos: Memories in Blue and White  \nMany of us have traveled to Portugal\, or have seen pictures of\, the distinctive and beautiful multicolor tiles known as azulejos that cover the surfaces in private and public buildings. Join Maria DeCarvalho to discover their intriguing history\, development and meaning\, and how they have helped preserve important collective and deeply personal memories.   \nMaria DeCarvalho has traveled to Lisbon throughout her life. Her father served as Portuguese Consul here in Rhode Island for over thirty years.
URL:https://www.lifelonglearningcollaborative.org/event/brown-bag-lecture-feat-maria-decarvalho/
LOCATION:ZOOM
CATEGORIES:Free Webinars
END:VEVENT
BEGIN:VEVENT
DTSTART;TZID=America/New_York:20231121T130000
DTEND;TZID=America/New_York:20231121T150000
DTSTAMP:20260422T180659
CREATED:20230717T132330Z
LAST-MODIFIED:20230717T132330Z
UID:10001078-1700571600-1700578800@www.lifelonglearningcollaborative.org
SUMMARY:Cell Phone Photo Club
DESCRIPTION:
URL:https://www.lifelonglearningcollaborative.org/event/cell-phone-photo-club-2-2/2023-11-21/
LOCATION:Temple Beth-El\, 70 Orchard Avenue\, Providence\, RI\, United States
CATEGORIES:Courses
END:VEVENT
BEGIN:VEVENT
DTSTART;TZID=America/New_York:20231121T100000
DTEND;TZID=America/New_York:20231121T120000
DTSTAMP:20260422T180659
CREATED:20230717T131734Z
LAST-MODIFIED:20230717T132146Z
UID:10001037-1700560800-1700568000@www.lifelonglearningcollaborative.org
SUMMARY:Düsseldorf
DESCRIPTION:
URL:https://www.lifelonglearningcollaborative.org/event/dusseldorf/2023-11-21/
LOCATION:Temple Beth-El\, 70 Orchard Avenue\, Providence\, RI\, United States
CATEGORIES:Courses
END:VEVENT
BEGIN:VEVENT
DTSTART;TZID=America/New_York:20231121T100000
DTEND;TZID=America/New_York:20231121T120000
DTSTAMP:20260422T180659
CREATED:20230717T131409Z
LAST-MODIFIED:20230717T131409Z
UID:10000956-1700560800-1700568000@www.lifelonglearningcollaborative.org
SUMMARY:Luminous Things: Big Six
DESCRIPTION:Hybrid: Temple Beth-El and Zoom
URL:https://www.lifelonglearningcollaborative.org/event/luminous-things-big-six/2023-11-21/
LOCATION:Temple Beth-El\, 70 Orchard Avenue\, Providence\, RI\, United States
CATEGORIES:Courses
END:VEVENT
BEGIN:VEVENT
DTSTART;TZID=America/New_York:20231120T130000
DTEND;TZID=America/New_York:20231120T150000
DTSTAMP:20260422T180659
CREATED:20230717T131124Z
LAST-MODIFIED:20230717T133550Z
UID:10001201-1700485200-1700492400@www.lifelonglearningcollaborative.org
SUMMARY:Women Leaders
DESCRIPTION:
URL:https://www.lifelonglearningcollaborative.org/event/women-leaders/2023-11-20/
LOCATION:ZOOM
CATEGORIES:Courses
END:VEVENT
BEGIN:VEVENT
DTSTART;TZID=America/New_York:20231120T100000
DTEND;TZID=America/New_York:20231120T120000
DTSTAMP:20260422T180659
CREATED:20231024T203649Z
LAST-MODIFIED:20231024T203649Z
UID:10000798-1700474400-1700481600@www.lifelonglearningcollaborative.org
SUMMARY:An Immense World
DESCRIPTION:
URL:https://www.lifelonglearningcollaborative.org/event/an-immense-world-2-2/2023-11-20/
LOCATION:ZOOM
CATEGORIES:Courses
END:VEVENT
BEGIN:VEVENT
DTSTART;TZID=America/New_York:20231120T100000
DTEND;TZID=America/New_York:20231120T120000
DTSTAMP:20260422T180659
CREATED:20231024T203452Z
LAST-MODIFIED:20231024T203453Z
UID:10000674-1700474400-1700481600@www.lifelonglearningcollaborative.org
SUMMARY:Open Studio Art
DESCRIPTION:
URL:https://www.lifelonglearningcollaborative.org/event/open-studio-art-8-2/2023-11-20/
LOCATION:ZOOM
CATEGORIES:Courses
END:VEVENT
BEGIN:VEVENT
DTSTART;TZID=America/New_York:20231117T100000
DTEND;TZID=America/New_York:20231117T120000
DTSTAMP:20260422T180659
CREATED:20230717T134450Z
LAST-MODIFIED:20230717T134450Z
UID:10001313-1700215200-1700222400@www.lifelonglearningcollaborative.org
SUMMARY:Lives of Objects
DESCRIPTION:
URL:https://www.lifelonglearningcollaborative.org/event/lives-of-objects/2023-11-17/
LOCATION:Temple Beth-El\, 70 Orchard Avenue\, Providence\, RI\, United States
CATEGORIES:Courses
END:VEVENT
BEGIN:VEVENT
DTSTART;TZID=America/New_York:20231116T130000
DTEND;TZID=America/New_York:20231116T150000
DTSTAMP:20260422T180659
CREATED:20230717T134009Z
LAST-MODIFIED:20230717T134009Z
UID:10001257-1700139600-1700146800@www.lifelonglearningcollaborative.org
SUMMARY:Paintings/Paris Cafes
DESCRIPTION:
URL:https://www.lifelonglearningcollaborative.org/event/paintings-paris-cafes/2023-11-16/
LOCATION:Temple Beth-El\, 70 Orchard Avenue\, Providence\, RI\, United States
CATEGORIES:Courses
END:VEVENT
BEGIN:VEVENT
DTSTART;TZID=America/New_York:20231116T130000
DTEND;TZID=America/New_York:20231116T150000
DTSTAMP:20260422T180659
CREATED:20230717T133858Z
LAST-MODIFIED:20230717T133858Z
UID:10001247-1700139600-1700146800@www.lifelonglearningcollaborative.org
SUMMARY:Memoir
DESCRIPTION:
URL:https://www.lifelonglearningcollaborative.org/event/memoir/2023-11-16/
LOCATION:Temple Beth-El\, 70 Orchard Avenue\, Providence\, RI\, United States
CATEGORIES:Courses
END:VEVENT
BEGIN:VEVENT
DTSTART;TZID=America/New_York:20231116T130000
DTEND;TZID=America/New_York:20231116T150000
DTSTAMP:20260422T180659
CREATED:20230717T133447Z
LAST-MODIFIED:20230717T221908Z
UID:10001409-1700139600-1700146800@www.lifelonglearningcollaborative.org
SUMMARY:Your Hometown
DESCRIPTION:
URL:https://www.lifelonglearningcollaborative.org/event/your-hometown/2023-11-16/
LOCATION:Temple Beth-El\, 70 Orchard Avenue\, Providence\, RI\, United States
CATEGORIES:Courses
END:VEVENT
END:VCALENDAR