BEGIN:VCALENDAR
VERSION:2.0
PRODID:-//Lifelong Learning Collaborative - ECPv6.15.12.2//NONSGML v1.0//EN
CALSCALE:GREGORIAN
METHOD:PUBLISH
X-ORIGINAL-URL:https://www.lifelonglearningcollaborative.org
X-WR-CALDESC:Events for Lifelong Learning Collaborative
REFRESH-INTERVAL;VALUE=DURATION:PT1H
X-Robots-Tag:noindex
X-PUBLISHED-TTL:PT1H
BEGIN:VTIMEZONE
TZID:America/New_York
BEGIN:DAYLIGHT
TZOFFSETFROM:-0500
TZOFFSETTO:-0400
TZNAME:EDT
DTSTART:20250309T070000
END:DAYLIGHT
BEGIN:STANDARD
TZOFFSETFROM:-0400
TZOFFSETTO:-0500
TZNAME:EST
DTSTART:20251102T060000
END:STANDARD
BEGIN:DAYLIGHT
TZOFFSETFROM:-0500
TZOFFSETTO:-0400
TZNAME:EDT
DTSTART:20260308T070000
END:DAYLIGHT
BEGIN:STANDARD
TZOFFSETFROM:-0400
TZOFFSETTO:-0500
TZNAME:EST
DTSTART:20261101T060000
END:STANDARD
BEGIN:DAYLIGHT
TZOFFSETFROM:-0500
TZOFFSETTO:-0400
TZNAME:EDT
DTSTART:20270314T070000
END:DAYLIGHT
BEGIN:STANDARD
TZOFFSETFROM:-0400
TZOFFSETTO:-0500
TZNAME:EST
DTSTART:20271107T060000
END:STANDARD
END:VTIMEZONE
BEGIN:VEVENT
DTSTART;TZID=America/New_York:20260422T100000
DTEND;TZID=America/New_York:20260422T120000
DTSTAMP:20260419T233032
CREATED:20260119T162123Z
LAST-MODIFIED:20260119T162123Z
UID:10004028-1776852000-1776859200@www.lifelonglearningcollaborative.org
SUMMARY:Paint Like a Woman
DESCRIPTION:
URL:https://www.lifelonglearningcollaborative.org/event/paint-like-a-woman-2-2/2026-04-22/
LOCATION:Shriners Center\, 1 Rhodes Place\, Cranston\, RI\, 02905\, United States
CATEGORIES:Courses
END:VEVENT
BEGIN:VEVENT
DTSTART;TZID=America/New_York:20260422T100000
DTEND;TZID=America/New_York:20260422T120000
DTSTAMP:20260419T233032
CREATED:20260119T162220Z
LAST-MODIFIED:20260119T162220Z
UID:10004043-1776852000-1776859200@www.lifelonglearningcollaborative.org
SUMMARY:Independence at 250
DESCRIPTION:
URL:https://www.lifelonglearningcollaborative.org/event/independence-at-250/2026-04-22/
LOCATION:Shriners Center\, 1 Rhodes Place\, Cranston\, RI\, 02905\, United States
CATEGORIES:Courses
END:VEVENT
BEGIN:VEVENT
DTSTART;TZID=America/New_York:20260422T130000
DTEND;TZID=America/New_York:20260422T150000
DTSTAMP:20260419T233032
CREATED:20260119T162638Z
LAST-MODIFIED:20260119T162638Z
UID:10004053-1776862800-1776870000@www.lifelonglearningcollaborative.org
SUMMARY:Hot Topics
DESCRIPTION:
URL:https://www.lifelonglearningcollaborative.org/event/hot-topics-3-10/2026-04-22/
LOCATION:ZOOM
CATEGORIES:Courses
END:VEVENT
BEGIN:VEVENT
DTSTART;TZID=America/New_York:20260422T130000
DTEND;TZID=America/New_York:20260422T150000
DTSTAMP:20260419T233032
CREATED:20260119T162913Z
LAST-MODIFIED:20260316T150634Z
UID:10004217-1776862800-1776870000@www.lifelonglearningcollaborative.org
SUMMARY:Improv Theater
DESCRIPTION:
URL:https://www.lifelonglearningcollaborative.org/event/improv-theater/2026-04-22/
LOCATION:Shriners Center\, 1 Rhodes Place\, Cranston\, RI\, 02905\, United States
CATEGORIES:Courses
END:VEVENT
BEGIN:VEVENT
DTSTART;TZID=America/New_York:20260423T100000
DTEND;TZID=America/New_York:20260423T120000
DTSTAMP:20260419T233032
CREATED:20260119T163012Z
LAST-MODIFIED:20260119T163012Z
UID:10004075-1776938400-1776945600@www.lifelonglearningcollaborative.org
SUMMARY:Theater Conversations
DESCRIPTION:First play closes on March 22
URL:https://www.lifelonglearningcollaborative.org/event/theater-conversations-3-5/2026-04-23/
LOCATION:Shriners Center\, 1 Rhodes Place\, Cranston\, RI\, 02905\, United States
CATEGORIES:Courses
END:VEVENT
BEGIN:VEVENT
DTSTART;TZID=America/New_York:20260423T123000
DTEND;TZID=America/New_York:20260423T143000
DTSTAMP:20260419T233032
CREATED:20260119T163330Z
LAST-MODIFIED:20260119T163330Z
UID:10004095-1776947400-1776954600@www.lifelonglearningcollaborative.org
SUMMARY:Memoir (In-person)
DESCRIPTION:
URL:https://www.lifelonglearningcollaborative.org/event/memoir-in-person/2026-04-23/
LOCATION:Shriners Center\, 1 Rhodes Place\, Cranston\, RI\, 02905\, United States
CATEGORIES:Courses
END:VEVENT
BEGIN:VEVENT
DTSTART;TZID=America/New_York:20260423T130000
DTEND;TZID=America/New_York:20260423T150000
DTSTAMP:20260419T233032
CREATED:20260119T163057Z
LAST-MODIFIED:20260119T163057Z
UID:10004085-1776949200-1776956400@www.lifelonglearningcollaborative.org
SUMMARY:Bridge
DESCRIPTION:
URL:https://www.lifelonglearningcollaborative.org/event/bridge-2/2026-04-23/
LOCATION:Regency Plaza Apartments\, RI\, United States
CATEGORIES:Courses
END:VEVENT
BEGIN:VEVENT
DTSTART;TZID=America/New_York:20260424T100000
DTEND;TZID=America/New_York:20260424T110000
DTSTAMP:20260419T233032
CREATED:20260119T163622Z
LAST-MODIFIED:20260119T163622Z
UID:10004124-1777024800-1777028400@www.lifelonglearningcollaborative.org
SUMMARY:Personal Training
DESCRIPTION:
URL:https://www.lifelonglearningcollaborative.org/event/personal-training/2026-04-24/
LOCATION:ZOOM
CATEGORIES:Courses
END:VEVENT
BEGIN:VEVENT
DTSTART;TZID=America/New_York:20260424T100000
DTEND;TZID=America/New_York:20260424T120000
DTSTAMP:20260419T233032
CREATED:20260119T163522Z
LAST-MODIFIED:20260119T163522Z
UID:10004115-1777024800-1777032000@www.lifelonglearningcollaborative.org
SUMMARY:Anthropology Movies
DESCRIPTION:
URL:https://www.lifelonglearningcollaborative.org/event/anthropology-movies-2-2/2026-04-24/
LOCATION:Shriners Center\, 1 Rhodes Place\, Cranston\, RI\, 02905\, United States
CATEGORIES:Courses
END:VEVENT
BEGIN:VEVENT
DTSTART;TZID=America/New_York:20260424T100000
DTEND;TZID=America/New_York:20260424T120000
DTSTAMP:20260419T233032
CREATED:20260323T131155Z
LAST-MODIFIED:20260323T131156Z
UID:10004137-1777024800-1777032000@www.lifelonglearningcollaborative.org
SUMMARY:Prov Public Art\, Jane's Walk
DESCRIPTION:Shriners & other sites
URL:https://www.lifelonglearningcollaborative.org/event/prov-public-art-janes-walk-2-2/2026-04-24/
LOCATION:Shriners Center\, 1 Rhodes Place\, Cranston\, RI\, 02905\, United States
CATEGORIES:Courses
END:VEVENT
BEGIN:VEVENT
DTSTART;TZID=America/New_York:20260424T123000
DTEND;TZID=America/New_York:20260424T140000
DTSTAMP:20260419T233032
CREATED:20260408T142647Z
LAST-MODIFIED:20260408T142647Z
UID:10004248-1777033800-1777039200@www.lifelonglearningcollaborative.org
SUMMARY:LLC Providence Art Club Lunch
DESCRIPTION:
URL:https://www.lifelonglearningcollaborative.org/event/llc-providence-art-club-lunch/
LOCATION:providence art club
CATEGORIES:Cultural Trips
END:VEVENT
BEGIN:VEVENT
DTSTART;TZID=America/New_York:20260427T100000
DTEND;TZID=America/New_York:20260427T120000
DTSTAMP:20260419T233032
CREATED:20260119T140142Z
LAST-MODIFIED:20260119T140142Z
UID:10003906-1777284000-1777291200@www.lifelonglearningcollaborative.org
SUMMARY:Russian Short Stories
DESCRIPTION:Wingate Residences\, East Side of Providence
URL:https://www.lifelonglearningcollaborative.org/event/russian-short-stories/2026-04-27/
CATEGORIES:Courses
END:VEVENT
BEGIN:VEVENT
DTSTART;TZID=America/New_York:20260427T100000
DTEND;TZID=America/New_York:20260427T120000
DTSTAMP:20260419T233032
CREATED:20260119T140307Z
LAST-MODIFIED:20260119T140307Z
UID:10003916-1777284000-1777291200@www.lifelonglearningcollaborative.org
SUMMARY:Studio Art (Zoom)
DESCRIPTION:
URL:https://www.lifelonglearningcollaborative.org/event/studio-art-zoom/2026-04-27/
LOCATION:ZOOM
CATEGORIES:Courses
END:VEVENT
BEGIN:VEVENT
DTSTART;TZID=America/New_York:20260427T100000
DTEND;TZID=America/New_York:20260427T120000
DTSTAMP:20260419T233032
CREATED:20260119T140406Z
LAST-MODIFIED:20260323T131758Z
UID:10004239-1777284000-1777291200@www.lifelonglearningcollaborative.org
SUMMARY:"Magic Mountain"
DESCRIPTION:
URL:https://www.lifelonglearningcollaborative.org/event/magic-mountain/2026-04-27/
LOCATION:Shriners Center\, 1 Rhodes Place\, Cranston\, RI\, 02905\, United States
CATEGORIES:Courses
END:VEVENT
BEGIN:VEVENT
DTSTART;TZID=America/New_York:20260427T100000
DTEND;TZID=America/New_York:20260427T120000
DTSTAMP:20260419T233032
CREATED:20260119T140530Z
LAST-MODIFIED:20260323T131054Z
UID:10004229-1777284000-1777291200@www.lifelonglearningcollaborative.org
SUMMARY:Democracy
DESCRIPTION:
URL:https://www.lifelonglearningcollaborative.org/event/democracy/2026-04-27/
LOCATION:ZOOM
CATEGORIES:Courses
END:VEVENT
BEGIN:VEVENT
DTSTART;TZID=America/New_York:20260427T100000
DTEND;TZID=America/New_York:20260427T120000
DTSTAMP:20260419T233032
CREATED:20260119T162123Z
LAST-MODIFIED:20260119T162123Z
UID:10004029-1777284000-1777291200@www.lifelonglearningcollaborative.org
SUMMARY:Paint Like a Woman
DESCRIPTION:
URL:https://www.lifelonglearningcollaborative.org/event/paint-like-a-woman-2-2/2026-04-27/
LOCATION:Shriners Center\, 1 Rhodes Place\, Cranston\, RI\, 02905\, United States
CATEGORIES:Courses
END:VEVENT
BEGIN:VEVENT
DTSTART;TZID=America/New_York:20260427T130000
DTEND;TZID=America/New_York:20260427T150000
DTSTAMP:20260419T233032
CREATED:20250714T135535Z
LAST-MODIFIED:20250714T135535Z
UID:10003416-1777294800-1777302000@www.lifelonglearningcollaborative.org
SUMMARY:Hist Novel Book Club 25-26
DESCRIPTION:
URL:https://www.lifelonglearningcollaborative.org/event/hist-novel-book-club-25-26/2026-04-27/
LOCATION:ZOOM
CATEGORIES:Courses
END:VEVENT
BEGIN:VEVENT
DTSTART;TZID=America/New_York:20260427T130000
DTEND;TZID=America/New_York:20260427T150000
DTSTAMP:20260419T233032
CREATED:20260119T141809Z
LAST-MODIFIED:20260119T141809Z
UID:10003924-1777294800-1777302000@www.lifelonglearningcollaborative.org
SUMMARY:Sacred Places
DESCRIPTION:
URL:https://www.lifelonglearningcollaborative.org/event/sacred-places/2026-04-27/
LOCATION:Shriners Center\, 1 Rhodes Place\, Cranston\, RI\, 02905\, United States
CATEGORIES:Courses
END:VEVENT
BEGIN:VEVENT
DTSTART;TZID=America/New_York:20260427T130000
DTEND;TZID=America/New_York:20260427T150000
DTSTAMP:20260419T233032
CREATED:20260119T141918Z
LAST-MODIFIED:20260119T141918Z
UID:10003934-1777294800-1777302000@www.lifelonglearningcollaborative.org
SUMMARY:Irish\, Then Italians
DESCRIPTION:
URL:https://www.lifelonglearningcollaborative.org/event/irish-then-italians/2026-04-27/
LOCATION:Shriners Center\, 1 Rhodes Place\, Cranston\, RI\, 02905\, United States
CATEGORIES:Courses
END:VEVENT
BEGIN:VEVENT
DTSTART;TZID=America/New_York:20260428T100000
DTEND;TZID=America/New_York:20260428T120000
DTSTAMP:20260419T233032
CREATED:20260119T142135Z
LAST-MODIFIED:20260119T142135Z
UID:10003954-1777370400-1777377600@www.lifelonglearningcollaborative.org
SUMMARY:Memoir (Zoom)
DESCRIPTION:
URL:https://www.lifelonglearningcollaborative.org/event/memoir-zoom/2026-04-28/
LOCATION:ZOOM
CATEGORIES:Courses
END:VEVENT
BEGIN:VEVENT
DTSTART;TZID=America/New_York:20260428T100000
DTEND;TZID=America/New_York:20260428T120000
DTSTAMP:20260419T233032
CREATED:20260119T142433Z
LAST-MODIFIED:20260119T142433Z
UID:10003962-1777370400-1777377600@www.lifelonglearningcollaborative.org
SUMMARY:Cell Phone Photo Club
DESCRIPTION:
URL:https://www.lifelonglearningcollaborative.org/event/cell-phone-photo-club-2-10/2026-04-28/
LOCATION:Shriners Center\, 1 Rhodes Place\, Cranston\, RI\, 02905\, United States
CATEGORIES:Courses
END:VEVENT
BEGIN:VEVENT
DTSTART;TZID=America/New_York:20260428T100000
DTEND;TZID=America/New_York:20260428T123000
DTSTAMP:20260419T233032
CREATED:20260119T142028Z
LAST-MODIFIED:20260119T142028Z
UID:10003944-1777370400-1777379400@www.lifelonglearningcollaborative.org
SUMMARY:Studio Art (In-person)
DESCRIPTION:
URL:https://www.lifelonglearningcollaborative.org/event/studio-art-in-person/2026-04-28/
LOCATION:Shriners Center\, 1 Rhodes Place\, Cranston\, RI\, 02905\, United States
CATEGORIES:Courses
END:VEVENT
BEGIN:VEVENT
DTSTART;TZID=America/New_York:20260428T130000
DTEND;TZID=America/New_York:20260428T150000
DTSTAMP:20260419T233032
CREATED:20260119T161425Z
LAST-MODIFIED:20260323T130801Z
UID:10003980-1777381200-1777388400@www.lifelonglearningcollaborative.org
SUMMARY:Diamonds: Jewels\, Couture\, Glamour
DESCRIPTION:
URL:https://www.lifelonglearningcollaborative.org/event/diamonds-jewels-couture-glamour/2026-04-28/
LOCATION:Shriners Center\, 1 Rhodes Place\, Cranston\, RI\, 02905\, United States
CATEGORIES:Courses
END:VEVENT
BEGIN:VEVENT
DTSTART;TZID=America/New_York:20260428T150000
DTEND;TZID=America/New_York:20260428T173000
DTSTAMP:20260419T233032
CREATED:20260323T131242Z
LAST-MODIFIED:20260323T131243Z
UID:10004001-1777388400-1777397400@www.lifelonglearningcollaborative.org
SUMMARY:Scrabble
DESCRIPTION:
URL:https://www.lifelonglearningcollaborative.org/event/scrabble-25-2/2026-04-28/
LOCATION:Shriners Center\, 1 Rhodes Place\, Cranston\, RI\, 02905\, United States
CATEGORIES:Courses
END:VEVENT
BEGIN:VEVENT
DTSTART;TZID=America/New_York:20260429T100000
DTEND;TZID=America/New_York:20260429T120000
DTSTAMP:20260419T233032
CREATED:20260119T161816Z
LAST-MODIFIED:20260119T161816Z
UID:10004013-1777456800-1777464000@www.lifelonglearningcollaborative.org
SUMMARY:Looking at Ourselves
DESCRIPTION:
URL:https://www.lifelonglearningcollaborative.org/event/looking-at-ourselves/2026-04-29/
LOCATION:Shriners Center\, 1 Rhodes Place\, Cranston\, RI\, 02905\, United States
CATEGORIES:Courses
END:VEVENT
BEGIN:VEVENT
DTSTART;TZID=America/New_York:20260429T100000
DTEND;TZID=America/New_York:20260429T120000
DTSTAMP:20260419T233032
CREATED:20260119T162123Z
LAST-MODIFIED:20260119T162123Z
UID:10004030-1777456800-1777464000@www.lifelonglearningcollaborative.org
SUMMARY:Paint Like a Woman
DESCRIPTION:
URL:https://www.lifelonglearningcollaborative.org/event/paint-like-a-woman-2-2/2026-04-29/
LOCATION:Shriners Center\, 1 Rhodes Place\, Cranston\, RI\, 02905\, United States
CATEGORIES:Courses
END:VEVENT
BEGIN:VEVENT
DTSTART;TZID=America/New_York:20260429T100000
DTEND;TZID=America/New_York:20260429T120000
DTSTAMP:20260419T233032
CREATED:20260119T162220Z
LAST-MODIFIED:20260119T162220Z
UID:10004044-1777456800-1777464000@www.lifelonglearningcollaborative.org
SUMMARY:Independence at 250
DESCRIPTION:
URL:https://www.lifelonglearningcollaborative.org/event/independence-at-250/2026-04-29/
LOCATION:Shriners Center\, 1 Rhodes Place\, Cranston\, RI\, 02905\, United States
CATEGORIES:Courses
END:VEVENT
BEGIN:VEVENT
DTSTART;TZID=America/New_York:20260429T130000
DTEND;TZID=America/New_York:20260429T150000
DTSTAMP:20260419T233032
CREATED:20260119T162638Z
LAST-MODIFIED:20260119T162638Z
UID:10004054-1777467600-1777474800@www.lifelonglearningcollaborative.org
SUMMARY:Hot Topics
DESCRIPTION:
URL:https://www.lifelonglearningcollaborative.org/event/hot-topics-3-10/2026-04-29/
LOCATION:ZOOM
CATEGORIES:Courses
END:VEVENT
BEGIN:VEVENT
DTSTART;TZID=America/New_York:20260429T130000
DTEND;TZID=America/New_York:20260429T150000
DTSTAMP:20260419T233032
CREATED:20260119T162913Z
LAST-MODIFIED:20260316T150634Z
UID:10004218-1777467600-1777474800@www.lifelonglearningcollaborative.org
SUMMARY:Improv Theater
DESCRIPTION:
URL:https://www.lifelonglearningcollaborative.org/event/improv-theater/2026-04-29/
LOCATION:Shriners Center\, 1 Rhodes Place\, Cranston\, RI\, 02905\, United States
CATEGORIES:Courses
END:VEVENT
BEGIN:VEVENT
DTSTART;TZID=America/New_York:20260430T100000
DTEND;TZID=America/New_York:20260430T120000
DTSTAMP:20260419T233032
CREATED:20260119T163012Z
LAST-MODIFIED:20260119T163012Z
UID:10004076-1777543200-1777550400@www.lifelonglearningcollaborative.org
SUMMARY:Theater Conversations
DESCRIPTION:First play closes on March 22
URL:https://www.lifelonglearningcollaborative.org/event/theater-conversations-3-5/2026-04-30/
LOCATION:Shriners Center\, 1 Rhodes Place\, Cranston\, RI\, 02905\, United States
CATEGORIES:Courses
END:VEVENT
END:VCALENDAR