BEGIN:VCALENDAR
VERSION:2.0
PRODID:-//Lifelong Learning Collaborative - ECPv6.15.12.2//NONSGML v1.0//EN
CALSCALE:GREGORIAN
METHOD:PUBLISH
X-ORIGINAL-URL:https://www.lifelonglearningcollaborative.org
X-WR-CALDESC:Events for Lifelong Learning Collaborative
REFRESH-INTERVAL;VALUE=DURATION:PT1H
X-Robots-Tag:noindex
X-PUBLISHED-TTL:PT1H
BEGIN:VTIMEZONE
TZID:America/New_York
BEGIN:DAYLIGHT
TZOFFSETFROM:-0500
TZOFFSETTO:-0400
TZNAME:EDT
DTSTART:20220313T070000
END:DAYLIGHT
BEGIN:STANDARD
TZOFFSETFROM:-0400
TZOFFSETTO:-0500
TZNAME:EST
DTSTART:20221106T060000
END:STANDARD
BEGIN:DAYLIGHT
TZOFFSETFROM:-0500
TZOFFSETTO:-0400
TZNAME:EDT
DTSTART:20230312T070000
END:DAYLIGHT
BEGIN:STANDARD
TZOFFSETFROM:-0400
TZOFFSETTO:-0500
TZNAME:EST
DTSTART:20231105T060000
END:STANDARD
BEGIN:DAYLIGHT
TZOFFSETFROM:-0500
TZOFFSETTO:-0400
TZNAME:EDT
DTSTART:20240310T070000
END:DAYLIGHT
BEGIN:STANDARD
TZOFFSETFROM:-0400
TZOFFSETTO:-0500
TZNAME:EST
DTSTART:20241103T060000
END:STANDARD
END:VTIMEZONE
BEGIN:VEVENT
DTSTART;TZID=America/New_York:20231003T130000
DTEND;TZID=America/New_York:20231003T150000
DTSTAMP:20260421T134609
CREATED:20230717T131842Z
LAST-MODIFIED:20230717T132013Z
UID:10001051-1696338000-1696345200@www.lifelonglearningcollaborative.org
SUMMARY:Classical Music 20th C.
DESCRIPTION:
URL:https://www.lifelonglearningcollaborative.org/event/classical-music-20th-c/2023-10-03/
LOCATION:Temple Beth-El\, 70 Orchard Avenue\, Providence\, RI\, United States
CATEGORIES:Courses
END:VEVENT
BEGIN:VEVENT
DTSTART;TZID=America/New_York:20231003T130000
DTEND;TZID=America/New_York:20231003T150000
DTSTAMP:20260421T134609
CREATED:20230717T132330Z
LAST-MODIFIED:20230717T132330Z
UID:10001071-1696338000-1696345200@www.lifelonglearningcollaborative.org
SUMMARY:Cell Phone Photo Club
DESCRIPTION:
URL:https://www.lifelonglearningcollaborative.org/event/cell-phone-photo-club-2-2/2023-10-03/
LOCATION:Temple Beth-El\, 70 Orchard Avenue\, Providence\, RI\, United States
CATEGORIES:Courses
END:VEVENT
BEGIN:VEVENT
DTSTART;TZID=America/New_York:20231003T151500
DTEND;TZID=America/New_York:20231003T171500
DTSTAMP:20260421T134609
CREATED:20230717T132527Z
LAST-MODIFIED:20230717T132550Z
UID:10001102-1696346100-1696353300@www.lifelonglearningcollaborative.org
SUMMARY:Scrabble
DESCRIPTION:
URL:https://www.lifelonglearningcollaborative.org/event/scrabble-7/2023-10-03/
LOCATION:Temple Beth-El\, 70 Orchard Avenue\, Providence\, RI\, United States
CATEGORIES:Courses
END:VEVENT
BEGIN:VEVENT
DTSTART;TZID=America/New_York:20231004T100000
DTEND;TZID=America/New_York:20231004T120000
DTSTAMP:20260421T134609
CREATED:20230717T132907Z
LAST-MODIFIED:20230717T132912Z
UID:10001121-1696413600-1696420800@www.lifelonglearningcollaborative.org
SUMMARY:US Supreme Court Decisions
DESCRIPTION:
URL:https://www.lifelonglearningcollaborative.org/event/us-supreme-court-decisions/2023-10-04/
LOCATION:ZOOM
CATEGORIES:Courses
END:VEVENT
BEGIN:VEVENT
DTSTART;TZID=America/New_York:20231004T100000
DTEND;TZID=America/New_York:20231004T120000
DTSTAMP:20260421T134609
CREATED:20230717T133007Z
LAST-MODIFIED:20230717T133007Z
UID:10001129-1696413600-1696420800@www.lifelonglearningcollaborative.org
SUMMARY:Gender/Power Plays
DESCRIPTION:
URL:https://www.lifelonglearningcollaborative.org/event/gender-power-plays/2023-10-04/
LOCATION:Temple Beth-El\, 70 Orchard Avenue\, Providence\, RI\, United States
CATEGORIES:Courses
END:VEVENT
BEGIN:VEVENT
DTSTART;TZID=America/New_York:20231004T130000
DTEND;TZID=America/New_York:20231004T150000
DTSTAMP:20260421T134609
CREATED:20230717T133214Z
LAST-MODIFIED:20230717T133247Z
UID:10001157-1696424400-1696431600@www.lifelonglearningcollaborative.org
SUMMARY:Hot Topics
DESCRIPTION:
URL:https://www.lifelonglearningcollaborative.org/event/hot-topics-3-2/2023-10-04/
LOCATION:ZOOM
CATEGORIES:Courses
END:VEVENT
BEGIN:VEVENT
DTSTART;TZID=America/New_York:20231004T130000
DTEND;TZID=America/New_York:20231004T150000
DTSTAMP:20260421T134609
CREATED:20230717T133327Z
LAST-MODIFIED:20230717T133327Z
UID:10001167-1696424400-1696431600@www.lifelonglearningcollaborative.org
SUMMARY:LLC Knits
DESCRIPTION:
URL:https://www.lifelonglearningcollaborative.org/event/llc-knits-3-2/2023-10-04/
LOCATION:Temple Beth-El\, 70 Orchard Avenue\, Providence\, RI\, United States
CATEGORIES:Courses
END:VEVENT
BEGIN:VEVENT
DTSTART;TZID=America/New_York:20231005T100000
DTEND;TZID=America/New_York:20231005T120000
DTSTAMP:20260421T134609
CREATED:20230717T133808Z
LAST-MODIFIED:20230717T133808Z
UID:10001224-1696500000-1696507200@www.lifelonglearningcollaborative.org
SUMMARY:Theater Conversations
DESCRIPTION:
URL:https://www.lifelonglearningcollaborative.org/event/theater-conversations/2023-10-05/
LOCATION:Temple Beth-El\, 70 Orchard Avenue\, Providence\, RI\, United States
CATEGORIES:Courses
END:VEVENT
BEGIN:VEVENT
DTSTART;TZID=America/New_York:20231005T130000
DTEND;TZID=America/New_York:20231005T150000
DTSTAMP:20260421T134609
CREATED:20230717T133447Z
LAST-MODIFIED:20230717T221908Z
UID:10001403-1696510800-1696518000@www.lifelonglearningcollaborative.org
SUMMARY:Your Hometown
DESCRIPTION:
URL:https://www.lifelonglearningcollaborative.org/event/your-hometown/2023-10-05/
LOCATION:Temple Beth-El\, 70 Orchard Avenue\, Providence\, RI\, United States
CATEGORIES:Courses
END:VEVENT
BEGIN:VEVENT
DTSTART;TZID=America/New_York:20231005T130000
DTEND;TZID=America/New_York:20231005T150000
DTSTAMP:20260421T134609
CREATED:20230717T133858Z
LAST-MODIFIED:20230717T133858Z
UID:10001241-1696510800-1696518000@www.lifelonglearningcollaborative.org
SUMMARY:Memoir
DESCRIPTION:
URL:https://www.lifelonglearningcollaborative.org/event/memoir/2023-10-05/
LOCATION:Temple Beth-El\, 70 Orchard Avenue\, Providence\, RI\, United States
CATEGORIES:Courses
END:VEVENT
BEGIN:VEVENT
DTSTART;TZID=America/New_York:20231005T130000
DTEND;TZID=America/New_York:20231005T150000
DTSTAMP:20260421T134609
CREATED:20230717T134009Z
LAST-MODIFIED:20230717T134009Z
UID:10001251-1696510800-1696518000@www.lifelonglearningcollaborative.org
SUMMARY:Paintings/Paris Cafes
DESCRIPTION:
URL:https://www.lifelonglearningcollaborative.org/event/paintings-paris-cafes/2023-10-05/
LOCATION:Temple Beth-El\, 70 Orchard Avenue\, Providence\, RI\, United States
CATEGORIES:Courses
END:VEVENT
BEGIN:VEVENT
DTSTART;TZID=America/New_York:20231005T130000
DTEND;TZID=America/New_York:20231005T150000
DTSTAMP:20260421T134609
CREATED:20230717T134117Z
LAST-MODIFIED:20230717T134117Z
UID:10001261-1696510800-1696518000@www.lifelonglearningcollaborative.org
SUMMARY:Photo Journey I
DESCRIPTION:ZOOM and Temple Beth-El
URL:https://www.lifelonglearningcollaborative.org/event/photo-journey-i/2023-10-05/
LOCATION:Temple Beth-El\, 70 Orchard Avenue\, Providence\, RI\, United States
CATEGORIES:Courses
END:VEVENT
BEGIN:VEVENT
DTSTART;TZID=America/New_York:20231005T160000
DTEND;TZID=America/New_York:20231005T170000
DTSTAMP:20260421T134609
CREATED:20230821T135418Z
LAST-MODIFIED:20230821T135418Z
UID:10001411-1696521600-1696525200@www.lifelonglearningcollaborative.org
SUMMARY:Brown Bag Lecture feat. Alan Hoffman\, Translator
DESCRIPTION:Alan Hoffman\, Translator of Lafayette in America in 1824 and 1825\n“Lafayette and the Farewell Tour: Odyssey of an American Idol” \nContemporaries thought that Lafayette’s Farewell Tour of America in 1824 and 1825 was a unique event in our history\, indeed\, of world history. During the Tour\, this 67-year-old former major general of the Continental Army visited all 24 states and Washington City and became a household name among roughly 12\,000\,000 Americans. Yet today\, the Tour seems to have vanished from American history\, and Americans are by and large unaware of it. \nAlan Hoffman\, translator of Lafayette in America in 1824 and 1825\, a first-hand account of the Tour written by Lafayette’s private secretary\, will describe the Tour and explain why 80 cities\, towns and counties were named for Lafayette as well as streets and roads everywhere\, including Lafayette streets in Providence and Pawtucket. \nA retired lawyer\, Alan Hoffman serves as president of the American Friends of Lafayette and the Massachusetts Lafayette Society.
URL:https://www.lifelonglearningcollaborative.org/event/brown-bag-lecture-feat-alan-hoffman-translator/
LOCATION:ZOOM
CATEGORIES:Free Webinars
END:VEVENT
BEGIN:VEVENT
DTSTART;TZID=America/New_York:20231006T100000
DTEND;TZID=America/New_York:20231006T110000
DTSTAMP:20260421T134609
CREATED:20230717T134610Z
LAST-MODIFIED:20230717T134610Z
UID:10001379-1696586400-1696590000@www.lifelonglearningcollaborative.org
SUMMARY:Get Fit at Home
DESCRIPTION:
URL:https://www.lifelonglearningcollaborative.org/event/get-fit-at-home-3-3/2023-10-06/
LOCATION:ZOOM
CATEGORIES:Courses
END:VEVENT
BEGIN:VEVENT
DTSTART;TZID=America/New_York:20231006T100000
DTEND;TZID=America/New_York:20231006T120000
DTSTAMP:20260421T134609
CREATED:20230717T134450Z
LAST-MODIFIED:20230717T134450Z
UID:10001308-1696586400-1696593600@www.lifelonglearningcollaborative.org
SUMMARY:Lives of Objects
DESCRIPTION:
URL:https://www.lifelonglearningcollaborative.org/event/lives-of-objects/2023-10-06/
LOCATION:Temple Beth-El\, 70 Orchard Avenue\, Providence\, RI\, United States
CATEGORIES:Courses
END:VEVENT
BEGIN:VEVENT
DTSTART;TZID=America/New_York:20231009T100000
DTEND;TZID=America/New_York:20231009T120000
DTSTAMP:20260421T134609
CREATED:20230717T130343Z
LAST-MODIFIED:20230717T130343Z
UID:10000668-1696845600-1696852800@www.lifelonglearningcollaborative.org
SUMMARY:Open Studio Art
DESCRIPTION:
URL:https://www.lifelonglearningcollaborative.org/event/open-studio-art-8/2023-10-09/
LOCATION:ZOOM
CATEGORIES:Courses
END:VEVENT
BEGIN:VEVENT
DTSTART;TZID=America/New_York:20231009T100000
DTEND;TZID=America/New_York:20231009T120000
DTSTAMP:20260421T134609
CREATED:20230717T130443Z
LAST-MODIFIED:20230717T132232Z
UID:10000730-1696845600-1696852800@www.lifelonglearningcollaborative.org
SUMMARY:Great Depression
DESCRIPTION:
URL:https://www.lifelonglearningcollaborative.org/event/great-depression/2023-10-09/
LOCATION:ZOOM
CATEGORIES:Courses
END:VEVENT
BEGIN:VEVENT
DTSTART;TZID=America/New_York:20231009T100000
DTEND;TZID=America/New_York:20231009T120000
DTSTAMP:20260421T134609
CREATED:20230717T130612Z
LAST-MODIFIED:20230717T132051Z
UID:10000792-1696845600-1696852800@www.lifelonglearningcollaborative.org
SUMMARY:An Immense World
DESCRIPTION:
URL:https://www.lifelonglearningcollaborative.org/event/an-immense-world/2023-10-09/
LOCATION:ZOOM
CATEGORIES:Courses
END:VEVENT
BEGIN:VEVENT
DTSTART;TZID=America/New_York:20231009T130000
DTEND;TZID=America/New_York:20231009T150000
DTSTAMP:20260421T134609
CREATED:20230717T131124Z
LAST-MODIFIED:20230717T133550Z
UID:10001195-1696856400-1696863600@www.lifelonglearningcollaborative.org
SUMMARY:Women Leaders
DESCRIPTION:
URL:https://www.lifelonglearningcollaborative.org/event/women-leaders/2023-10-09/
LOCATION:ZOOM
CATEGORIES:Courses
END:VEVENT
BEGIN:VEVENT
DTSTART;TZID=America/New_York:20231010T100000
DTEND;TZID=America/New_York:20231010T120000
DTSTAMP:20260421T134609
CREATED:20230717T131409Z
LAST-MODIFIED:20230717T131409Z
UID:10000951-1696932000-1696939200@www.lifelonglearningcollaborative.org
SUMMARY:Luminous Things: Big Six
DESCRIPTION:Hybrid: Temple Beth-El and Zoom
URL:https://www.lifelonglearningcollaborative.org/event/luminous-things-big-six/2023-10-10/
LOCATION:Temple Beth-El\, 70 Orchard Avenue\, Providence\, RI\, United States
CATEGORIES:Courses
END:VEVENT
BEGIN:VEVENT
DTSTART;TZID=America/New_York:20231010T100000
DTEND;TZID=America/New_York:20231010T120000
DTSTAMP:20260421T134609
CREATED:20230717T131734Z
LAST-MODIFIED:20230717T132146Z
UID:10001032-1696932000-1696939200@www.lifelonglearningcollaborative.org
SUMMARY:Düsseldorf
DESCRIPTION:
URL:https://www.lifelonglearningcollaborative.org/event/dusseldorf/2023-10-10/
LOCATION:Temple Beth-El\, 70 Orchard Avenue\, Providence\, RI\, United States
CATEGORIES:Courses
END:VEVENT
BEGIN:VEVENT
DTSTART;TZID=America/New_York:20231010T130000
DTEND;TZID=America/New_York:20231010T150000
DTSTAMP:20260421T134609
CREATED:20230717T131842Z
LAST-MODIFIED:20230717T132013Z
UID:10001052-1696942800-1696950000@www.lifelonglearningcollaborative.org
SUMMARY:Classical Music 20th C.
DESCRIPTION:
URL:https://www.lifelonglearningcollaborative.org/event/classical-music-20th-c/2023-10-10/
LOCATION:Temple Beth-El\, 70 Orchard Avenue\, Providence\, RI\, United States
CATEGORIES:Courses
END:VEVENT
BEGIN:VEVENT
DTSTART;TZID=America/New_York:20231010T130000
DTEND;TZID=America/New_York:20231010T150000
DTSTAMP:20260421T134609
CREATED:20230717T132330Z
LAST-MODIFIED:20230717T132330Z
UID:10001072-1696942800-1696950000@www.lifelonglearningcollaborative.org
SUMMARY:Cell Phone Photo Club
DESCRIPTION:
URL:https://www.lifelonglearningcollaborative.org/event/cell-phone-photo-club-2-2/2023-10-10/
LOCATION:Temple Beth-El\, 70 Orchard Avenue\, Providence\, RI\, United States
CATEGORIES:Courses
END:VEVENT
BEGIN:VEVENT
DTSTART;TZID=America/New_York:20231010T151500
DTEND;TZID=America/New_York:20231010T170000
DTSTAMP:20260421T134609
CREATED:20221128T145847Z
LAST-MODIFIED:20230606T122852Z
UID:10000224-1696950900-1696957200@www.lifelonglearningcollaborative.org
SUMMARY:Board Meeting
DESCRIPTION:Board Meetings are usually held the second Tuesday of the month. Board Members receive their Zoom link via email.
URL:https://www.lifelonglearningcollaborative.org/event/board-meeting/2023-10-10/
LOCATION:ZOOM
CATEGORIES:Board Meetings
END:VEVENT
BEGIN:VEVENT
DTSTART;TZID=America/New_York:20231010T151500
DTEND;TZID=America/New_York:20231010T171500
DTSTAMP:20260421T134609
CREATED:20230717T132527Z
LAST-MODIFIED:20230717T132550Z
UID:10001103-1696950900-1696958100@www.lifelonglearningcollaborative.org
SUMMARY:Scrabble
DESCRIPTION:
URL:https://www.lifelonglearningcollaborative.org/event/scrabble-7/2023-10-10/
LOCATION:Temple Beth-El\, 70 Orchard Avenue\, Providence\, RI\, United States
CATEGORIES:Courses
END:VEVENT
BEGIN:VEVENT
DTSTART;TZID=America/New_York:20231011T100000
DTEND;TZID=America/New_York:20231011T120000
DTSTAMP:20260421T134609
CREATED:20230717T132907Z
LAST-MODIFIED:20230717T132912Z
UID:10001122-1697018400-1697025600@www.lifelonglearningcollaborative.org
SUMMARY:US Supreme Court Decisions
DESCRIPTION:
URL:https://www.lifelonglearningcollaborative.org/event/us-supreme-court-decisions/2023-10-11/
LOCATION:ZOOM
CATEGORIES:Courses
END:VEVENT
BEGIN:VEVENT
DTSTART;TZID=America/New_York:20231011T100000
DTEND;TZID=America/New_York:20231011T120000
DTSTAMP:20260421T134609
CREATED:20230717T133007Z
LAST-MODIFIED:20230717T133007Z
UID:10001130-1697018400-1697025600@www.lifelonglearningcollaborative.org
SUMMARY:Gender/Power Plays
DESCRIPTION:
URL:https://www.lifelonglearningcollaborative.org/event/gender-power-plays/2023-10-11/
LOCATION:Temple Beth-El\, 70 Orchard Avenue\, Providence\, RI\, United States
CATEGORIES:Courses
END:VEVENT
BEGIN:VEVENT
DTSTART;TZID=America/New_York:20231011T130000
DTEND;TZID=America/New_York:20231011T150000
DTSTAMP:20260421T134609
CREATED:20230717T133214Z
LAST-MODIFIED:20230717T133247Z
UID:10001158-1697029200-1697036400@www.lifelonglearningcollaborative.org
SUMMARY:Hot Topics
DESCRIPTION:
URL:https://www.lifelonglearningcollaborative.org/event/hot-topics-3-2/2023-10-11/
LOCATION:ZOOM
CATEGORIES:Courses
END:VEVENT
BEGIN:VEVENT
DTSTART;TZID=America/New_York:20231011T130000
DTEND;TZID=America/New_York:20231011T150000
DTSTAMP:20260421T134609
CREATED:20230717T133327Z
LAST-MODIFIED:20230717T133327Z
UID:10001168-1697029200-1697036400@www.lifelonglearningcollaborative.org
SUMMARY:LLC Knits
DESCRIPTION:
URL:https://www.lifelonglearningcollaborative.org/event/llc-knits-3-2/2023-10-11/
LOCATION:Temple Beth-El\, 70 Orchard Avenue\, Providence\, RI\, United States
CATEGORIES:Courses
END:VEVENT
BEGIN:VEVENT
DTSTART;TZID=America/New_York:20231012T100000
DTEND;TZID=America/New_York:20231012T120000
DTSTAMP:20260421T134609
CREATED:20230717T133808Z
LAST-MODIFIED:20230717T133808Z
UID:10001225-1697104800-1697112000@www.lifelonglearningcollaborative.org
SUMMARY:Theater Conversations
DESCRIPTION:
URL:https://www.lifelonglearningcollaborative.org/event/theater-conversations/2023-10-12/
LOCATION:Temple Beth-El\, 70 Orchard Avenue\, Providence\, RI\, United States
CATEGORIES:Courses
END:VEVENT
END:VCALENDAR