BEGIN:VCALENDAR
VERSION:2.0
PRODID:-//Lifelong Learning Collaborative - ECPv6.15.12.2//NONSGML v1.0//EN
CALSCALE:GREGORIAN
METHOD:PUBLISH
X-ORIGINAL-URL:https://www.lifelonglearningcollaborative.org
X-WR-CALDESC:Events for Lifelong Learning Collaborative
REFRESH-INTERVAL;VALUE=DURATION:PT1H
X-Robots-Tag:noindex
X-PUBLISHED-TTL:PT1H
BEGIN:VTIMEZONE
TZID:America/New_York
BEGIN:DAYLIGHT
TZOFFSETFROM:-0500
TZOFFSETTO:-0400
TZNAME:EDT
DTSTART:20230312T070000
END:DAYLIGHT
BEGIN:STANDARD
TZOFFSETFROM:-0400
TZOFFSETTO:-0500
TZNAME:EST
DTSTART:20231105T060000
END:STANDARD
BEGIN:DAYLIGHT
TZOFFSETFROM:-0500
TZOFFSETTO:-0400
TZNAME:EDT
DTSTART:20240310T070000
END:DAYLIGHT
BEGIN:STANDARD
TZOFFSETFROM:-0400
TZOFFSETTO:-0500
TZNAME:EST
DTSTART:20241103T060000
END:STANDARD
BEGIN:DAYLIGHT
TZOFFSETFROM:-0500
TZOFFSETTO:-0400
TZNAME:EDT
DTSTART:20250309T070000
END:DAYLIGHT
BEGIN:STANDARD
TZOFFSETFROM:-0400
TZOFFSETTO:-0500
TZNAME:EST
DTSTART:20251102T060000
END:STANDARD
END:VTIMEZONE
BEGIN:VEVENT
DTSTART;TZID=America/New_York:20240410T100000
DTEND;TZID=America/New_York:20240410T120000
DTSTAMP:20260421T192008
CREATED:20240129T131213Z
LAST-MODIFIED:20240129T131213Z
UID:10001647-1712743200-1712750400@www.lifelonglearningcollaborative.org
SUMMARY:Contemporary Plays
DESCRIPTION:
URL:https://www.lifelonglearningcollaborative.org/event/contemporary-plays/2024-04-10/
LOCATION:Temple Beth-El\, 70 Orchard Avenue\, Providence\, RI\, United States
CATEGORIES:Courses
END:VEVENT
BEGIN:VEVENT
DTSTART;TZID=America/New_York:20240410T100000
DTEND;TZID=America/New_York:20240410T120000
DTSTAMP:20260421T192008
CREATED:20240129T131310Z
LAST-MODIFIED:20240129T131310Z
UID:10001657-1712743200-1712750400@www.lifelonglearningcollaborative.org
SUMMARY:Structures
DESCRIPTION:
URL:https://www.lifelonglearningcollaborative.org/event/structures/2024-04-10/
LOCATION:Temple Beth-El\, 70 Orchard Avenue\, Providence\, RI\, United States
CATEGORIES:Courses
END:VEVENT
BEGIN:VEVENT
DTSTART;TZID=America/New_York:20240410T100000
DTEND;TZID=America/New_York:20240410T120000
DTSTAMP:20260421T192008
CREATED:20240129T131416Z
LAST-MODIFIED:20240129T131416Z
UID:10001667-1712743200-1712750400@www.lifelonglearningcollaborative.org
SUMMARY:Write On Workshop
DESCRIPTION:
URL:https://www.lifelonglearningcollaborative.org/event/write-on-workshop/2024-04-10/
LOCATION:Regency Plaza Apartments\, RI\, United States
CATEGORIES:Courses
END:VEVENT
BEGIN:VEVENT
DTSTART;TZID=America/New_York:20240410T100000
DTEND;TZID=America/New_York:20240410T120000
DTSTAMP:20260421T192008
CREATED:20240129T131520Z
LAST-MODIFIED:20240129T131520Z
UID:10001677-1712743200-1712750400@www.lifelonglearningcollaborative.org
SUMMARY:Paint Like a Woman
DESCRIPTION:
URL:https://www.lifelonglearningcollaborative.org/event/paint-like-a-woman/2024-04-10/
LOCATION:Temple Beth-El\, 70 Orchard Avenue\, Providence\, RI\, United States
CATEGORIES:Courses
END:VEVENT
BEGIN:VEVENT
DTSTART;TZID=America/New_York:20240410T120000
DTEND;TZID=America/New_York:20240410T150000
DTSTAMP:20260421T192008
CREATED:20240129T131817Z
LAST-MODIFIED:20240129T131817Z
UID:10001697-1712750400-1712761200@www.lifelonglearningcollaborative.org
SUMMARY:B&W Photography
DESCRIPTION:
URL:https://www.lifelonglearningcollaborative.org/event/bw-photography/2024-04-10/
LOCATION:Temple Beth-El\, 70 Orchard Avenue\, Providence\, RI\, United States
CATEGORIES:Courses
END:VEVENT
BEGIN:VEVENT
DTSTART;TZID=America/New_York:20240410T130000
DTEND;TZID=America/New_York:20240410T150000
DTSTAMP:20260421T192008
CREATED:20240129T131942Z
LAST-MODIFIED:20240129T131942Z
UID:10001707-1712754000-1712761200@www.lifelonglearningcollaborative.org
SUMMARY:Hot Topics
DESCRIPTION:
URL:https://www.lifelonglearningcollaborative.org/event/hot-topics-3-4/2024-04-10/
LOCATION:Temple Beth-El\, 70 Orchard Avenue\, Providence\, RI\, United States
CATEGORIES:Courses
END:VEVENT
BEGIN:VEVENT
DTSTART;TZID=America/New_York:20240410T130000
DTEND;TZID=America/New_York:20240410T150000
DTSTAMP:20260421T192008
CREATED:20240129T132041Z
LAST-MODIFIED:20240129T132041Z
UID:10001716-1712754000-1712761200@www.lifelonglearningcollaborative.org
SUMMARY:Wilson Plays
DESCRIPTION:
URL:https://www.lifelonglearningcollaborative.org/event/wilson-plays/2024-04-10/
LOCATION:Temple Beth-El\, 70 Orchard Avenue\, Providence\, RI\, United States
CATEGORIES:Courses
END:VEVENT
BEGIN:VEVENT
DTSTART;TZID=America/New_York:20240410T130000
DTEND;TZID=America/New_York:20240410T150000
DTSTAMP:20260421T192008
CREATED:20240129T132153Z
LAST-MODIFIED:20240129T132153Z
UID:10001726-1712754000-1712761200@www.lifelonglearningcollaborative.org
SUMMARY:LLC Knits
DESCRIPTION:
URL:https://www.lifelonglearningcollaborative.org/event/llc-knits-3-4/2024-04-10/
LOCATION:Temple Beth-El\, 70 Orchard Avenue\, Providence\, RI\, United States
CATEGORIES:Courses
END:VEVENT
BEGIN:VEVENT
DTSTART;TZID=America/New_York:20240411T080000
DTEND;TZID=America/New_York:20240411T170000
DTSTAMP:20260421T192008
CREATED:20240129T132743Z
LAST-MODIFIED:20240129T132743Z
UID:10001767-1712822400-1712854800@www.lifelonglearningcollaborative.org
SUMMARY:Prov Libraries
DESCRIPTION:
URL:https://www.lifelonglearningcollaborative.org/event/prov-libraries/2024-04-11/
CATEGORIES:Courses
END:VEVENT
BEGIN:VEVENT
DTSTART;TZID=America/New_York:20240411T100000
DTEND;TZID=America/New_York:20240411T120000
DTSTAMP:20260421T192008
CREATED:20240129T132418Z
LAST-MODIFIED:20240129T132418Z
UID:10001737-1712829600-1712836800@www.lifelonglearningcollaborative.org
SUMMARY:Theater Conversations
DESCRIPTION:
URL:https://www.lifelonglearningcollaborative.org/event/theater-conversations-2/2024-04-11/
LOCATION:Temple Beth-El\, 70 Orchard Avenue\, Providence\, RI\, United States
CATEGORIES:Courses
END:VEVENT
BEGIN:VEVENT
DTSTART;TZID=America/New_York:20240411T100000
DTEND;TZID=America/New_York:20240411T120000
DTSTAMP:20260421T192008
CREATED:20240129T132516Z
LAST-MODIFIED:20240129T132516Z
UID:10001747-1712829600-1712836800@www.lifelonglearningcollaborative.org
SUMMARY:Connections TBE
DESCRIPTION:
URL:https://www.lifelonglearningcollaborative.org/event/connections-tbe/2024-04-11/
LOCATION:Temple Beth-El\, 70 Orchard Avenue\, Providence\, RI\, United States
CATEGORIES:Courses
END:VEVENT
BEGIN:VEVENT
DTSTART;TZID=America/New_York:20240411T130000
DTEND;TZID=America/New_York:20240411T150000
DTSTAMP:20260421T192008
CREATED:20240129T132650Z
LAST-MODIFIED:20240129T132650Z
UID:10001757-1712840400-1712847600@www.lifelonglearningcollaborative.org
SUMMARY:Writing a Memoir
DESCRIPTION:
URL:https://www.lifelonglearningcollaborative.org/event/writing-a-memoir-3-3/2024-04-11/
LOCATION:Temple Beth-El\, 70 Orchard Avenue\, Providence\, RI\, United States
CATEGORIES:Courses
END:VEVENT
BEGIN:VEVENT
DTSTART;TZID=America/New_York:20240412T100000
DTEND;TZID=America/New_York:20240412T120000
DTSTAMP:20260421T192008
CREATED:20240129T133243Z
LAST-MODIFIED:20240129T133243Z
UID:10001784-1712916000-1712923200@www.lifelonglearningcollaborative.org
SUMMARY:Public Art & the City
DESCRIPTION:
URL:https://www.lifelonglearningcollaborative.org/event/public-art-the-city/2024-04-12/
LOCATION:Temple Beth-El\, 70 Orchard Avenue\, Providence\, RI\, United States
CATEGORIES:Courses
END:VEVENT
BEGIN:VEVENT
DTSTART;TZID=America/New_York:20240412T100000
DTEND;TZID=America/New_York:20240412T230000
DTSTAMP:20260421T192008
CREATED:20240129T133040Z
LAST-MODIFIED:20240426T124858Z
UID:10001778-1712916000-1712962800@www.lifelonglearningcollaborative.org
SUMMARY:Get Fit at Home
DESCRIPTION:
URL:https://www.lifelonglearningcollaborative.org/event/get-fit-at-home-3-5/2024-04-12/
LOCATION:ZOOM
CATEGORIES:Courses
END:VEVENT
BEGIN:VEVENT
DTSTART;TZID=America/New_York:20240415T100000
DTEND;TZID=America/New_York:20240415T120000
DTSTAMP:20260421T192008
CREATED:20240129T130121Z
LAST-MODIFIED:20240129T130121Z
UID:10001580-1713175200-1713182400@www.lifelonglearningcollaborative.org
SUMMARY:Open Studio Art
DESCRIPTION:
URL:https://www.lifelonglearningcollaborative.org/event/open-studio-art-12/2024-04-15/
LOCATION:ZOOM
CATEGORIES:Courses
END:VEVENT
BEGIN:VEVENT
DTSTART;TZID=America/New_York:20240416T100000
DTEND;TZID=America/New_York:20240416T120000
DTSTAMP:20260421T192008
CREATED:20240129T130221Z
LAST-MODIFIED:20240129T130246Z
UID:10001590-1713261600-1713268800@www.lifelonglearningcollaborative.org
SUMMARY:Overlooked No More
DESCRIPTION:
URL:https://www.lifelonglearningcollaborative.org/event/overlooked-no-more/2024-04-16/
LOCATION:Temple Beth-El\, 70 Orchard Avenue\, Providence\, RI\, United States
CATEGORIES:Courses
END:VEVENT
BEGIN:VEVENT
DTSTART;TZID=America/New_York:20240416T100000
DTEND;TZID=America/New_York:20240416T120000
DTSTAMP:20260421T192008
CREATED:20240129T130504Z
LAST-MODIFIED:20240305T141052Z
UID:10001599-1713261600-1713268800@www.lifelonglearningcollaborative.org
SUMMARY:Opera Ensembles
DESCRIPTION:
URL:https://www.lifelonglearningcollaborative.org/event/opera-ensembles/2024-04-16/
LOCATION:Temple Beth-El\, 70 Orchard Avenue\, Providence\, RI\, United States
CATEGORIES:Courses
END:VEVENT
BEGIN:VEVENT
DTSTART;TZID=America/New_York:20240416T100000
DTEND;TZID=America/New_York:20240416T120000
DTSTAMP:20260421T192008
CREATED:20240129T130634Z
LAST-MODIFIED:20240305T141151Z
UID:10001608-1713261600-1713268800@www.lifelonglearningcollaborative.org
SUMMARY:A.I. Hybrid
DESCRIPTION:
URL:https://www.lifelonglearningcollaborative.org/event/a-i-hybrid/2024-04-16/
LOCATION:Temple Beth-El\, 70 Orchard Avenue\, Providence\, RI\, United States
CATEGORIES:Courses
END:VEVENT
BEGIN:VEVENT
DTSTART;TZID=America/New_York:20240416T100000
DTEND;TZID=America/New_York:20240416T120000
DTSTAMP:20260421T192008
CREATED:20240129T130805Z
LAST-MODIFIED:20240129T130805Z
UID:10001617-1713261600-1713268800@www.lifelonglearningcollaborative.org
SUMMARY:Connections (Zoom)
DESCRIPTION:
URL:https://www.lifelonglearningcollaborative.org/event/connections-zoom/2024-04-16/
LOCATION:ZOOM
CATEGORIES:Courses
END:VEVENT
BEGIN:VEVENT
DTSTART;TZID=America/New_York:20240416T130000
DTEND;TZID=America/New_York:20240416T150000
DTSTAMP:20260421T192008
CREATED:20240129T130911Z
LAST-MODIFIED:20240305T141222Z
UID:10001627-1713272400-1713279600@www.lifelonglearningcollaborative.org
SUMMARY:Cell Phone Photo
DESCRIPTION:
URL:https://www.lifelonglearningcollaborative.org/event/cell-phone-photo-2/2024-04-16/
LOCATION:Temple Beth-El\, 70 Orchard Avenue\, Providence\, RI\, United States
CATEGORIES:Courses
END:VEVENT
BEGIN:VEVENT
DTSTART;TZID=America/New_York:20240416T151500
DTEND;TZID=America/New_York:20240416T171500
DTSTAMP:20260421T192008
CREATED:20240129T131129Z
LAST-MODIFIED:20240305T141247Z
UID:10001638-1713280500-1713287700@www.lifelonglearningcollaborative.org
SUMMARY:Scrabble
DESCRIPTION:
URL:https://www.lifelonglearningcollaborative.org/event/scrabble-11/2024-04-16/
LOCATION:Temple Beth-El\, 70 Orchard Avenue\, Providence\, RI\, United States
CATEGORIES:Courses
END:VEVENT
BEGIN:VEVENT
DTSTART;TZID=America/New_York:20240417T100000
DTEND;TZID=America/New_York:20240417T120000
DTSTAMP:20260421T192008
CREATED:20240129T131213Z
LAST-MODIFIED:20240129T131213Z
UID:10001648-1713348000-1713355200@www.lifelonglearningcollaborative.org
SUMMARY:Contemporary Plays
DESCRIPTION:
URL:https://www.lifelonglearningcollaborative.org/event/contemporary-plays/2024-04-17/
LOCATION:Temple Beth-El\, 70 Orchard Avenue\, Providence\, RI\, United States
CATEGORIES:Courses
END:VEVENT
BEGIN:VEVENT
DTSTART;TZID=America/New_York:20240417T100000
DTEND;TZID=America/New_York:20240417T120000
DTSTAMP:20260421T192008
CREATED:20240129T131310Z
LAST-MODIFIED:20240129T131310Z
UID:10001658-1713348000-1713355200@www.lifelonglearningcollaborative.org
SUMMARY:Structures
DESCRIPTION:
URL:https://www.lifelonglearningcollaborative.org/event/structures/2024-04-17/
LOCATION:Temple Beth-El\, 70 Orchard Avenue\, Providence\, RI\, United States
CATEGORIES:Courses
END:VEVENT
BEGIN:VEVENT
DTSTART;TZID=America/New_York:20240417T100000
DTEND;TZID=America/New_York:20240417T120000
DTSTAMP:20260421T192008
CREATED:20240129T131416Z
LAST-MODIFIED:20240129T131416Z
UID:10001668-1713348000-1713355200@www.lifelonglearningcollaborative.org
SUMMARY:Write On Workshop
DESCRIPTION:
URL:https://www.lifelonglearningcollaborative.org/event/write-on-workshop/2024-04-17/
LOCATION:Regency Plaza Apartments\, RI\, United States
CATEGORIES:Courses
END:VEVENT
BEGIN:VEVENT
DTSTART;TZID=America/New_York:20240417T100000
DTEND;TZID=America/New_York:20240417T120000
DTSTAMP:20260421T192008
CREATED:20240129T131520Z
LAST-MODIFIED:20240129T131520Z
UID:10001678-1713348000-1713355200@www.lifelonglearningcollaborative.org
SUMMARY:Paint Like a Woman
DESCRIPTION:
URL:https://www.lifelonglearningcollaborative.org/event/paint-like-a-woman/2024-04-17/
LOCATION:Temple Beth-El\, 70 Orchard Avenue\, Providence\, RI\, United States
CATEGORIES:Courses
END:VEVENT
BEGIN:VEVENT
DTSTART;TZID=America/New_York:20240417T120000
DTEND;TZID=America/New_York:20240417T150000
DTSTAMP:20260421T192008
CREATED:20240129T131817Z
LAST-MODIFIED:20240129T131817Z
UID:10001698-1713355200-1713366000@www.lifelonglearningcollaborative.org
SUMMARY:B&W Photography
DESCRIPTION:
URL:https://www.lifelonglearningcollaborative.org/event/bw-photography/2024-04-17/
LOCATION:Temple Beth-El\, 70 Orchard Avenue\, Providence\, RI\, United States
CATEGORIES:Courses
END:VEVENT
BEGIN:VEVENT
DTSTART;TZID=America/New_York:20240417T130000
DTEND;TZID=America/New_York:20240417T150000
DTSTAMP:20260421T192008
CREATED:20240129T131942Z
LAST-MODIFIED:20240129T131942Z
UID:10001708-1713358800-1713366000@www.lifelonglearningcollaborative.org
SUMMARY:Hot Topics
DESCRIPTION:
URL:https://www.lifelonglearningcollaborative.org/event/hot-topics-3-4/2024-04-17/
LOCATION:Temple Beth-El\, 70 Orchard Avenue\, Providence\, RI\, United States
CATEGORIES:Courses
END:VEVENT
BEGIN:VEVENT
DTSTART;TZID=America/New_York:20240417T130000
DTEND;TZID=America/New_York:20240417T150000
DTSTAMP:20260421T192008
CREATED:20240129T132041Z
LAST-MODIFIED:20240129T132041Z
UID:10001717-1713358800-1713366000@www.lifelonglearningcollaborative.org
SUMMARY:Wilson Plays
DESCRIPTION:
URL:https://www.lifelonglearningcollaborative.org/event/wilson-plays/2024-04-17/
LOCATION:Temple Beth-El\, 70 Orchard Avenue\, Providence\, RI\, United States
CATEGORIES:Courses
END:VEVENT
BEGIN:VEVENT
DTSTART;TZID=America/New_York:20240417T130000
DTEND;TZID=America/New_York:20240417T150000
DTSTAMP:20260421T192008
CREATED:20240129T132153Z
LAST-MODIFIED:20240129T132153Z
UID:10001727-1713358800-1713366000@www.lifelonglearningcollaborative.org
SUMMARY:LLC Knits
DESCRIPTION:
URL:https://www.lifelonglearningcollaborative.org/event/llc-knits-3-4/2024-04-17/
LOCATION:Temple Beth-El\, 70 Orchard Avenue\, Providence\, RI\, United States
CATEGORIES:Courses
END:VEVENT
BEGIN:VEVENT
DTSTART;TZID=America/New_York:20240417T160000
DTEND;TZID=America/New_York:20240417T170000
DTSTAMP:20260421T192008
CREATED:20240227T153346Z
LAST-MODIFIED:20240227T153346Z
UID:10001805-1713369600-1713373200@www.lifelonglearningcollaborative.org
SUMMARY:Brown Bag Webinar w/ Andrew Starcevic\, Peace Corps Regional Recruiter
DESCRIPTION:If you’ve ever fantasized as a Senior about what it might be like to stop the world for a while and have the adventure of a lifetime by joining the Peace Corps\, or just wondered what it was like for others\, here’s a great opportunity to find out and ask questions. Serving in the Peace Corps is a great way to become part of a community overseas\, learn a new language\, and make a lasting impact. \nJoin us to learn more about the Peace Corps from a returned Volunteer\, Andrew Starcevic\, who served in Namibia on the southwestern coast of Africa. You’ll have the opportunity to ask questions about service and gain tips to guide you through the application process. \nPeace Corps Regional Recruiter Andrew Starcevic served as a Peace Corps volunteer in Namibia. During his time as a volunteer\, he lived in a rural farming community and taught English at the local primary school. Andrew’s favorite memory from service is the time spent playing soccer after school with friends in the host community.
URL:https://www.lifelonglearningcollaborative.org/event/brown-bag-webinar-w-andrew-starcevic-peace-corps-regional-recruiter/
LOCATION:ZOOM
CATEGORIES:Free Webinars
END:VEVENT
END:VCALENDAR