BEGIN:VCALENDAR
VERSION:2.0
PRODID:-//Lifelong Learning Collaborative - ECPv6.15.12.2//NONSGML v1.0//EN
CALSCALE:GREGORIAN
METHOD:PUBLISH
X-WR-CALNAME:Lifelong Learning Collaborative
X-ORIGINAL-URL:https://www.lifelonglearningcollaborative.org
X-WR-CALDESC:Events for Lifelong Learning Collaborative
REFRESH-INTERVAL;VALUE=DURATION:PT1H
X-Robots-Tag:noindex
X-PUBLISHED-TTL:PT1H
BEGIN:VTIMEZONE
TZID:America/New_York
BEGIN:DAYLIGHT
TZOFFSETFROM:-0500
TZOFFSETTO:-0400
TZNAME:EDT
DTSTART:20250309T070000
END:DAYLIGHT
BEGIN:STANDARD
TZOFFSETFROM:-0400
TZOFFSETTO:-0500
TZNAME:EST
DTSTART:20251102T060000
END:STANDARD
BEGIN:DAYLIGHT
TZOFFSETFROM:-0500
TZOFFSETTO:-0400
TZNAME:EDT
DTSTART:20260308T070000
END:DAYLIGHT
BEGIN:STANDARD
TZOFFSETFROM:-0400
TZOFFSETTO:-0500
TZNAME:EST
DTSTART:20261101T060000
END:STANDARD
BEGIN:DAYLIGHT
TZOFFSETFROM:-0500
TZOFFSETTO:-0400
TZNAME:EDT
DTSTART:20270314T070000
END:DAYLIGHT
BEGIN:STANDARD
TZOFFSETFROM:-0400
TZOFFSETTO:-0500
TZNAME:EST
DTSTART:20271107T060000
END:STANDARD
END:VTIMEZONE
BEGIN:VEVENT
DTSTART;TZID=America/New_York:20260210T130000
DTEND;TZID=America/New_York:20260210T150000
DTSTAMP:20260419T232621
CREATED:20251125T141753Z
LAST-MODIFIED:20251125T141753Z
UID:10003781-1770728400-1770735600@www.lifelonglearningcollaborative.org
SUMMARY:Cell Phone Photo Club
DESCRIPTION:
URL:https://www.lifelonglearningcollaborative.org/event/cell-phone-photo-club-2-9/
LOCATION:Shriners Center\, 1 Rhodes Place\, Cranston\, RI\, 02905\, United States
CATEGORIES:Courses
END:VEVENT
BEGIN:VEVENT
DTSTART;TZID=America/New_York:20260210T130000
DTEND;TZID=America/New_York:20260210T150000
DTSTAMP:20260419T232621
CREATED:20251125T141919Z
LAST-MODIFIED:20251125T141919Z
UID:10003786-1770728400-1770735600@www.lifelonglearningcollaborative.org
SUMMARY:Jewish Baking
DESCRIPTION:Private Residence in Providence
URL:https://www.lifelonglearningcollaborative.org/event/jewish-baking/2026-02-10/
CATEGORIES:Courses
END:VEVENT
BEGIN:VEVENT
DTSTART;TZID=America/New_York:20260211T100000
DTEND;TZID=America/New_York:20260211T120000
DTSTAMP:20260419T232621
CREATED:20251125T142038Z
LAST-MODIFIED:20251125T142038Z
UID:10003796-1770804000-1770811200@www.lifelonglearningcollaborative.org
SUMMARY:How Things Are Made HYBRID
DESCRIPTION:Shriners or Zoom
URL:https://www.lifelonglearningcollaborative.org/event/how-things-are-made-hybrid-2-2/2026-02-11/
LOCATION:Shriners Center\, 1 Rhodes Place\, Cranston\, RI\, 02905\, United States
CATEGORIES:Courses
END:VEVENT
BEGIN:VEVENT
DTSTART;TZID=America/New_York:20260211T100000
DTEND;TZID=America/New_York:20260211T120000
DTSTAMP:20260419T232621
CREATED:20251125T142121Z
LAST-MODIFIED:20251125T142121Z
UID:10003803-1770804000-1770811200@www.lifelonglearningcollaborative.org
SUMMARY:Reading Plays Aloud
DESCRIPTION:
URL:https://www.lifelonglearningcollaborative.org/event/reading-plays-aloud-2-2/2026-02-11/
LOCATION:Shriners Center\, 1 Rhodes Place\, Cranston\, RI\, 02905\, United States
CATEGORIES:Courses
END:VEVENT
BEGIN:VEVENT
DTSTART;TZID=America/New_York:20260211T100000
DTEND;TZID=America/New_York:20260211T120000
DTSTAMP:20260419T232621
CREATED:20251125T142217Z
LAST-MODIFIED:20251125T142217Z
UID:10003809-1770804000-1770811200@www.lifelonglearningcollaborative.org
SUMMARY:America's Presidents
DESCRIPTION:
URL:https://www.lifelonglearningcollaborative.org/event/americas-presidents/2026-02-11/
LOCATION:ZOOM
CATEGORIES:Courses
END:VEVENT
BEGIN:VEVENT
DTSTART;TZID=America/New_York:20260211T130000
DTEND;TZID=America/New_York:20260211T150000
DTSTAMP:20260419T232621
CREATED:20251125T142451Z
LAST-MODIFIED:20251125T142451Z
UID:10003817-1770814800-1770822000@www.lifelonglearningcollaborative.org
SUMMARY:Hot Topics
DESCRIPTION:
URL:https://www.lifelonglearningcollaborative.org/event/hot-topics-3-9/2026-02-11/
LOCATION:ZOOM
CATEGORIES:Courses
END:VEVENT
BEGIN:VEVENT
DTSTART;TZID=America/New_York:20260211T130000
DTEND;TZID=America/New_York:20260211T150000
DTSTAMP:20260419T232621
CREATED:20251125T142720Z
LAST-MODIFIED:20251125T142720Z
UID:10003825-1770814800-1770822000@www.lifelonglearningcollaborative.org
SUMMARY:Roman Empire
DESCRIPTION:
URL:https://www.lifelonglearningcollaborative.org/event/roman-empire/2026-02-11/
LOCATION:ZOOM
CATEGORIES:Courses
END:VEVENT
BEGIN:VEVENT
DTSTART;TZID=America/New_York:20260211T130000
DTEND;TZID=America/New_York:20260211T150000
DTSTAMP:20260419T232621
CREATED:20251125T142939Z
LAST-MODIFIED:20251125T142939Z
UID:10003833-1770814800-1770822000@www.lifelonglearningcollaborative.org
SUMMARY:LLC Knits
DESCRIPTION:
URL:https://www.lifelonglearningcollaborative.org/event/llc-knits-3-7/2026-02-11/
LOCATION:Shriners Center\, 1 Rhodes Place\, Cranston\, RI\, 02905\, United States
CATEGORIES:Courses
END:VEVENT
BEGIN:VEVENT
DTSTART;TZID=America/New_York:20260212T100000
DTEND;TZID=America/New_York:20260212T120000
DTSTAMP:20260419T232621
CREATED:20251125T143211Z
LAST-MODIFIED:20251125T143211Z
UID:10003841-1770890400-1770897600@www.lifelonglearningcollaborative.org
SUMMARY:Science for Our Time HYBRID
DESCRIPTION:Shriners and on Zoom
URL:https://www.lifelonglearningcollaborative.org/event/science-for-our-time-hybrid/2026-02-12/
LOCATION:Shriners Center\, 1 Rhodes Place\, Cranston\, RI\, 02905\, United States
CATEGORIES:Courses
END:VEVENT
BEGIN:VEVENT
DTSTART;TZID=America/New_York:20260212T100000
DTEND;TZID=America/New_York:20260212T120000
DTSTAMP:20260419T232621
CREATED:20251125T143348Z
LAST-MODIFIED:20251125T143348Z
UID:10003849-1770890400-1770897600@www.lifelonglearningcollaborative.org
SUMMARY:O.Henry Stories
DESCRIPTION:
URL:https://www.lifelonglearningcollaborative.org/event/o-henry-stories/2026-02-12/
LOCATION:Shriners Center\, 1 Rhodes Place\, Cranston\, RI\, 02905\, United States
CATEGORIES:Courses
END:VEVENT
BEGIN:VEVENT
DTSTART;TZID=America/New_York:20260212T130000
DTEND;TZID=America/New_York:20260212T150000
DTSTAMP:20260419T232621
CREATED:20251125T143520Z
LAST-MODIFIED:20251125T143520Z
UID:10003857-1770901200-1770908400@www.lifelonglearningcollaborative.org
SUMMARY:Writing a Memoir (Shriners)
DESCRIPTION:
URL:https://www.lifelonglearningcollaborative.org/event/writing-a-memoir-shriners/2026-02-12/
LOCATION:Shriners Center\, 1 Rhodes Place\, Cranston\, RI\, 02905\, United States
CATEGORIES:Courses
END:VEVENT
BEGIN:VEVENT
DTSTART;TZID=America/New_York:20260212T130000
DTEND;TZID=America/New_York:20260212T150000
DTSTAMP:20260419T232621
CREATED:20251125T143611Z
LAST-MODIFIED:20251125T143611Z
UID:10003865-1770901200-1770908400@www.lifelonglearningcollaborative.org
SUMMARY:Collage Making
DESCRIPTION:
URL:https://www.lifelonglearningcollaborative.org/event/collage-making/2026-02-12/
LOCATION:Shriners Center\, 1 Rhodes Place\, Cranston\, RI\, 02905\, United States
CATEGORIES:Courses
END:VEVENT
BEGIN:VEVENT
DTSTART;TZID=America/New_York:20260212T130000
DTEND;TZID=America/New_York:20260212T150000
DTSTAMP:20260419T232621
CREATED:20251125T144029Z
LAST-MODIFIED:20251125T144029Z
UID:10003882-1770901200-1770908400@www.lifelonglearningcollaborative.org
SUMMARY:Ukraine
DESCRIPTION:Shriners and on Zoom
URL:https://www.lifelonglearningcollaborative.org/event/ukraine-2-2/2026-02-12/
LOCATION:Shriners Center\, 1 Rhodes Place\, Cranston\, RI\, 02905\, United States
CATEGORIES:Courses
END:VEVENT
BEGIN:VEVENT
DTSTART;TZID=America/New_York:20260213T100000
DTEND;TZID=America/New_York:20260213T110000
DTSTAMP:20260419T232621
CREATED:20251125T144132Z
LAST-MODIFIED:20251125T144132Z
UID:10003890-1770976800-1770980400@www.lifelonglearningcollaborative.org
SUMMARY:Personal Training at Home
DESCRIPTION:
URL:https://www.lifelonglearningcollaborative.org/event/personal-training-at-home/2026-02-13/
LOCATION:ZOOM
CATEGORIES:Courses
END:VEVENT
BEGIN:VEVENT
DTSTART;TZID=America/New_York:20260216T100000
DTEND;TZID=America/New_York:20260216T120000
DTSTAMP:20260419T232621
CREATED:20251124T212145Z
LAST-MODIFIED:20251124T212658Z
UID:10003720-1771236000-1771243200@www.lifelonglearningcollaborative.org
SUMMARY:Open Studio Art (Zoom)
DESCRIPTION:
URL:https://www.lifelonglearningcollaborative.org/event/open-studio-art-zoom-2-5/2026-02-16/
LOCATION:ZOOM
CATEGORIES:Courses
END:VEVENT
BEGIN:VEVENT
DTSTART;TZID=America/New_York:20260216T100000
DTEND;TZID=America/New_York:20260216T120000
DTSTAMP:20260419T232621
CREATED:20251125T140258Z
LAST-MODIFIED:20251125T140258Z
UID:10003727-1771236000-1771243200@www.lifelonglearningcollaborative.org
SUMMARY:Great Decisions 2026
DESCRIPTION:
URL:https://www.lifelonglearningcollaborative.org/event/great-decisions-2026/2026-02-16/
LOCATION:ZOOM
CATEGORIES:Courses
END:VEVENT
BEGIN:VEVENT
DTSTART;TZID=America/New_York:20260216T130000
DTEND;TZID=America/New_York:20260216T150000
DTSTAMP:20260419T232621
CREATED:20251125T140356Z
LAST-MODIFIED:20251125T140356Z
UID:10003736-1771246800-1771254000@www.lifelonglearningcollaborative.org
SUMMARY:Literary Rx
DESCRIPTION:
URL:https://www.lifelonglearningcollaborative.org/event/literary-rx/2026-02-16/
LOCATION:international house of rhode island\, 8 Stimson Avenue\, Providence\, RI\, 02906\, United States
CATEGORIES:Courses
END:VEVENT
BEGIN:VEVENT
DTSTART;TZID=America/New_York:20260217T100000
DTEND;TZID=America/New_York:20260217T120000
DTSTAMP:20260419T232621
CREATED:20251125T140815Z
LAST-MODIFIED:20251125T140815Z
UID:10003764-1771322400-1771329600@www.lifelonglearningcollaborative.org
SUMMARY:Guys & Dolls
DESCRIPTION:
URL:https://www.lifelonglearningcollaborative.org/event/guys-dolls/2026-02-17/
LOCATION:ZOOM
CATEGORIES:Courses
END:VEVENT
BEGIN:VEVENT
DTSTART;TZID=America/New_York:20260217T100000
DTEND;TZID=America/New_York:20260217T120000
DTSTAMP:20260419T232621
CREATED:20251125T141124Z
LAST-MODIFIED:20251125T141124Z
UID:10003770-1771322400-1771329600@www.lifelonglearningcollaborative.org
SUMMARY:Writing a Memoir (Zoom)
DESCRIPTION:
URL:https://www.lifelonglearningcollaborative.org/event/writing-a-memoir-zoom-2-3/2026-02-17/
LOCATION:ZOOM
CATEGORIES:Courses
END:VEVENT
BEGIN:VEVENT
DTSTART;TZID=America/New_York:20260217T100000
DTEND;TZID=America/New_York:20260217T123000
DTSTAMP:20260419T232621
CREATED:20251125T140626Z
LAST-MODIFIED:20251125T140626Z
UID:10003748-1771322400-1771331400@www.lifelonglearningcollaborative.org
SUMMARY:Open Studio Art @ Shriners
DESCRIPTION:
URL:https://www.lifelonglearningcollaborative.org/event/open-studio-art-shriners/2026-02-17/
LOCATION:Shriners Center\, 1 Rhodes Place\, Cranston\, RI\, 02905\, United States
CATEGORIES:Courses
END:VEVENT
BEGIN:VEVENT
DTSTART;TZID=America/New_York:20260217T100000
DTEND;TZID=America/New_York:20260217T123000
DTSTAMP:20260419T232621
CREATED:20251125T140731Z
LAST-MODIFIED:20251125T140731Z
UID:10003756-1771322400-1771331400@www.lifelonglearningcollaborative.org
SUMMARY:Scrabble
DESCRIPTION:
URL:https://www.lifelonglearningcollaborative.org/event/scrabble-23/2026-02-17/
LOCATION:Shriners Center\, 1 Rhodes Place\, Cranston\, RI\, 02905\, United States
CATEGORIES:Courses
END:VEVENT
BEGIN:VEVENT
DTSTART;TZID=America/New_York:20260217T130000
DTEND;TZID=America/New_York:20260217T150000
DTSTAMP:20260419T232621
CREATED:20251125T141919Z
LAST-MODIFIED:20251125T141919Z
UID:10003787-1771333200-1771340400@www.lifelonglearningcollaborative.org
SUMMARY:Jewish Baking
DESCRIPTION:Private Residence in Providence
URL:https://www.lifelonglearningcollaborative.org/event/jewish-baking/2026-02-17/
CATEGORIES:Courses
END:VEVENT
BEGIN:VEVENT
DTSTART;TZID=America/New_York:20260218T100000
DTEND;TZID=America/New_York:20260218T120000
DTSTAMP:20260419T232621
CREATED:20251125T142038Z
LAST-MODIFIED:20251125T142038Z
UID:10003797-1771408800-1771416000@www.lifelonglearningcollaborative.org
SUMMARY:How Things Are Made HYBRID
DESCRIPTION:Shriners or Zoom
URL:https://www.lifelonglearningcollaborative.org/event/how-things-are-made-hybrid-2-2/2026-02-18/
LOCATION:Shriners Center\, 1 Rhodes Place\, Cranston\, RI\, 02905\, United States
CATEGORIES:Courses
END:VEVENT
BEGIN:VEVENT
DTSTART;TZID=America/New_York:20260218T100000
DTEND;TZID=America/New_York:20260218T120000
DTSTAMP:20260419T232621
CREATED:20251125T142217Z
LAST-MODIFIED:20251125T142217Z
UID:10003810-1771408800-1771416000@www.lifelonglearningcollaborative.org
SUMMARY:America's Presidents
DESCRIPTION:
URL:https://www.lifelonglearningcollaborative.org/event/americas-presidents/2026-02-18/
LOCATION:ZOOM
CATEGORIES:Courses
END:VEVENT
BEGIN:VEVENT
DTSTART;TZID=America/New_York:20260218T130000
DTEND;TZID=America/New_York:20260218T150000
DTSTAMP:20260419T232621
CREATED:20251125T142451Z
LAST-MODIFIED:20251125T142451Z
UID:10003818-1771419600-1771426800@www.lifelonglearningcollaborative.org
SUMMARY:Hot Topics
DESCRIPTION:
URL:https://www.lifelonglearningcollaborative.org/event/hot-topics-3-9/2026-02-18/
LOCATION:ZOOM
CATEGORIES:Courses
END:VEVENT
BEGIN:VEVENT
DTSTART;TZID=America/New_York:20260218T130000
DTEND;TZID=America/New_York:20260218T150000
DTSTAMP:20260419T232621
CREATED:20251125T142720Z
LAST-MODIFIED:20251125T142720Z
UID:10003826-1771419600-1771426800@www.lifelonglearningcollaborative.org
SUMMARY:Roman Empire
DESCRIPTION:
URL:https://www.lifelonglearningcollaborative.org/event/roman-empire/2026-02-18/
LOCATION:ZOOM
CATEGORIES:Courses
END:VEVENT
BEGIN:VEVENT
DTSTART;TZID=America/New_York:20260218T130000
DTEND;TZID=America/New_York:20260218T150000
DTSTAMP:20260419T232621
CREATED:20251125T142939Z
LAST-MODIFIED:20251125T142939Z
UID:10003834-1771419600-1771426800@www.lifelonglearningcollaborative.org
SUMMARY:LLC Knits
DESCRIPTION:
URL:https://www.lifelonglearningcollaborative.org/event/llc-knits-3-7/2026-02-18/
LOCATION:Shriners Center\, 1 Rhodes Place\, Cranston\, RI\, 02905\, United States
CATEGORIES:Courses
END:VEVENT
BEGIN:VEVENT
DTSTART;TZID=America/New_York:20260219T100000
DTEND;TZID=America/New_York:20260219T120000
DTSTAMP:20260419T232621
CREATED:20251125T143211Z
LAST-MODIFIED:20251125T143211Z
UID:10003842-1771495200-1771502400@www.lifelonglearningcollaborative.org
SUMMARY:Science for Our Time HYBRID
DESCRIPTION:Shriners and on Zoom
URL:https://www.lifelonglearningcollaborative.org/event/science-for-our-time-hybrid/2026-02-19/
LOCATION:Shriners Center\, 1 Rhodes Place\, Cranston\, RI\, 02905\, United States
CATEGORIES:Courses
END:VEVENT
BEGIN:VEVENT
DTSTART;TZID=America/New_York:20260219T100000
DTEND;TZID=America/New_York:20260219T120000
DTSTAMP:20260419T232621
CREATED:20251125T143348Z
LAST-MODIFIED:20251125T143348Z
UID:10003850-1771495200-1771502400@www.lifelonglearningcollaborative.org
SUMMARY:O.Henry Stories
DESCRIPTION:
URL:https://www.lifelonglearningcollaborative.org/event/o-henry-stories/2026-02-19/
LOCATION:Shriners Center\, 1 Rhodes Place\, Cranston\, RI\, 02905\, United States
CATEGORIES:Courses
END:VEVENT
BEGIN:VEVENT
DTSTART;TZID=America/New_York:20260219T130000
DTEND;TZID=America/New_York:20260219T150000
DTSTAMP:20260419T232621
CREATED:20251125T143520Z
LAST-MODIFIED:20251125T143520Z
UID:10003858-1771506000-1771513200@www.lifelonglearningcollaborative.org
SUMMARY:Writing a Memoir (Shriners)
DESCRIPTION:
URL:https://www.lifelonglearningcollaborative.org/event/writing-a-memoir-shriners/2026-02-19/
LOCATION:Shriners Center\, 1 Rhodes Place\, Cranston\, RI\, 02905\, United States
CATEGORIES:Courses
END:VEVENT
END:VCALENDAR