BEGIN:VCALENDAR
VERSION:2.0
PRODID:-//Lifelong Learning Collaborative - ECPv6.15.12.2//NONSGML v1.0//EN
CALSCALE:GREGORIAN
METHOD:PUBLISH
X-WR-CALNAME:Lifelong Learning Collaborative
X-ORIGINAL-URL:https://www.lifelonglearningcollaborative.org
X-WR-CALDESC:Events for Lifelong Learning Collaborative
REFRESH-INTERVAL;VALUE=DURATION:PT1H
X-Robots-Tag:noindex
X-PUBLISHED-TTL:PT1H
BEGIN:VTIMEZONE
TZID:America/New_York
BEGIN:DAYLIGHT
TZOFFSETFROM:-0500
TZOFFSETTO:-0400
TZNAME:EDT
DTSTART:20240310T070000
END:DAYLIGHT
BEGIN:STANDARD
TZOFFSETFROM:-0400
TZOFFSETTO:-0500
TZNAME:EST
DTSTART:20241103T060000
END:STANDARD
BEGIN:DAYLIGHT
TZOFFSETFROM:-0500
TZOFFSETTO:-0400
TZNAME:EDT
DTSTART:20250309T070000
END:DAYLIGHT
BEGIN:STANDARD
TZOFFSETFROM:-0400
TZOFFSETTO:-0500
TZNAME:EST
DTSTART:20251102T060000
END:STANDARD
BEGIN:DAYLIGHT
TZOFFSETFROM:-0500
TZOFFSETTO:-0400
TZNAME:EDT
DTSTART:20260308T070000
END:DAYLIGHT
BEGIN:STANDARD
TZOFFSETFROM:-0400
TZOFFSETTO:-0500
TZNAME:EST
DTSTART:20261101T060000
END:STANDARD
END:VTIMEZONE
BEGIN:VEVENT
DTSTART;TZID=America/New_York:20250108T100000
DTEND;TZID=America/New_York:20250108T120000
DTSTAMP:20260420T183157
CREATED:20241125T144745Z
LAST-MODIFIED:20241125T144958Z
UID:10002787-1736330400-1736337600@www.lifelonglearningcollaborative.org
SUMMARY:Structures Hybrid
DESCRIPTION:On Zoom and in-person at Temple Beth-El
URL:https://www.lifelonglearningcollaborative.org/event/structures-hybrid/2025-01-08/
CATEGORIES:Courses
END:VEVENT
BEGIN:VEVENT
DTSTART;TZID=America/New_York:20250108T100000
DTEND;TZID=America/New_York:20250108T120000
DTSTAMP:20260420T183157
CREATED:20241125T144840Z
LAST-MODIFIED:20241125T144840Z
UID:10002847-1736330400-1736337600@www.lifelonglearningcollaborative.org
SUMMARY:The Media (ZOOM)
DESCRIPTION:
URL:https://www.lifelonglearningcollaborative.org/event/the-media-zoom/2025-01-08/
LOCATION:ZOOM
CATEGORIES:Courses
END:VEVENT
BEGIN:VEVENT
DTSTART;TZID=America/New_York:20250108T130000
DTEND;TZID=America/New_York:20250108T150000
DTSTAMP:20260420T183157
CREATED:20241125T145122Z
LAST-MODIFIED:20241125T145122Z
UID:10002855-1736341200-1736348400@www.lifelonglearningcollaborative.org
SUMMARY:LLC Knits Hybrid
DESCRIPTION:This hybrid class is on Zoom and in-person at Temple Beth-El
URL:https://www.lifelonglearningcollaborative.org/event/llc-knits-hybrid/2025-01-08/
CATEGORIES:Courses
END:VEVENT
BEGIN:VEVENT
DTSTART;TZID=America/New_York:20250108T130000
DTEND;TZID=America/New_York:20250108T150000
DTSTAMP:20260420T183157
CREATED:20241125T145755Z
LAST-MODIFIED:20241125T145755Z
UID:10002876-1736341200-1736348400@www.lifelonglearningcollaborative.org
SUMMARY:Hot Topics
DESCRIPTION:
URL:https://www.lifelonglearningcollaborative.org/event/hot-topics-3-6/2025-01-08/
LOCATION:ZOOM
CATEGORIES:Courses
END:VEVENT
BEGIN:VEVENT
DTSTART;TZID=America/New_York:20250109T100000
DTEND;TZID=America/New_York:20250109T120000
DTSTAMP:20260420T183157
CREATED:20241125T145843Z
LAST-MODIFIED:20241125T145843Z
UID:10002884-1736416800-1736424000@www.lifelonglearningcollaborative.org
SUMMARY:World's Greatest Short Stories
DESCRIPTION:
URL:https://www.lifelonglearningcollaborative.org/event/worlds-greatest-short-stories/2025-01-09/
LOCATION:Temple Beth-El\, 70 Orchard Avenue\, Providence\, RI\, United States
CATEGORIES:Courses
END:VEVENT
BEGIN:VEVENT
DTSTART;TZID=America/New_York:20250109T100000
DTEND;TZID=America/New_York:20250109T120000
DTSTAMP:20260420T183157
CREATED:20241125T145944Z
LAST-MODIFIED:20241125T151200Z
UID:10002892-1736416800-1736424000@www.lifelonglearningcollaborative.org
SUMMARY:Pompeii (ZOOM)
DESCRIPTION:
URL:https://www.lifelonglearningcollaborative.org/event/pompeii-zoom/2025-01-09/
LOCATION:ZOOM
CATEGORIES:Courses
END:VEVENT
BEGIN:VEVENT
DTSTART;TZID=America/New_York:20250109T100000
DTEND;TZID=America/New_York:20250109T120000
DTSTAMP:20260420T183157
CREATED:20241125T150049Z
LAST-MODIFIED:20241125T150049Z
UID:10002893-1736416800-1736424000@www.lifelonglearningcollaborative.org
SUMMARY:Overlooked No More Hybrid
DESCRIPTION:This hybrid class is on Zoom and in-person at Temple Beth-El
URL:https://www.lifelonglearningcollaborative.org/event/overlooked-no-more-hybrid/2025-01-09/
CATEGORIES:Courses
END:VEVENT
BEGIN:VEVENT
DTSTART;TZID=America/New_York:20250109T130000
DTEND;TZID=America/New_York:20250109T150000
DTSTAMP:20260420T183157
CREATED:20241125T150127Z
LAST-MODIFIED:20241125T150127Z
UID:10002901-1736427600-1736434800@www.lifelonglearningcollaborative.org
SUMMARY:Writing a Memoir
DESCRIPTION:
URL:https://www.lifelonglearningcollaborative.org/event/writing-a-memoir-3-5/2025-01-09/
LOCATION:Temple Beth-El\, 70 Orchard Avenue\, Providence\, RI\, United States
CATEGORIES:Courses
END:VEVENT
BEGIN:VEVENT
DTSTART;TZID=America/New_York:20250110T100000
DTEND;TZID=America/New_York:20250110T110000
DTSTAMP:20260420T183157
CREATED:20241125T150614Z
LAST-MODIFIED:20241125T150614Z
UID:10002909-1736503200-1736506800@www.lifelonglearningcollaborative.org
SUMMARY:Get Fit at Home (ZOOM)
DESCRIPTION:
URL:https://www.lifelonglearningcollaborative.org/event/get-fit-at-home-zoom/2025-01-10/
LOCATION:ZOOM
CATEGORIES:Courses
END:VEVENT
BEGIN:VEVENT
DTSTART;TZID=America/New_York:20250113T100000
DTEND;TZID=America/New_York:20250113T120000
DTSTAMP:20260420T183157
CREATED:20241125T143510Z
LAST-MODIFIED:20241125T145252Z
UID:10002251-1736762400-1736769600@www.lifelonglearningcollaborative.org
SUMMARY:Open Studio Art (ZOOM)
DESCRIPTION:
URL:https://www.lifelonglearningcollaborative.org/event/open-studio-art-zoom-2-2/2025-01-13/
LOCATION:ZOOM
CATEGORIES:Courses
END:VEVENT
BEGIN:VEVENT
DTSTART;TZID=America/New_York:20250113T100000
DTEND;TZID=America/New_York:20250113T120000
DTSTAMP:20260420T183157
CREATED:20241125T143556Z
LAST-MODIFIED:20241125T144925Z
UID:10002310-1736762400-1736769600@www.lifelonglearningcollaborative.org
SUMMARY:Great Decisions (ZOOM)
DESCRIPTION:
URL:https://www.lifelonglearningcollaborative.org/event/great-decisions-zoom-3/2025-01-13/
LOCATION:ZOOM
CATEGORIES:Courses
END:VEVENT
BEGIN:VEVENT
DTSTART;TZID=America/New_York:20250114T100000
DTEND;TZID=America/New_York:20250114T120000
DTSTAMP:20260420T183157
CREATED:20241125T144203Z
LAST-MODIFIED:20241125T145313Z
UID:10002430-1736848800-1736856000@www.lifelonglearningcollaborative.org
SUMMARY:Open Studio Art
DESCRIPTION:
URL:https://www.lifelonglearningcollaborative.org/event/open-studio-art-4/2025-01-14/
LOCATION:Temple Beth-El\, 70 Orchard Avenue\, Providence\, RI\, United States
CATEGORIES:Courses
END:VEVENT
BEGIN:VEVENT
DTSTART;TZID=America/New_York:20250114T100000
DTEND;TZID=America/New_York:20250114T120000
DTSTAMP:20260420T183157
CREATED:20241125T144253Z
LAST-MODIFIED:20241125T145332Z
UID:10002490-1736848800-1736856000@www.lifelonglearningcollaborative.org
SUMMARY:Huck's Friend James Reimagined (ZOOM)
DESCRIPTION:
URL:https://www.lifelonglearningcollaborative.org/event/hucks-friend-james-reimagined-zoom/2025-01-14/
LOCATION:ZOOM
CATEGORIES:Courses
END:VEVENT
BEGIN:VEVENT
DTSTART;TZID=America/New_York:20250114T130000
DTEND;TZID=America/New_York:20250114T141500
DTSTAMP:20260420T183157
CREATED:20241125T144348Z
LAST-MODIFIED:20241125T145231Z
UID:10002550-1736859600-1736864100@www.lifelonglearningcollaborative.org
SUMMARY:Alexander Technique
DESCRIPTION:
URL:https://www.lifelonglearningcollaborative.org/event/alexander-technique/2025-01-14/
LOCATION:Temple Beth-El\, 70 Orchard Avenue\, Providence\, RI\, United States
CATEGORIES:Courses
END:VEVENT
BEGIN:VEVENT
DTSTART;TZID=America/New_York:20250114T130000
DTEND;TZID=America/New_York:20250114T150000
DTSTAMP:20260420T183157
CREATED:20241125T144600Z
LAST-MODIFIED:20241125T145146Z
UID:10002668-1736859600-1736866800@www.lifelonglearningcollaborative.org
SUMMARY:Cell Phone Photo
DESCRIPTION:
URL:https://www.lifelonglearningcollaborative.org/event/cell-phone-photo-3-2/2025-01-14/
LOCATION:Temple Beth-El\, 70 Orchard Avenue\, Providence\, RI\, United States
CATEGORIES:Courses
END:VEVENT
BEGIN:VEVENT
DTSTART;TZID=America/New_York:20250114T151500
DTEND;TZID=America/New_York:20250114T170000
DTSTAMP:20260420T183157
CREATED:20241125T144641Z
LAST-MODIFIED:20241125T145018Z
UID:10002728-1736867700-1736874000@www.lifelonglearningcollaborative.org
SUMMARY:Scrabble
DESCRIPTION:
URL:https://www.lifelonglearningcollaborative.org/event/scrabble-15/2025-01-14/
LOCATION:Temple Beth-El\, 70 Orchard Avenue\, Providence\, RI\, United States
CATEGORIES:Courses
END:VEVENT
BEGIN:VEVENT
DTSTART;TZID=America/New_York:20250115T100000
DTEND;TZID=America/New_York:20250115T120000
DTSTAMP:20260420T183157
CREATED:20241125T144745Z
LAST-MODIFIED:20241125T144958Z
UID:10002788-1736935200-1736942400@www.lifelonglearningcollaborative.org
SUMMARY:Structures Hybrid
DESCRIPTION:On Zoom and in-person at Temple Beth-El
URL:https://www.lifelonglearningcollaborative.org/event/structures-hybrid/2025-01-15/
CATEGORIES:Courses
END:VEVENT
BEGIN:VEVENT
DTSTART;TZID=America/New_York:20250115T100000
DTEND;TZID=America/New_York:20250115T120000
DTSTAMP:20260420T183157
CREATED:20241125T144840Z
LAST-MODIFIED:20241125T144840Z
UID:10002848-1736935200-1736942400@www.lifelonglearningcollaborative.org
SUMMARY:The Media (ZOOM)
DESCRIPTION:
URL:https://www.lifelonglearningcollaborative.org/event/the-media-zoom/2025-01-15/
LOCATION:ZOOM
CATEGORIES:Courses
END:VEVENT
BEGIN:VEVENT
DTSTART;TZID=America/New_York:20250115T130000
DTEND;TZID=America/New_York:20250115T150000
DTSTAMP:20260420T183157
CREATED:20241125T145122Z
LAST-MODIFIED:20241125T145122Z
UID:10002856-1736946000-1736953200@www.lifelonglearningcollaborative.org
SUMMARY:LLC Knits Hybrid
DESCRIPTION:This hybrid class is on Zoom and in-person at Temple Beth-El
URL:https://www.lifelonglearningcollaborative.org/event/llc-knits-hybrid/2025-01-15/
CATEGORIES:Courses
END:VEVENT
BEGIN:VEVENT
DTSTART;TZID=America/New_York:20250115T130000
DTEND;TZID=America/New_York:20250115T150000
DTSTAMP:20260420T183157
CREATED:20241125T145714Z
LAST-MODIFIED:20241125T145714Z
UID:10002869-1736946000-1736953200@www.lifelonglearningcollaborative.org
SUMMARY:Jewish Style Baking
DESCRIPTION:Private kitchen of LLC member Eastside Providence\, RI – address provided upon registration
URL:https://www.lifelonglearningcollaborative.org/event/jewish-style-baking/2025-01-15/
CATEGORIES:Courses
END:VEVENT
BEGIN:VEVENT
DTSTART;TZID=America/New_York:20250115T130000
DTEND;TZID=America/New_York:20250115T150000
DTSTAMP:20260420T183157
CREATED:20241125T145755Z
LAST-MODIFIED:20241125T145755Z
UID:10002877-1736946000-1736953200@www.lifelonglearningcollaborative.org
SUMMARY:Hot Topics
DESCRIPTION:
URL:https://www.lifelonglearningcollaborative.org/event/hot-topics-3-6/2025-01-15/
LOCATION:ZOOM
CATEGORIES:Courses
END:VEVENT
BEGIN:VEVENT
DTSTART;TZID=America/New_York:20250116T100000
DTEND;TZID=America/New_York:20250116T120000
DTSTAMP:20260420T183157
CREATED:20241125T145843Z
LAST-MODIFIED:20241125T145843Z
UID:10002885-1737021600-1737028800@www.lifelonglearningcollaborative.org
SUMMARY:World's Greatest Short Stories
DESCRIPTION:
URL:https://www.lifelonglearningcollaborative.org/event/worlds-greatest-short-stories/2025-01-16/
LOCATION:Temple Beth-El\, 70 Orchard Avenue\, Providence\, RI\, United States
CATEGORIES:Courses
END:VEVENT
BEGIN:VEVENT
DTSTART;TZID=America/New_York:20250116T100000
DTEND;TZID=America/New_York:20250116T120000
DTSTAMP:20260420T183157
CREATED:20241125T145944Z
LAST-MODIFIED:20241125T151200Z
UID:10002921-1737021600-1737028800@www.lifelonglearningcollaborative.org
SUMMARY:Pompeii (ZOOM)
DESCRIPTION:
URL:https://www.lifelonglearningcollaborative.org/event/pompeii-zoom/2025-01-16/
LOCATION:ZOOM
CATEGORIES:Courses
END:VEVENT
BEGIN:VEVENT
DTSTART;TZID=America/New_York:20250116T100000
DTEND;TZID=America/New_York:20250116T120000
DTSTAMP:20260420T183157
CREATED:20241125T150049Z
LAST-MODIFIED:20241125T150049Z
UID:10002894-1737021600-1737028800@www.lifelonglearningcollaborative.org
SUMMARY:Overlooked No More Hybrid
DESCRIPTION:This hybrid class is on Zoom and in-person at Temple Beth-El
URL:https://www.lifelonglearningcollaborative.org/event/overlooked-no-more-hybrid/2025-01-16/
CATEGORIES:Courses
END:VEVENT
BEGIN:VEVENT
DTSTART;TZID=America/New_York:20250116T130000
DTEND;TZID=America/New_York:20250116T150000
DTSTAMP:20260420T183157
CREATED:20241125T150127Z
LAST-MODIFIED:20241125T150127Z
UID:10002902-1737032400-1737039600@www.lifelonglearningcollaborative.org
SUMMARY:Writing a Memoir
DESCRIPTION:
URL:https://www.lifelonglearningcollaborative.org/event/writing-a-memoir-3-5/2025-01-16/
LOCATION:Temple Beth-El\, 70 Orchard Avenue\, Providence\, RI\, United States
CATEGORIES:Courses
END:VEVENT
BEGIN:VEVENT
DTSTART;TZID=America/New_York:20250117T100000
DTEND;TZID=America/New_York:20250117T110000
DTSTAMP:20260420T183157
CREATED:20241125T150614Z
LAST-MODIFIED:20241125T150614Z
UID:10002910-1737108000-1737111600@www.lifelonglearningcollaborative.org
SUMMARY:Get Fit at Home (ZOOM)
DESCRIPTION:
URL:https://www.lifelonglearningcollaborative.org/event/get-fit-at-home-zoom/2025-01-17/
LOCATION:ZOOM
CATEGORIES:Courses
END:VEVENT
BEGIN:VEVENT
DTSTART;TZID=America/New_York:20250120T090000
DTEND;TZID=America/New_York:20250120T235900
DTSTAMP:20260420T183157
CREATED:20241107T120227Z
LAST-MODIFIED:20241107T120429Z
UID:10002247-1737363600-1737417540@www.lifelonglearningcollaborative.org
SUMMARY:Spring 2025 catalog announcement
DESCRIPTION:
URL:https://www.lifelonglearningcollaborative.org/event/spring-2025-catalog-announcement/
CATEGORIES:Semester Announcements
END:VEVENT
BEGIN:VEVENT
DTSTART;TZID=America/New_York:20250120T100000
DTEND;TZID=America/New_York:20250120T120000
DTSTAMP:20260420T183157
CREATED:20241125T143510Z
LAST-MODIFIED:20241125T145252Z
UID:10002252-1737367200-1737374400@www.lifelonglearningcollaborative.org
SUMMARY:Open Studio Art (ZOOM)
DESCRIPTION:
URL:https://www.lifelonglearningcollaborative.org/event/open-studio-art-zoom-2-2/2025-01-20/
LOCATION:ZOOM
CATEGORIES:Courses
END:VEVENT
BEGIN:VEVENT
DTSTART;TZID=America/New_York:20250120T100000
DTEND;TZID=America/New_York:20250120T120000
DTSTAMP:20260420T183157
CREATED:20241125T143556Z
LAST-MODIFIED:20241125T144925Z
UID:10002311-1737367200-1737374400@www.lifelonglearningcollaborative.org
SUMMARY:Great Decisions (ZOOM)
DESCRIPTION:
URL:https://www.lifelonglearningcollaborative.org/event/great-decisions-zoom-3/2025-01-20/
LOCATION:ZOOM
CATEGORIES:Courses
END:VEVENT
BEGIN:VEVENT
DTSTART;TZID=America/New_York:20250121T100000
DTEND;TZID=America/New_York:20250121T120000
DTSTAMP:20260420T183157
CREATED:20241125T144203Z
LAST-MODIFIED:20241125T145313Z
UID:10002431-1737453600-1737460800@www.lifelonglearningcollaborative.org
SUMMARY:Open Studio Art
DESCRIPTION:
URL:https://www.lifelonglearningcollaborative.org/event/open-studio-art-4/2025-01-21/
LOCATION:Temple Beth-El\, 70 Orchard Avenue\, Providence\, RI\, United States
CATEGORIES:Courses
END:VEVENT
END:VCALENDAR