BEGIN:VCALENDAR
VERSION:2.0
PRODID:-//Lifelong Learning Collaborative - ECPv6.15.12.2//NONSGML v1.0//EN
CALSCALE:GREGORIAN
METHOD:PUBLISH
X-WR-CALNAME:Lifelong Learning Collaborative
X-ORIGINAL-URL:https://www.lifelonglearningcollaborative.org
X-WR-CALDESC:Events for Lifelong Learning Collaborative
REFRESH-INTERVAL;VALUE=DURATION:PT1H
X-Robots-Tag:noindex
X-PUBLISHED-TTL:PT1H
BEGIN:VTIMEZONE
TZID:America/New_York
BEGIN:DAYLIGHT
TZOFFSETFROM:-0500
TZOFFSETTO:-0400
TZNAME:EDT
DTSTART:20230312T070000
END:DAYLIGHT
BEGIN:STANDARD
TZOFFSETFROM:-0400
TZOFFSETTO:-0500
TZNAME:EST
DTSTART:20231105T060000
END:STANDARD
BEGIN:DAYLIGHT
TZOFFSETFROM:-0500
TZOFFSETTO:-0400
TZNAME:EDT
DTSTART:20240310T070000
END:DAYLIGHT
BEGIN:STANDARD
TZOFFSETFROM:-0400
TZOFFSETTO:-0500
TZNAME:EST
DTSTART:20241103T060000
END:STANDARD
BEGIN:DAYLIGHT
TZOFFSETFROM:-0500
TZOFFSETTO:-0400
TZNAME:EDT
DTSTART:20250309T070000
END:DAYLIGHT
BEGIN:STANDARD
TZOFFSETFROM:-0400
TZOFFSETTO:-0500
TZNAME:EST
DTSTART:20251102T060000
END:STANDARD
END:VTIMEZONE
BEGIN:VEVENT
DTSTART;TZID=America/New_York:20240521T100000
DTEND;TZID=America/New_York:20240521T120000
DTSTAMP:20260421T222952
CREATED:20240129T130634Z
LAST-MODIFIED:20240305T141151Z
UID:10001612-1716285600-1716292800@www.lifelonglearningcollaborative.org
SUMMARY:A.I. Hybrid
DESCRIPTION:
URL:https://www.lifelonglearningcollaborative.org/event/a-i-hybrid/2024-05-21/
LOCATION:Temple Beth-El\, 70 Orchard Avenue\, Providence\, RI\, United States
CATEGORIES:Courses
END:VEVENT
BEGIN:VEVENT
DTSTART;TZID=America/New_York:20240521T100000
DTEND;TZID=America/New_York:20240521T120000
DTSTAMP:20260421T222952
CREATED:20240129T130504Z
LAST-MODIFIED:20240305T141052Z
UID:10001603-1716285600-1716292800@www.lifelonglearningcollaborative.org
SUMMARY:Opera Ensembles
DESCRIPTION:
URL:https://www.lifelonglearningcollaborative.org/event/opera-ensembles/2024-05-21/
LOCATION:Temple Beth-El\, 70 Orchard Avenue\, Providence\, RI\, United States
CATEGORIES:Courses
END:VEVENT
BEGIN:VEVENT
DTSTART;TZID=America/New_York:20240520T160000
DTEND;TZID=America/New_York:20240520T170000
DTSTAMP:20260421T222952
CREATED:20240429T124236Z
LAST-MODIFIED:20240429T213647Z
UID:10001820-1716220800-1716224400@www.lifelonglearningcollaborative.org
SUMMARY:Brown Bag Webinar w/ Kaplans on Israel at War
DESCRIPTION:LLC Members Stephen and Marilyn Kaplan\nExperiencing Israel at War: A Recent Visit to Israel \nLongtime LLC members Marilyn and Stephen Kaplan recently visited Israel for their grandson’s wedding. They spent more than two weeks with their family in a country at war and are eager to share some of their impressions from this meaningful journey. \nPlease feel free to bring your questions for the Q&A period. \nStephen Kaplan was a Professor of Medicine and Associate Dean at the Brown University School of Medicine and Marilyn Kaplan was an administrator at the Brown University Center for Gerontology and Health Care Research. They have both coordinated courses at LLC and Marilyn is a member of the Curriculum Committee.
URL:https://www.lifelonglearningcollaborative.org/event/brown-bag-webinar-w-kaplans-on-israel-at-war/
LOCATION:ZOOM
CATEGORIES:Free Webinars
END:VEVENT
BEGIN:VEVENT
DTSTART;TZID=America/New_York:20240520T100000
DTEND;TZID=America/New_York:20240520T120000
DTSTAMP:20260421T222952
CREATED:20240129T130121Z
LAST-MODIFIED:20240129T130121Z
UID:10001585-1716199200-1716206400@www.lifelonglearningcollaborative.org
SUMMARY:Open Studio Art
DESCRIPTION:
URL:https://www.lifelonglearningcollaborative.org/event/open-studio-art-12/2024-05-20/
LOCATION:ZOOM
CATEGORIES:Courses
END:VEVENT
BEGIN:VEVENT
DTSTART;TZID=America/New_York:20240517T100000
DTEND;TZID=America/New_York:20240517T120000
DTSTAMP:20260421T222952
CREATED:20240129T133243Z
LAST-MODIFIED:20240129T133243Z
UID:10001789-1715940000-1715947200@www.lifelonglearningcollaborative.org
SUMMARY:Public Art & the City
DESCRIPTION:
URL:https://www.lifelonglearningcollaborative.org/event/public-art-the-city/2024-05-17/
LOCATION:Temple Beth-El\, 70 Orchard Avenue\, Providence\, RI\, United States
CATEGORIES:Courses
END:VEVENT
BEGIN:VEVENT
DTSTART;TZID=America/New_York:20240516T160000
DTEND;TZID=America/New_York:20240516T163000
DTSTAMP:20260421T222952
CREATED:20240426T121920Z
LAST-MODIFIED:20240426T121920Z
UID:10001818-1715875200-1715877000@www.lifelonglearningcollaborative.org
SUMMARY:Q&A Session on Proposed Budget
DESCRIPTION:
URL:https://www.lifelonglearningcollaborative.org/event/qa-session-on-proposed-budget/
LOCATION:ZOOM
CATEGORIES:Annual Meetings
END:VEVENT
BEGIN:VEVENT
DTSTART;TZID=America/New_York:20240516T130000
DTEND;TZID=America/New_York:20240516T150000
DTSTAMP:20260421T222952
CREATED:20240129T132650Z
LAST-MODIFIED:20240129T132650Z
UID:10001762-1715864400-1715871600@www.lifelonglearningcollaborative.org
SUMMARY:Writing a Memoir
DESCRIPTION:
URL:https://www.lifelonglearningcollaborative.org/event/writing-a-memoir-3-3/2024-05-16/
LOCATION:Temple Beth-El\, 70 Orchard Avenue\, Providence\, RI\, United States
CATEGORIES:Courses
END:VEVENT
BEGIN:VEVENT
DTSTART;TZID=America/New_York:20240516T100000
DTEND;TZID=America/New_York:20240516T120000
DTSTAMP:20260421T222952
CREATED:20240129T132516Z
LAST-MODIFIED:20240129T132516Z
UID:10001752-1715853600-1715860800@www.lifelonglearningcollaborative.org
SUMMARY:Connections TBE
DESCRIPTION:
URL:https://www.lifelonglearningcollaborative.org/event/connections-tbe/2024-05-16/
LOCATION:Temple Beth-El\, 70 Orchard Avenue\, Providence\, RI\, United States
CATEGORIES:Courses
END:VEVENT
BEGIN:VEVENT
DTSTART;TZID=America/New_York:20240516T100000
DTEND;TZID=America/New_York:20240516T120000
DTSTAMP:20260421T222952
CREATED:20240129T132418Z
LAST-MODIFIED:20240129T132418Z
UID:10001742-1715853600-1715860800@www.lifelonglearningcollaborative.org
SUMMARY:Theater Conversations
DESCRIPTION:
URL:https://www.lifelonglearningcollaborative.org/event/theater-conversations-2/2024-05-16/
LOCATION:Temple Beth-El\, 70 Orchard Avenue\, Providence\, RI\, United States
CATEGORIES:Courses
END:VEVENT
BEGIN:VEVENT
DTSTART;TZID=America/New_York:20240516T080000
DTEND;TZID=America/New_York:20240516T170000
DTSTAMP:20260421T222952
CREATED:20240129T132743Z
LAST-MODIFIED:20240129T132743Z
UID:10001772-1715846400-1715878800@www.lifelonglearningcollaborative.org
SUMMARY:Prov Libraries
DESCRIPTION:
URL:https://www.lifelonglearningcollaborative.org/event/prov-libraries/2024-05-16/
CATEGORIES:Courses
END:VEVENT
BEGIN:VEVENT
DTSTART;TZID=America/New_York:20240515T130000
DTEND;TZID=America/New_York:20240515T150000
DTSTAMP:20260421T222952
CREATED:20240129T132153Z
LAST-MODIFIED:20240129T132153Z
UID:10001731-1715778000-1715785200@www.lifelonglearningcollaborative.org
SUMMARY:LLC Knits
DESCRIPTION:
URL:https://www.lifelonglearningcollaborative.org/event/llc-knits-3-4/2024-05-15/
LOCATION:Temple Beth-El\, 70 Orchard Avenue\, Providence\, RI\, United States
CATEGORIES:Courses
END:VEVENT
BEGIN:VEVENT
DTSTART;TZID=America/New_York:20240515T130000
DTEND;TZID=America/New_York:20240515T150000
DTSTAMP:20260421T222952
CREATED:20240129T132041Z
LAST-MODIFIED:20240129T132041Z
UID:10001721-1715778000-1715785200@www.lifelonglearningcollaborative.org
SUMMARY:Wilson Plays
DESCRIPTION:
URL:https://www.lifelonglearningcollaborative.org/event/wilson-plays/2024-05-15/
LOCATION:Temple Beth-El\, 70 Orchard Avenue\, Providence\, RI\, United States
CATEGORIES:Courses
END:VEVENT
BEGIN:VEVENT
DTSTART;TZID=America/New_York:20240515T130000
DTEND;TZID=America/New_York:20240515T150000
DTSTAMP:20260421T222952
CREATED:20240129T131942Z
LAST-MODIFIED:20240129T131942Z
UID:10001712-1715778000-1715785200@www.lifelonglearningcollaborative.org
SUMMARY:Hot Topics
DESCRIPTION:
URL:https://www.lifelonglearningcollaborative.org/event/hot-topics-3-4/2024-05-15/
LOCATION:Temple Beth-El\, 70 Orchard Avenue\, Providence\, RI\, United States
CATEGORIES:Courses
END:VEVENT
BEGIN:VEVENT
DTSTART;TZID=America/New_York:20240515T120000
DTEND;TZID=America/New_York:20240515T150000
DTSTAMP:20260421T222952
CREATED:20240129T131817Z
LAST-MODIFIED:20240129T131817Z
UID:10001702-1715774400-1715785200@www.lifelonglearningcollaborative.org
SUMMARY:B&W Photography
DESCRIPTION:
URL:https://www.lifelonglearningcollaborative.org/event/bw-photography/2024-05-15/
LOCATION:Temple Beth-El\, 70 Orchard Avenue\, Providence\, RI\, United States
CATEGORIES:Courses
END:VEVENT
BEGIN:VEVENT
DTSTART;TZID=America/New_York:20240515T100000
DTEND;TZID=America/New_York:20240515T120000
DTSTAMP:20260421T222952
CREATED:20240129T131520Z
LAST-MODIFIED:20240129T131520Z
UID:10001682-1715767200-1715774400@www.lifelonglearningcollaborative.org
SUMMARY:Paint Like a Woman
DESCRIPTION:
URL:https://www.lifelonglearningcollaborative.org/event/paint-like-a-woman/2024-05-15/
LOCATION:Temple Beth-El\, 70 Orchard Avenue\, Providence\, RI\, United States
CATEGORIES:Courses
END:VEVENT
BEGIN:VEVENT
DTSTART;TZID=America/New_York:20240515T100000
DTEND;TZID=America/New_York:20240515T120000
DTSTAMP:20260421T222952
CREATED:20240129T131416Z
LAST-MODIFIED:20240129T131416Z
UID:10001672-1715767200-1715774400@www.lifelonglearningcollaborative.org
SUMMARY:Write On Workshop
DESCRIPTION:
URL:https://www.lifelonglearningcollaborative.org/event/write-on-workshop/2024-05-15/
LOCATION:Regency Plaza Apartments\, RI\, United States
CATEGORIES:Courses
END:VEVENT
BEGIN:VEVENT
DTSTART;TZID=America/New_York:20240515T100000
DTEND;TZID=America/New_York:20240515T120000
DTSTAMP:20260421T222952
CREATED:20240129T131310Z
LAST-MODIFIED:20240129T131310Z
UID:10001662-1715767200-1715774400@www.lifelonglearningcollaborative.org
SUMMARY:Structures
DESCRIPTION:
URL:https://www.lifelonglearningcollaborative.org/event/structures/2024-05-15/
LOCATION:Temple Beth-El\, 70 Orchard Avenue\, Providence\, RI\, United States
CATEGORIES:Courses
END:VEVENT
BEGIN:VEVENT
DTSTART;TZID=America/New_York:20240515T100000
DTEND;TZID=America/New_York:20240515T120000
DTSTAMP:20260421T222952
CREATED:20240129T131213Z
LAST-MODIFIED:20240129T131213Z
UID:10001652-1715767200-1715774400@www.lifelonglearningcollaborative.org
SUMMARY:Contemporary Plays
DESCRIPTION:
URL:https://www.lifelonglearningcollaborative.org/event/contemporary-plays/2024-05-15/
LOCATION:Temple Beth-El\, 70 Orchard Avenue\, Providence\, RI\, United States
CATEGORIES:Courses
END:VEVENT
BEGIN:VEVENT
DTSTART;TZID=America/New_York:20240514T151500
DTEND;TZID=America/New_York:20240514T171500
DTSTAMP:20260421T222952
CREATED:20240129T131129Z
LAST-MODIFIED:20240305T141247Z
UID:10001642-1715699700-1715706900@www.lifelonglearningcollaborative.org
SUMMARY:Scrabble
DESCRIPTION:
URL:https://www.lifelonglearningcollaborative.org/event/scrabble-11/2024-05-14/
LOCATION:Temple Beth-El\, 70 Orchard Avenue\, Providence\, RI\, United States
CATEGORIES:Courses
END:VEVENT
BEGIN:VEVENT
DTSTART;TZID=America/New_York:20240514T130000
DTEND;TZID=America/New_York:20240514T150000
DTSTAMP:20260421T222952
CREATED:20240129T130911Z
LAST-MODIFIED:20240305T141222Z
UID:10001631-1715691600-1715698800@www.lifelonglearningcollaborative.org
SUMMARY:Cell Phone Photo
DESCRIPTION:
URL:https://www.lifelonglearningcollaborative.org/event/cell-phone-photo-2/2024-05-14/
LOCATION:Temple Beth-El\, 70 Orchard Avenue\, Providence\, RI\, United States
CATEGORIES:Courses
END:VEVENT
BEGIN:VEVENT
DTSTART;TZID=America/New_York:20240514T100000
DTEND;TZID=America/New_York:20240514T120000
DTSTAMP:20260421T222952
CREATED:20240129T130805Z
LAST-MODIFIED:20240129T130805Z
UID:10001621-1715680800-1715688000@www.lifelonglearningcollaborative.org
SUMMARY:Connections (Zoom)
DESCRIPTION:
URL:https://www.lifelonglearningcollaborative.org/event/connections-zoom/2024-05-14/
LOCATION:ZOOM
CATEGORIES:Courses
END:VEVENT
BEGIN:VEVENT
DTSTART;TZID=America/New_York:20240514T100000
DTEND;TZID=America/New_York:20240514T120000
DTSTAMP:20260421T222952
CREATED:20240129T130634Z
LAST-MODIFIED:20240305T141151Z
UID:10001611-1715680800-1715688000@www.lifelonglearningcollaborative.org
SUMMARY:A.I. Hybrid
DESCRIPTION:
URL:https://www.lifelonglearningcollaborative.org/event/a-i-hybrid/2024-05-14/
LOCATION:Temple Beth-El\, 70 Orchard Avenue\, Providence\, RI\, United States
CATEGORIES:Courses
END:VEVENT
BEGIN:VEVENT
DTSTART;TZID=America/New_York:20240514T100000
DTEND;TZID=America/New_York:20240514T120000
DTSTAMP:20260421T222952
CREATED:20240129T130504Z
LAST-MODIFIED:20240305T141052Z
UID:10001602-1715680800-1715688000@www.lifelonglearningcollaborative.org
SUMMARY:Opera Ensembles
DESCRIPTION:
URL:https://www.lifelonglearningcollaborative.org/event/opera-ensembles/2024-05-14/
LOCATION:Temple Beth-El\, 70 Orchard Avenue\, Providence\, RI\, United States
CATEGORIES:Courses
END:VEVENT
BEGIN:VEVENT
DTSTART;TZID=America/New_York:20240514T100000
DTEND;TZID=America/New_York:20240514T120000
DTSTAMP:20260421T222952
CREATED:20240129T130221Z
LAST-MODIFIED:20240129T130246Z
UID:10001594-1715680800-1715688000@www.lifelonglearningcollaborative.org
SUMMARY:Overlooked No More
DESCRIPTION:
URL:https://www.lifelonglearningcollaborative.org/event/overlooked-no-more/2024-05-14/
LOCATION:Temple Beth-El\, 70 Orchard Avenue\, Providence\, RI\, United States
CATEGORIES:Courses
END:VEVENT
BEGIN:VEVENT
DTSTART;TZID=America/New_York:20240513T100000
DTEND;TZID=America/New_York:20240513T120000
DTSTAMP:20260421T222952
CREATED:20240129T130121Z
LAST-MODIFIED:20240129T130121Z
UID:10001584-1715594400-1715601600@www.lifelonglearningcollaborative.org
SUMMARY:Open Studio Art
DESCRIPTION:
URL:https://www.lifelonglearningcollaborative.org/event/open-studio-art-12/2024-05-13/
LOCATION:ZOOM
CATEGORIES:Courses
END:VEVENT
BEGIN:VEVENT
DTSTART;VALUE=DATE:20240513
DTEND;VALUE=DATE:20240514
DTSTAMP:20260421T222952
CREATED:20240216T145714Z
LAST-MODIFIED:20240216T145714Z
UID:10001801-1715558400-1715644799@www.lifelonglearningcollaborative.org
SUMMARY:Summersession Reg Opens 9 AM
DESCRIPTION:
URL:https://www.lifelonglearningcollaborative.org/event/summersession-reg-opens-9-am/
CATEGORIES:Courses,Semester Announcements
END:VEVENT
BEGIN:VEVENT
DTSTART;TZID=America/New_York:20240510T100000
DTEND;TZID=America/New_York:20240510T230000
DTSTAMP:20260421T222952
CREATED:20240129T133040Z
LAST-MODIFIED:20240426T124858Z
UID:10001782-1715335200-1715382000@www.lifelonglearningcollaborative.org
SUMMARY:Get Fit at Home
DESCRIPTION:
URL:https://www.lifelonglearningcollaborative.org/event/get-fit-at-home-3-5/2024-05-10/
LOCATION:ZOOM
CATEGORIES:Courses
END:VEVENT
BEGIN:VEVENT
DTSTART;TZID=America/New_York:20240510T100000
DTEND;TZID=America/New_York:20240510T120000
DTSTAMP:20260421T222952
CREATED:20240129T133243Z
LAST-MODIFIED:20240129T133243Z
UID:10001788-1715335200-1715342400@www.lifelonglearningcollaborative.org
SUMMARY:Public Art & the City
DESCRIPTION:
URL:https://www.lifelonglearningcollaborative.org/event/public-art-the-city/2024-05-10/
LOCATION:Temple Beth-El\, 70 Orchard Avenue\, Providence\, RI\, United States
CATEGORIES:Courses
END:VEVENT
BEGIN:VEVENT
DTSTART;TZID=America/New_York:20240509T160000
DTEND;TZID=America/New_York:20240509T170000
DTSTAMP:20260421T222952
CREATED:20240227T153657Z
LAST-MODIFIED:20240227T153657Z
UID:10001807-1715270400-1715274000@www.lifelonglearningcollaborative.org
SUMMARY:Brown Bag Webinar w/ Joe Petteruti\, Author
DESCRIPTION:The 6th Annual “Celebrate Ourselves” spotlights LLC Member Joe Petteruti\, Author of A Night She’d Remember: My Grandmother’s Experience on the Titanic \nThis is the story of Joe Petteruti’s maternal grandmother\, Bertha Mulvihill. An Irish immigrant\, she arrived in Rhode Island in 1905. In late 1911\, after living and working in Providence for six years\, she returned to her hometown of Coosan\, Ireland to visit her large family. At the last minute\, Bertha purchased a third-class steerage ticket for the maiden voyage of the RMS Titanic in April of 1912\, from Queenstown\, Ireland back to Providence. Viewing it as an exciting adventure\, little did she know the tragic fate that awaited. \nJoe will recount his grandmother’s experience as a third-class passenger on the “unsinkable” Titanic\, sharing her perspective of that unforgettable night\, A Night She’d Remember. \nJoe Petteruti\, a Providence native\, has been a member of the Lifelong Learning Collaborative since 2010. He currently serves on three LLC committees and enjoys taking LLC courses. His favorite is the memoir writing class. Joe’s book\, A Night She’d Remember: My Grandmother’s Experience on the Titanic is the story about his maternal grandmother who survived the sinking of the Titanic. His book started in a 2015 memoir writing class as a short highlight. During the pandemic\, Joe continued writing and he says it is thanks to his coordinator encouraging him that led to its being published in 2022.
URL:https://www.lifelonglearningcollaborative.org/event/brown-bag-webinar-w-joe-petteruti-author/
LOCATION:ZOOM
CATEGORIES:Free Webinars
END:VEVENT
BEGIN:VEVENT
DTSTART;TZID=America/New_York:20240509T130000
DTEND;TZID=America/New_York:20240509T150000
DTSTAMP:20260421T222952
CREATED:20240129T132650Z
LAST-MODIFIED:20240129T132650Z
UID:10001761-1715259600-1715266800@www.lifelonglearningcollaborative.org
SUMMARY:Writing a Memoir
DESCRIPTION:
URL:https://www.lifelonglearningcollaborative.org/event/writing-a-memoir-3-3/2024-05-09/
LOCATION:Temple Beth-El\, 70 Orchard Avenue\, Providence\, RI\, United States
CATEGORIES:Courses
END:VEVENT
END:VCALENDAR