BEGIN:VCALENDAR
VERSION:2.0
PRODID:-//Lifelong Learning Collaborative - ECPv6.15.12.2//NONSGML v1.0//EN
CALSCALE:GREGORIAN
METHOD:PUBLISH
X-WR-CALNAME:Lifelong Learning Collaborative
X-ORIGINAL-URL:https://www.lifelonglearningcollaborative.org
X-WR-CALDESC:Events for Lifelong Learning Collaborative
REFRESH-INTERVAL;VALUE=DURATION:PT1H
X-Robots-Tag:noindex
X-PUBLISHED-TTL:PT1H
BEGIN:VTIMEZONE
TZID:America/New_York
BEGIN:DAYLIGHT
TZOFFSETFROM:-0500
TZOFFSETTO:-0400
TZNAME:EDT
DTSTART:20240310T070000
END:DAYLIGHT
BEGIN:STANDARD
TZOFFSETFROM:-0400
TZOFFSETTO:-0500
TZNAME:EST
DTSTART:20241103T060000
END:STANDARD
BEGIN:DAYLIGHT
TZOFFSETFROM:-0500
TZOFFSETTO:-0400
TZNAME:EDT
DTSTART:20250309T070000
END:DAYLIGHT
BEGIN:STANDARD
TZOFFSETFROM:-0400
TZOFFSETTO:-0500
TZNAME:EST
DTSTART:20251102T060000
END:STANDARD
BEGIN:DAYLIGHT
TZOFFSETFROM:-0500
TZOFFSETTO:-0400
TZNAME:EDT
DTSTART:20260308T070000
END:DAYLIGHT
BEGIN:STANDARD
TZOFFSETFROM:-0400
TZOFFSETTO:-0500
TZNAME:EST
DTSTART:20261101T060000
END:STANDARD
END:VTIMEZONE
BEGIN:VEVENT
DTSTART;TZID=America/New_York:20250513T100000
DTEND;TZID=America/New_York:20250513T120000
DTSTAMP:20260423T043426
CREATED:20250121T134453Z
LAST-MODIFIED:20250301T135559Z
UID:10002968-1747130400-1747137600@www.lifelonglearningcollaborative.org
SUMMARY:Israel: A Nation Reborn
DESCRIPTION:
URL:https://www.lifelonglearningcollaborative.org/event/israel-a-nation-reborn/2025-05-13/
LOCATION:ZOOM
CATEGORIES:Courses
END:VEVENT
BEGIN:VEVENT
DTSTART;TZID=America/New_York:20250513T100000
DTEND;TZID=America/New_York:20250513T120000
DTSTAMP:20260423T043426
CREATED:20250121T134535Z
LAST-MODIFIED:20250121T134535Z
UID:10002978-1747130400-1747137600@www.lifelonglearningcollaborative.org
SUMMARY:Whodunit?
DESCRIPTION:
URL:https://www.lifelonglearningcollaborative.org/event/whodunit/2025-05-13/
LOCATION:Temple Beth-El\, 70 Orchard Avenue\, Providence\, RI\, United States
CATEGORIES:Courses
END:VEVENT
BEGIN:VEVENT
DTSTART;TZID=America/New_York:20250513T100000
DTEND;TZID=America/New_York:20250513T120000
DTSTAMP:20260423T043426
CREATED:20250121T134623Z
LAST-MODIFIED:20250121T134623Z
UID:10002988-1747130400-1747137600@www.lifelonglearningcollaborative.org
SUMMARY:Films: Food & Wine
DESCRIPTION:
URL:https://www.lifelonglearningcollaborative.org/event/films-food-wine/2025-05-13/
LOCATION:ZOOM
CATEGORIES:Courses
END:VEVENT
BEGIN:VEVENT
DTSTART;TZID=America/New_York:20250513T130000
DTEND;TZID=America/New_York:20250513T150000
DTSTAMP:20260423T043426
CREATED:20250121T134752Z
LAST-MODIFIED:20250121T134752Z
UID:10003008-1747141200-1747148400@www.lifelonglearningcollaborative.org
SUMMARY:Music You've Never Heard
DESCRIPTION:
URL:https://www.lifelonglearningcollaborative.org/event/music-youve-never-heard/2025-05-13/
LOCATION:Temple Beth-El\, 70 Orchard Avenue\, Providence\, RI\, United States
CATEGORIES:Courses
END:VEVENT
BEGIN:VEVENT
DTSTART;TZID=America/New_York:20250513T130000
DTEND;TZID=America/New_York:20250513T150000
DTSTAMP:20260423T043426
CREATED:20250121T134833Z
LAST-MODIFIED:20250121T134833Z
UID:10003018-1747141200-1747148400@www.lifelonglearningcollaborative.org
SUMMARY:Cell Phone Photo Club
DESCRIPTION:
URL:https://www.lifelonglearningcollaborative.org/event/cell-phone-photo-club-2-5/2025-05-13/
LOCATION:Temple Beth-El\, 70 Orchard Avenue\, Providence\, RI\, United States
CATEGORIES:Courses
END:VEVENT
BEGIN:VEVENT
DTSTART;TZID=America/New_York:20250513T151500
DTEND;TZID=America/New_York:20250513T170000
DTSTAMP:20260423T043426
CREATED:20250121T135228Z
LAST-MODIFIED:20250121T135228Z
UID:10003053-1747149300-1747155600@www.lifelonglearningcollaborative.org
SUMMARY:Scrabble
DESCRIPTION:
URL:https://www.lifelonglearningcollaborative.org/event/scrabble-17/2025-05-13/
LOCATION:Temple Beth-El\, 70 Orchard Avenue\, Providence\, RI\, United States
CATEGORIES:Courses
END:VEVENT
BEGIN:VEVENT
DTSTART;TZID=America/New_York:20250514T100000
DTEND;TZID=America/New_York:20250514T120000
DTSTAMP:20260423T043426
CREATED:20250121T135355Z
LAST-MODIFIED:20250121T145812Z
UID:10003071-1747216800-1747224000@www.lifelonglearningcollaborative.org
SUMMARY:Reading Plays: Families
DESCRIPTION:
URL:https://www.lifelonglearningcollaborative.org/event/reading-plays-families/2025-05-14/
LOCATION:Temple Beth-El\, 70 Orchard Avenue\, Providence\, RI\, United States
CATEGORIES:Courses
END:VEVENT
BEGIN:VEVENT
DTSTART;TZID=America/New_York:20250514T100000
DTEND;TZID=America/New_York:20250514T120000
DTSTAMP:20260423T043426
CREATED:20250121T135451Z
LAST-MODIFIED:20250121T145832Z
UID:10003090-1747216800-1747224000@www.lifelonglearningcollaborative.org
SUMMARY:Paint Like a Woman II
DESCRIPTION:
URL:https://www.lifelonglearningcollaborative.org/event/paint-like-a-woman-ii/2025-05-14/
LOCATION:Temple Beth-El\, 70 Orchard Avenue\, Providence\, RI\, United States
CATEGORIES:Courses
END:VEVENT
BEGIN:VEVENT
DTSTART;TZID=America/New_York:20250514T100000
DTEND;TZID=America/New_York:20250514T120000
DTSTAMP:20260423T043426
CREATED:20250121T135534Z
LAST-MODIFIED:20250121T135534Z
UID:10003101-1747216800-1747224000@www.lifelonglearningcollaborative.org
SUMMARY:Writing a Memoir (Zoom)
DESCRIPTION:
URL:https://www.lifelonglearningcollaborative.org/event/writing-a-memoir-zoom/2025-05-14/
LOCATION:ZOOM
CATEGORIES:Courses
END:VEVENT
BEGIN:VEVENT
DTSTART;TZID=America/New_York:20250514T130000
DTEND;TZID=America/New_York:20250514T150000
DTSTAMP:20260423T043426
CREATED:20250121T135612Z
LAST-MODIFIED:20250121T135612Z
UID:10003111-1747227600-1747234800@www.lifelonglearningcollaborative.org
SUMMARY:Hot Topics
DESCRIPTION:
URL:https://www.lifelonglearningcollaborative.org/event/hot-topics-3-7/2025-05-14/
LOCATION:ZOOM
CATEGORIES:Courses
END:VEVENT
BEGIN:VEVENT
DTSTART;TZID=America/New_York:20250514T130000
DTEND;TZID=America/New_York:20250514T150000
DTSTAMP:20260423T043426
CREATED:20250121T135707Z
LAST-MODIFIED:20250121T145647Z
UID:10003129-1747227600-1747234800@www.lifelonglearningcollaborative.org
SUMMARY:LLC Knits Hybrid
DESCRIPTION:Hybrid course held in-person at Temple Beth-El and on Zoom.
URL:https://www.lifelonglearningcollaborative.org/event/llc-knits-hybrid-2-2/2025-05-14/
LOCATION:RI
CATEGORIES:Courses
END:VEVENT
BEGIN:VEVENT
DTSTART;TZID=America/New_York:20250515T100000
DTEND;TZID=America/New_York:20250515T120000
DTSTAMP:20260423T043426
CREATED:20250121T135801Z
LAST-MODIFIED:20250121T145927Z
UID:10003148-1747303200-1747310400@www.lifelonglearningcollaborative.org
SUMMARY:Theater Conversations
DESCRIPTION:
URL:https://www.lifelonglearningcollaborative.org/event/theater-conversations-3-3/2025-05-15/
LOCATION:Temple Beth-El\, 70 Orchard Avenue\, Providence\, RI\, United States
CATEGORIES:Courses
END:VEVENT
BEGIN:VEVENT
DTSTART;TZID=America/New_York:20250515T130000
DTEND;TZID=America/New_York:20250515T150000
DTSTAMP:20260423T043426
CREATED:20250121T140149Z
LAST-MODIFIED:20250121T140149Z
UID:10003189-1747314000-1747321200@www.lifelonglearningcollaborative.org
SUMMARY:Writing a Memoir (TBE)
DESCRIPTION:
URL:https://www.lifelonglearningcollaborative.org/event/writing-a-memoir-tbe/2025-05-15/
LOCATION:Temple Beth-El\, 70 Orchard Avenue\, Providence\, RI\, United States
CATEGORIES:Courses
END:VEVENT
BEGIN:VEVENT
DTSTART;TZID=America/New_York:20250519T100000
DTEND;TZID=America/New_York:20250519T120000
DTSTAMP:20260423T043426
CREATED:20250121T134228Z
LAST-MODIFIED:20250121T134228Z
UID:10002939-1747648800-1747656000@www.lifelonglearningcollaborative.org
SUMMARY:Open Studio Art (Zoom)
DESCRIPTION:
URL:https://www.lifelonglearningcollaborative.org/event/open-studio-art-zoom-2-3/2025-05-19/
LOCATION:ZOOM
CATEGORIES:Courses
END:VEVENT
BEGIN:VEVENT
DTSTART;TZID=America/New_York:20250519T100000
DTEND;TZID=America/New_York:20250519T120000
DTSTAMP:20260423T043426
CREATED:20250121T134322Z
LAST-MODIFIED:20250121T134322Z
UID:10002949-1747648800-1747656000@www.lifelonglearningcollaborative.org
SUMMARY:Absurd Comedies\, II
DESCRIPTION:
URL:https://www.lifelonglearningcollaborative.org/event/absurd-comedies-ii/2025-05-19/
LOCATION:ZOOM
CATEGORIES:Courses
END:VEVENT
BEGIN:VEVENT
DTSTART;TZID=America/New_York:20250520T100000
DTEND;TZID=America/New_York:20250520T120000
DTSTAMP:20260423T043426
CREATED:20250121T134410Z
LAST-MODIFIED:20250121T134410Z
UID:10002959-1747735200-1747742400@www.lifelonglearningcollaborative.org
SUMMARY:Open Studio Art (TBE)
DESCRIPTION:
URL:https://www.lifelonglearningcollaborative.org/event/open-studio-art-tbe-2-2/2025-05-20/
LOCATION:Temple Beth-El\, 70 Orchard Avenue\, Providence\, RI\, United States
CATEGORIES:Courses
END:VEVENT
BEGIN:VEVENT
DTSTART;TZID=America/New_York:20250520T100000
DTEND;TZID=America/New_York:20250520T120000
DTSTAMP:20260423T043426
CREATED:20250121T134453Z
LAST-MODIFIED:20250301T135559Z
UID:10002969-1747735200-1747742400@www.lifelonglearningcollaborative.org
SUMMARY:Israel: A Nation Reborn
DESCRIPTION:
URL:https://www.lifelonglearningcollaborative.org/event/israel-a-nation-reborn/2025-05-20/
LOCATION:ZOOM
CATEGORIES:Courses
END:VEVENT
BEGIN:VEVENT
DTSTART;TZID=America/New_York:20250520T100000
DTEND;TZID=America/New_York:20250520T120000
DTSTAMP:20260423T043426
CREATED:20250121T134535Z
LAST-MODIFIED:20250121T134535Z
UID:10002979-1747735200-1747742400@www.lifelonglearningcollaborative.org
SUMMARY:Whodunit?
DESCRIPTION:
URL:https://www.lifelonglearningcollaborative.org/event/whodunit/2025-05-20/
LOCATION:Temple Beth-El\, 70 Orchard Avenue\, Providence\, RI\, United States
CATEGORIES:Courses
END:VEVENT
BEGIN:VEVENT
DTSTART;TZID=America/New_York:20250520T100000
DTEND;TZID=America/New_York:20250520T120000
DTSTAMP:20260423T043426
CREATED:20250121T134623Z
LAST-MODIFIED:20250121T134623Z
UID:10002989-1747735200-1747742400@www.lifelonglearningcollaborative.org
SUMMARY:Films: Food & Wine
DESCRIPTION:
URL:https://www.lifelonglearningcollaborative.org/event/films-food-wine/2025-05-20/
LOCATION:ZOOM
CATEGORIES:Courses
END:VEVENT
BEGIN:VEVENT
DTSTART;TZID=America/New_York:20250520T130000
DTEND;TZID=America/New_York:20250520T150000
DTSTAMP:20260423T043426
CREATED:20250121T134752Z
LAST-MODIFIED:20250121T134752Z
UID:10003009-1747746000-1747753200@www.lifelonglearningcollaborative.org
SUMMARY:Music You've Never Heard
DESCRIPTION:
URL:https://www.lifelonglearningcollaborative.org/event/music-youve-never-heard/2025-05-20/
LOCATION:Temple Beth-El\, 70 Orchard Avenue\, Providence\, RI\, United States
CATEGORIES:Courses
END:VEVENT
BEGIN:VEVENT
DTSTART;TZID=America/New_York:20250520T130000
DTEND;TZID=America/New_York:20250520T150000
DTSTAMP:20260423T043426
CREATED:20250121T134833Z
LAST-MODIFIED:20250121T134833Z
UID:10003019-1747746000-1747753200@www.lifelonglearningcollaborative.org
SUMMARY:Cell Phone Photo Club
DESCRIPTION:
URL:https://www.lifelonglearningcollaborative.org/event/cell-phone-photo-club-2-5/2025-05-20/
LOCATION:Temple Beth-El\, 70 Orchard Avenue\, Providence\, RI\, United States
CATEGORIES:Courses
END:VEVENT
BEGIN:VEVENT
DTSTART;TZID=America/New_York:20250520T151500
DTEND;TZID=America/New_York:20250520T170000
DTSTAMP:20260423T043426
CREATED:20250121T135228Z
LAST-MODIFIED:20250121T135228Z
UID:10003054-1747754100-1747760400@www.lifelonglearningcollaborative.org
SUMMARY:Scrabble
DESCRIPTION:
URL:https://www.lifelonglearningcollaborative.org/event/scrabble-17/2025-05-20/
LOCATION:Temple Beth-El\, 70 Orchard Avenue\, Providence\, RI\, United States
CATEGORIES:Courses
END:VEVENT
BEGIN:VEVENT
DTSTART;TZID=America/New_York:20250521T100000
DTEND;TZID=America/New_York:20250521T120000
DTSTAMP:20260423T043426
CREATED:20250121T135355Z
LAST-MODIFIED:20250121T145812Z
UID:10003073-1747821600-1747828800@www.lifelonglearningcollaborative.org
SUMMARY:Reading Plays: Families
DESCRIPTION:
URL:https://www.lifelonglearningcollaborative.org/event/reading-plays-families/2025-05-21/
LOCATION:Temple Beth-El\, 70 Orchard Avenue\, Providence\, RI\, United States
CATEGORIES:Courses
END:VEVENT
BEGIN:VEVENT
DTSTART;TZID=America/New_York:20250521T100000
DTEND;TZID=America/New_York:20250521T120000
DTSTAMP:20260423T043426
CREATED:20250121T135451Z
LAST-MODIFIED:20250121T145832Z
UID:10003092-1747821600-1747828800@www.lifelonglearningcollaborative.org
SUMMARY:Paint Like a Woman II
DESCRIPTION:
URL:https://www.lifelonglearningcollaborative.org/event/paint-like-a-woman-ii/2025-05-21/
LOCATION:Temple Beth-El\, 70 Orchard Avenue\, Providence\, RI\, United States
CATEGORIES:Courses
END:VEVENT
BEGIN:VEVENT
DTSTART;TZID=America/New_York:20250521T100000
DTEND;TZID=America/New_York:20250521T120000
DTSTAMP:20260423T043426
CREATED:20250121T135534Z
LAST-MODIFIED:20250121T135534Z
UID:10003102-1747821600-1747828800@www.lifelonglearningcollaborative.org
SUMMARY:Writing a Memoir (Zoom)
DESCRIPTION:
URL:https://www.lifelonglearningcollaborative.org/event/writing-a-memoir-zoom/2025-05-21/
LOCATION:ZOOM
CATEGORIES:Courses
END:VEVENT
BEGIN:VEVENT
DTSTART;TZID=America/New_York:20250521T130000
DTEND;TZID=America/New_York:20250521T150000
DTSTAMP:20260423T043426
CREATED:20250121T135612Z
LAST-MODIFIED:20250121T135612Z
UID:10003112-1747832400-1747839600@www.lifelonglearningcollaborative.org
SUMMARY:Hot Topics
DESCRIPTION:
URL:https://www.lifelonglearningcollaborative.org/event/hot-topics-3-7/2025-05-21/
LOCATION:ZOOM
CATEGORIES:Courses
END:VEVENT
BEGIN:VEVENT
DTSTART;TZID=America/New_York:20250521T130000
DTEND;TZID=America/New_York:20250521T150000
DTSTAMP:20260423T043426
CREATED:20250121T135707Z
LAST-MODIFIED:20250121T145647Z
UID:10003131-1747832400-1747839600@www.lifelonglearningcollaborative.org
SUMMARY:LLC Knits Hybrid
DESCRIPTION:Hybrid course held in-person at Temple Beth-El and on Zoom.
URL:https://www.lifelonglearningcollaborative.org/event/llc-knits-hybrid-2-2/2025-05-21/
LOCATION:RI
CATEGORIES:Courses
END:VEVENT
BEGIN:VEVENT
DTSTART;TZID=America/New_York:20250522T100000
DTEND;TZID=America/New_York:20250522T120000
DTSTAMP:20260423T043426
CREATED:20250121T135801Z
LAST-MODIFIED:20250121T145927Z
UID:10003150-1747908000-1747915200@www.lifelonglearningcollaborative.org
SUMMARY:Theater Conversations
DESCRIPTION:
URL:https://www.lifelonglearningcollaborative.org/event/theater-conversations-3-3/2025-05-22/
LOCATION:Temple Beth-El\, 70 Orchard Avenue\, Providence\, RI\, United States
CATEGORIES:Courses
END:VEVENT
BEGIN:VEVENT
DTSTART;TZID=America/New_York:20250522T130000
DTEND;TZID=America/New_York:20250522T150000
DTSTAMP:20260423T043426
CREATED:20250121T140149Z
LAST-MODIFIED:20250121T140149Z
UID:10003190-1747918800-1747926000@www.lifelonglearningcollaborative.org
SUMMARY:Writing a Memoir (TBE)
DESCRIPTION:
URL:https://www.lifelonglearningcollaborative.org/event/writing-a-memoir-tbe/2025-05-22/
LOCATION:Temple Beth-El\, 70 Orchard Avenue\, Providence\, RI\, United States
CATEGORIES:Courses
END:VEVENT
BEGIN:VEVENT
DTSTART;TZID=America/New_York:20250526T130000
DTEND;TZID=America/New_York:20250526T150000
DTSTAMP:20260423T043426
CREATED:20240715T131626Z
LAST-MODIFIED:20240715T131626Z
UID:10001921-1748264400-1748271600@www.lifelonglearningcollaborative.org
SUMMARY:Historical Novel Book Club 24-25
DESCRIPTION:
URL:https://www.lifelonglearningcollaborative.org/event/historical-novel-book-club-24-25/2025-05-26/
LOCATION:ZOOM
CATEGORIES:Courses
END:VEVENT
END:VCALENDAR