BEGIN:VCALENDAR
VERSION:2.0
PRODID:-//Lifelong Learning Collaborative - ECPv6.15.12.2//NONSGML v1.0//EN
CALSCALE:GREGORIAN
METHOD:PUBLISH
X-ORIGINAL-URL:https://www.lifelonglearningcollaborative.org
X-WR-CALDESC:Events for Lifelong Learning Collaborative
REFRESH-INTERVAL;VALUE=DURATION:PT1H
X-Robots-Tag:noindex
X-PUBLISHED-TTL:PT1H
BEGIN:VTIMEZONE
TZID:America/New_York
BEGIN:DAYLIGHT
TZOFFSETFROM:-0500
TZOFFSETTO:-0400
TZNAME:EDT
DTSTART:20240310T070000
END:DAYLIGHT
BEGIN:STANDARD
TZOFFSETFROM:-0400
TZOFFSETTO:-0500
TZNAME:EST
DTSTART:20241103T060000
END:STANDARD
BEGIN:DAYLIGHT
TZOFFSETFROM:-0500
TZOFFSETTO:-0400
TZNAME:EDT
DTSTART:20250309T070000
END:DAYLIGHT
BEGIN:STANDARD
TZOFFSETFROM:-0400
TZOFFSETTO:-0500
TZNAME:EST
DTSTART:20251102T060000
END:STANDARD
BEGIN:DAYLIGHT
TZOFFSETFROM:-0500
TZOFFSETTO:-0400
TZNAME:EDT
DTSTART:20260308T070000
END:DAYLIGHT
BEGIN:STANDARD
TZOFFSETFROM:-0400
TZOFFSETTO:-0500
TZNAME:EST
DTSTART:20261101T060000
END:STANDARD
END:VTIMEZONE
BEGIN:VEVENT
DTSTART;TZID=America/New_York:20250424T130000
DTEND;TZID=America/New_York:20250424T150000
DTSTAMP:20260422T175612
CREATED:20250121T140149Z
LAST-MODIFIED:20250121T140149Z
UID:10003186-1745499600-1745506800@www.lifelonglearningcollaborative.org
SUMMARY:Writing a Memoir (TBE)
DESCRIPTION:
URL:https://www.lifelonglearningcollaborative.org/event/writing-a-memoir-tbe/2025-04-24/
LOCATION:Temple Beth-El\, 70 Orchard Avenue\, Providence\, RI\, United States
CATEGORIES:Courses
END:VEVENT
BEGIN:VEVENT
DTSTART;TZID=America/New_York:20250425T100000
DTEND;TZID=America/New_York:20250425T110000
DTSTAMP:20260422T175612
CREATED:20250121T140229Z
LAST-MODIFIED:20250121T140229Z
UID:10003196-1745575200-1745578800@www.lifelonglearningcollaborative.org
SUMMARY:Get Fit at Home
DESCRIPTION:
URL:https://www.lifelonglearningcollaborative.org/event/get-fit-at-home-3-8/2025-04-25/
LOCATION:ZOOM
CATEGORIES:Courses
END:VEVENT
BEGIN:VEVENT
DTSTART;TZID=America/New_York:20250425T100000
DTEND;TZID=America/New_York:20250425T120000
DTSTAMP:20260422T175612
CREATED:20250121T140332Z
LAST-MODIFIED:20250121T140332Z
UID:10003204-1745575200-1745582400@www.lifelonglearningcollaborative.org
SUMMARY:Fox Point
DESCRIPTION:Temple Beth-El and Fox Point
URL:https://www.lifelonglearningcollaborative.org/event/fox-point/2025-04-25/
LOCATION:Temple Beth-El\, 70 Orchard Avenue\, Providence\, RI\, United States
CATEGORIES:Courses
END:VEVENT
BEGIN:VEVENT
DTSTART;TZID=America/New_York:20250428T100000
DTEND;TZID=America/New_York:20250428T120000
DTSTAMP:20260422T175612
CREATED:20250121T134228Z
LAST-MODIFIED:20250121T134228Z
UID:10002936-1745834400-1745841600@www.lifelonglearningcollaborative.org
SUMMARY:Open Studio Art (Zoom)
DESCRIPTION:
URL:https://www.lifelonglearningcollaborative.org/event/open-studio-art-zoom-2-3/2025-04-28/
LOCATION:ZOOM
CATEGORIES:Courses
END:VEVENT
BEGIN:VEVENT
DTSTART;TZID=America/New_York:20250428T100000
DTEND;TZID=America/New_York:20250428T120000
DTSTAMP:20260422T175612
CREATED:20250121T134322Z
LAST-MODIFIED:20250121T134322Z
UID:10002946-1745834400-1745841600@www.lifelonglearningcollaborative.org
SUMMARY:Absurd Comedies\, II
DESCRIPTION:
URL:https://www.lifelonglearningcollaborative.org/event/absurd-comedies-ii/2025-04-28/
LOCATION:ZOOM
CATEGORIES:Courses
END:VEVENT
BEGIN:VEVENT
DTSTART;TZID=America/New_York:20250428T130000
DTEND;TZID=America/New_York:20250428T150000
DTSTAMP:20260422T175612
CREATED:20240715T131626Z
LAST-MODIFIED:20240715T131626Z
UID:10001920-1745845200-1745852400@www.lifelonglearningcollaborative.org
SUMMARY:Historical Novel Book Club 24-25
DESCRIPTION:
URL:https://www.lifelonglearningcollaborative.org/event/historical-novel-book-club-24-25/2025-04-28/
LOCATION:ZOOM
CATEGORIES:Courses
END:VEVENT
BEGIN:VEVENT
DTSTART;TZID=America/New_York:20250428T160000
DTEND;TZID=America/New_York:20250428T170000
DTSTAMP:20260422T175612
CREATED:20250219T185604Z
LAST-MODIFIED:20250219T185604Z
UID:10003222-1745856000-1745859600@www.lifelonglearningcollaborative.org
SUMMARY:Webinar Lecture w/ William Kole\, Journalist\, Author
DESCRIPTION:William J. Kole\, Award-winning journalist and author of The Big 100: The New World of Super-Aging\nLiving to 100 Whether You Want To Or Not \nAsk anyone how they feel about living to 100\, and you’re sure to get a spirited response. Some are eager to live as long as they can. Many worry about outliving their children\, their friends\, and their money. “It depends\,” others will answer: “Will I still have my health\, my mobility\, and my mind?” \nNews Flash: A triple-digit lifespan may well be your destiny whether you’d like it or not. We’re in the midst of what the United Nations calls a “longevity revolution.” More of us than ever before are living to 100. The number of centenarians is projected to increase eight times over by 2050\, and half of all 5-year-olds alive right now are expected to hit the century mark. \nHow is this tectonic demographic shift changing society? What will it be like to live into our 100s in a world that still values youth over advanced age? And is there anything we can do today to ensure our extra tomorrows are worth living? Award-winning journalist and author William J. Kole answers those pressing questions and others as he shares insights from his critically acclaimed book. \nWilliam J. Kole\, author of The Big 100: The New World of Super-Aging\, recently retired as New England editor for The Associated Press but continues to work as an editor for Axios. An acclaimed former foreign correspondent who has reported from North America\, Europe\, Africa and the Middle East\, Kole was a 2022 fellow in aging journalism at Columbia University in New York and at the National Press Foundation in Washington\, D.C.
URL:https://www.lifelonglearningcollaborative.org/event/webinar-lecture-w-william-kole-journalist-author/
LOCATION:ZOOM
CATEGORIES:Free Webinars
END:VEVENT
BEGIN:VEVENT
DTSTART;TZID=America/New_York:20250429T100000
DTEND;TZID=America/New_York:20250429T120000
DTSTAMP:20260422T175613
CREATED:20250121T134410Z
LAST-MODIFIED:20250121T134410Z
UID:10002956-1745920800-1745928000@www.lifelonglearningcollaborative.org
SUMMARY:Open Studio Art (TBE)
DESCRIPTION:
URL:https://www.lifelonglearningcollaborative.org/event/open-studio-art-tbe-2-2/2025-04-29/
LOCATION:Temple Beth-El\, 70 Orchard Avenue\, Providence\, RI\, United States
CATEGORIES:Courses
END:VEVENT
BEGIN:VEVENT
DTSTART;TZID=America/New_York:20250429T100000
DTEND;TZID=America/New_York:20250429T120000
DTSTAMP:20260422T175613
CREATED:20250121T134453Z
LAST-MODIFIED:20250301T135559Z
UID:10002966-1745920800-1745928000@www.lifelonglearningcollaborative.org
SUMMARY:Israel: A Nation Reborn
DESCRIPTION:
URL:https://www.lifelonglearningcollaborative.org/event/israel-a-nation-reborn/2025-04-29/
LOCATION:ZOOM
CATEGORIES:Courses
END:VEVENT
BEGIN:VEVENT
DTSTART;TZID=America/New_York:20250429T100000
DTEND;TZID=America/New_York:20250429T120000
DTSTAMP:20260422T175613
CREATED:20250121T134535Z
LAST-MODIFIED:20250121T134535Z
UID:10002976-1745920800-1745928000@www.lifelonglearningcollaborative.org
SUMMARY:Whodunit?
DESCRIPTION:
URL:https://www.lifelonglearningcollaborative.org/event/whodunit/2025-04-29/
LOCATION:Temple Beth-El\, 70 Orchard Avenue\, Providence\, RI\, United States
CATEGORIES:Courses
END:VEVENT
BEGIN:VEVENT
DTSTART;TZID=America/New_York:20250429T100000
DTEND;TZID=America/New_York:20250429T120000
DTSTAMP:20260422T175613
CREATED:20250121T134623Z
LAST-MODIFIED:20250121T134623Z
UID:10002986-1745920800-1745928000@www.lifelonglearningcollaborative.org
SUMMARY:Films: Food & Wine
DESCRIPTION:
URL:https://www.lifelonglearningcollaborative.org/event/films-food-wine/2025-04-29/
LOCATION:ZOOM
CATEGORIES:Courses
END:VEVENT
BEGIN:VEVENT
DTSTART;TZID=America/New_York:20250429T130000
DTEND;TZID=America/New_York:20250429T141500
DTSTAMP:20260422T175613
CREATED:20250121T135058Z
LAST-MODIFIED:20250121T135058Z
UID:10003033-1745931600-1745936100@www.lifelonglearningcollaborative.org
SUMMARY:Alexander Technique
DESCRIPTION:
URL:https://www.lifelonglearningcollaborative.org/event/alexander-technique-2-2/2025-04-29/
LOCATION:Temple Beth-El\, 70 Orchard Avenue\, Providence\, RI\, United States
CATEGORIES:Courses
END:VEVENT
BEGIN:VEVENT
DTSTART;TZID=America/New_York:20250429T130000
DTEND;TZID=America/New_York:20250429T150000
DTSTAMP:20260422T175613
CREATED:20250121T134752Z
LAST-MODIFIED:20250121T134752Z
UID:10003006-1745931600-1745938800@www.lifelonglearningcollaborative.org
SUMMARY:Music You've Never Heard
DESCRIPTION:
URL:https://www.lifelonglearningcollaborative.org/event/music-youve-never-heard/2025-04-29/
LOCATION:Temple Beth-El\, 70 Orchard Avenue\, Providence\, RI\, United States
CATEGORIES:Courses
END:VEVENT
BEGIN:VEVENT
DTSTART;TZID=America/New_York:20250429T130000
DTEND;TZID=America/New_York:20250429T150000
DTSTAMP:20260422T175613
CREATED:20250121T134833Z
LAST-MODIFIED:20250121T134833Z
UID:10003016-1745931600-1745938800@www.lifelonglearningcollaborative.org
SUMMARY:Cell Phone Photo Club
DESCRIPTION:
URL:https://www.lifelonglearningcollaborative.org/event/cell-phone-photo-club-2-5/2025-04-29/
LOCATION:Temple Beth-El\, 70 Orchard Avenue\, Providence\, RI\, United States
CATEGORIES:Courses
END:VEVENT
BEGIN:VEVENT
DTSTART;TZID=America/New_York:20250429T151500
DTEND;TZID=America/New_York:20250429T170000
DTSTAMP:20260422T175613
CREATED:20250121T135228Z
LAST-MODIFIED:20250121T135228Z
UID:10003051-1745939700-1745946000@www.lifelonglearningcollaborative.org
SUMMARY:Scrabble
DESCRIPTION:
URL:https://www.lifelonglearningcollaborative.org/event/scrabble-17/2025-04-29/
LOCATION:Temple Beth-El\, 70 Orchard Avenue\, Providence\, RI\, United States
CATEGORIES:Courses
END:VEVENT
BEGIN:VEVENT
DTSTART;TZID=America/New_York:20250430T100000
DTEND;TZID=America/New_York:20250430T120000
DTSTAMP:20260422T175613
CREATED:20250121T135355Z
LAST-MODIFIED:20250121T145812Z
UID:10003067-1746007200-1746014400@www.lifelonglearningcollaborative.org
SUMMARY:Reading Plays: Families
DESCRIPTION:
URL:https://www.lifelonglearningcollaborative.org/event/reading-plays-families/2025-04-30/
LOCATION:Temple Beth-El\, 70 Orchard Avenue\, Providence\, RI\, United States
CATEGORIES:Courses
END:VEVENT
BEGIN:VEVENT
DTSTART;TZID=America/New_York:20250430T100000
DTEND;TZID=America/New_York:20250430T120000
DTSTAMP:20260422T175613
CREATED:20250121T135451Z
LAST-MODIFIED:20250121T145832Z
UID:10003086-1746007200-1746014400@www.lifelonglearningcollaborative.org
SUMMARY:Paint Like a Woman II
DESCRIPTION:
URL:https://www.lifelonglearningcollaborative.org/event/paint-like-a-woman-ii/2025-04-30/
LOCATION:Temple Beth-El\, 70 Orchard Avenue\, Providence\, RI\, United States
CATEGORIES:Courses
END:VEVENT
BEGIN:VEVENT
DTSTART;TZID=America/New_York:20250430T100000
DTEND;TZID=America/New_York:20250430T120000
DTSTAMP:20260422T175613
CREATED:20250121T135534Z
LAST-MODIFIED:20250121T135534Z
UID:10003099-1746007200-1746014400@www.lifelonglearningcollaborative.org
SUMMARY:Writing a Memoir (Zoom)
DESCRIPTION:
URL:https://www.lifelonglearningcollaborative.org/event/writing-a-memoir-zoom/2025-04-30/
LOCATION:ZOOM
CATEGORIES:Courses
END:VEVENT
BEGIN:VEVENT
DTSTART;TZID=America/New_York:20250430T130000
DTEND;TZID=America/New_York:20250430T150000
DTSTAMP:20260422T175613
CREATED:20250121T135612Z
LAST-MODIFIED:20250121T135612Z
UID:10003109-1746018000-1746025200@www.lifelonglearningcollaborative.org
SUMMARY:Hot Topics
DESCRIPTION:
URL:https://www.lifelonglearningcollaborative.org/event/hot-topics-3-7/2025-04-30/
LOCATION:ZOOM
CATEGORIES:Courses
END:VEVENT
BEGIN:VEVENT
DTSTART;TZID=America/New_York:20250430T130000
DTEND;TZID=America/New_York:20250430T150000
DTSTAMP:20260422T175613
CREATED:20250121T135707Z
LAST-MODIFIED:20250121T145647Z
UID:10003125-1746018000-1746025200@www.lifelonglearningcollaborative.org
SUMMARY:LLC Knits Hybrid
DESCRIPTION:Hybrid course held in-person at Temple Beth-El and on Zoom.
URL:https://www.lifelonglearningcollaborative.org/event/llc-knits-hybrid-2-2/2025-04-30/
CATEGORIES:Courses
END:VEVENT
BEGIN:VEVENT
DTSTART;TZID=America/New_York:20250501T100000
DTEND;TZID=America/New_York:20250501T120000
DTSTAMP:20260422T175613
CREATED:20250121T135801Z
LAST-MODIFIED:20250121T145927Z
UID:10003144-1746093600-1746100800@www.lifelonglearningcollaborative.org
SUMMARY:Theater Conversations
DESCRIPTION:
URL:https://www.lifelonglearningcollaborative.org/event/theater-conversations-3-3/2025-05-01/
LOCATION:Temple Beth-El\, 70 Orchard Avenue\, Providence\, RI\, United States
CATEGORIES:Courses
END:VEVENT
BEGIN:VEVENT
DTSTART;TZID=America/New_York:20250501T100000
DTEND;TZID=America/New_York:20250501T120000
DTSTAMP:20260422T175613
CREATED:20250121T135846Z
LAST-MODIFIED:20250121T150011Z
UID:10003163-1746093600-1746100800@www.lifelonglearningcollaborative.org
SUMMARY:Short Stories: Native Amer. Authors
DESCRIPTION:
URL:https://www.lifelonglearningcollaborative.org/event/short-stories-native-amer-authors/2025-05-01/
LOCATION:Temple Beth-El\, 70 Orchard Avenue\, Providence\, RI\, United States
CATEGORIES:Courses
END:VEVENT
BEGIN:VEVENT
DTSTART;TZID=America/New_York:20250501T130000
DTEND;TZID=America/New_York:20250501T150000
DTSTAMP:20260422T175613
CREATED:20250121T135959Z
LAST-MODIFIED:20250121T135959Z
UID:10003172-1746104400-1746111600@www.lifelonglearningcollaborative.org
SUMMARY:Block Island
DESCRIPTION:Optional day trip to Block Island the week of May 12
URL:https://www.lifelonglearningcollaborative.org/event/block-island/2025-05-01/
LOCATION:Temple Beth-El\, 70 Orchard Avenue\, Providence\, RI\, United States
CATEGORIES:Courses
END:VEVENT
BEGIN:VEVENT
DTSTART;TZID=America/New_York:20250501T130000
DTEND;TZID=America/New_York:20250501T150000
DTSTAMP:20260422T175613
CREATED:20250121T140058Z
LAST-MODIFIED:20250121T140058Z
UID:10003179-1746104400-1746111600@www.lifelonglearningcollaborative.org
SUMMARY:Ticket to the Opera Hybrid
DESCRIPTION:Hybrid course held in-person at Temple Beth-El and on Zoom.
URL:https://www.lifelonglearningcollaborative.org/event/ticket-to-the-opera-hybrid/2025-05-01/
CATEGORIES:Courses
END:VEVENT
BEGIN:VEVENT
DTSTART;TZID=America/New_York:20250501T130000
DTEND;TZID=America/New_York:20250501T150000
DTSTAMP:20260422T175613
CREATED:20250121T140149Z
LAST-MODIFIED:20250121T140149Z
UID:10003187-1746104400-1746111600@www.lifelonglearningcollaborative.org
SUMMARY:Writing a Memoir (TBE)
DESCRIPTION:
URL:https://www.lifelonglearningcollaborative.org/event/writing-a-memoir-tbe/2025-05-01/
LOCATION:Temple Beth-El\, 70 Orchard Avenue\, Providence\, RI\, United States
CATEGORIES:Courses
END:VEVENT
BEGIN:VEVENT
DTSTART;TZID=America/New_York:20250502T100000
DTEND;TZID=America/New_York:20250502T110000
DTSTAMP:20260422T175613
CREATED:20250121T140229Z
LAST-MODIFIED:20250121T140229Z
UID:10003197-1746180000-1746183600@www.lifelonglearningcollaborative.org
SUMMARY:Get Fit at Home
DESCRIPTION:
URL:https://www.lifelonglearningcollaborative.org/event/get-fit-at-home-3-8/2025-05-02/
LOCATION:ZOOM
CATEGORIES:Courses
END:VEVENT
BEGIN:VEVENT
DTSTART;TZID=America/New_York:20250502T100000
DTEND;TZID=America/New_York:20250502T120000
DTSTAMP:20260422T175613
CREATED:20250121T140332Z
LAST-MODIFIED:20250121T140332Z
UID:10003205-1746180000-1746187200@www.lifelonglearningcollaborative.org
SUMMARY:Fox Point
DESCRIPTION:Temple Beth-El and Fox Point
URL:https://www.lifelonglearningcollaborative.org/event/fox-point/2025-05-02/
LOCATION:Temple Beth-El\, 70 Orchard Avenue\, Providence\, RI\, United States
CATEGORIES:Courses
END:VEVENT
BEGIN:VEVENT
DTSTART;TZID=America/New_York:20250505T100000
DTEND;TZID=America/New_York:20250505T120000
DTSTAMP:20260422T175613
CREATED:20250121T134228Z
LAST-MODIFIED:20250121T134228Z
UID:10002937-1746439200-1746446400@www.lifelonglearningcollaborative.org
SUMMARY:Open Studio Art (Zoom)
DESCRIPTION:
URL:https://www.lifelonglearningcollaborative.org/event/open-studio-art-zoom-2-3/2025-05-05/
LOCATION:ZOOM
CATEGORIES:Courses
END:VEVENT
BEGIN:VEVENT
DTSTART;TZID=America/New_York:20250505T100000
DTEND;TZID=America/New_York:20250505T120000
DTSTAMP:20260422T175613
CREATED:20250121T134322Z
LAST-MODIFIED:20250121T134322Z
UID:10002947-1746439200-1746446400@www.lifelonglearningcollaborative.org
SUMMARY:Absurd Comedies\, II
DESCRIPTION:
URL:https://www.lifelonglearningcollaborative.org/event/absurd-comedies-ii/2025-05-05/
LOCATION:ZOOM
CATEGORIES:Courses
END:VEVENT
BEGIN:VEVENT
DTSTART;TZID=America/New_York:20250506T100000
DTEND;TZID=America/New_York:20250506T120000
DTSTAMP:20260422T175613
CREATED:20250121T134410Z
LAST-MODIFIED:20250121T134410Z
UID:10002957-1746525600-1746532800@www.lifelonglearningcollaborative.org
SUMMARY:Open Studio Art (TBE)
DESCRIPTION:
URL:https://www.lifelonglearningcollaborative.org/event/open-studio-art-tbe-2-2/2025-05-06/
LOCATION:Temple Beth-El\, 70 Orchard Avenue\, Providence\, RI\, United States
CATEGORIES:Courses
END:VEVENT
END:VCALENDAR