BEGIN:VCALENDAR
VERSION:2.0
PRODID:-//Lifelong Learning Collaborative - ECPv6.15.12.2//NONSGML v1.0//EN
CALSCALE:GREGORIAN
METHOD:PUBLISH
X-ORIGINAL-URL:https://www.lifelonglearningcollaborative.org
X-WR-CALDESC:Events for Lifelong Learning Collaborative
REFRESH-INTERVAL;VALUE=DURATION:PT1H
X-Robots-Tag:noindex
X-PUBLISHED-TTL:PT1H
BEGIN:VTIMEZONE
TZID:America/New_York
BEGIN:DAYLIGHT
TZOFFSETFROM:-0500
TZOFFSETTO:-0400
TZNAME:EDT
DTSTART:20240310T070000
END:DAYLIGHT
BEGIN:STANDARD
TZOFFSETFROM:-0400
TZOFFSETTO:-0500
TZNAME:EST
DTSTART:20241103T060000
END:STANDARD
BEGIN:DAYLIGHT
TZOFFSETFROM:-0500
TZOFFSETTO:-0400
TZNAME:EDT
DTSTART:20250309T070000
END:DAYLIGHT
BEGIN:STANDARD
TZOFFSETFROM:-0400
TZOFFSETTO:-0500
TZNAME:EST
DTSTART:20251102T060000
END:STANDARD
BEGIN:DAYLIGHT
TZOFFSETFROM:-0500
TZOFFSETTO:-0400
TZNAME:EDT
DTSTART:20260308T070000
END:DAYLIGHT
BEGIN:STANDARD
TZOFFSETFROM:-0400
TZOFFSETTO:-0500
TZNAME:EST
DTSTART:20261101T060000
END:STANDARD
END:VTIMEZONE
BEGIN:VEVENT
DTSTART;TZID=America/New_York:20250415T151500
DTEND;TZID=America/New_York:20250415T170000
DTSTAMP:20260422T181023
CREATED:20250121T135228Z
LAST-MODIFIED:20250121T135228Z
UID:10003049-1744730100-1744736400@www.lifelonglearningcollaborative.org
SUMMARY:Scrabble
DESCRIPTION:
URL:https://www.lifelonglearningcollaborative.org/event/scrabble-17/2025-04-15/
LOCATION:Temple Beth-El\, 70 Orchard Avenue\, Providence\, RI\, United States
CATEGORIES:Courses
END:VEVENT
BEGIN:VEVENT
DTSTART;TZID=America/New_York:20250416T100000
DTEND;TZID=America/New_York:20250416T120000
DTSTAMP:20260422T181023
CREATED:20250121T135355Z
LAST-MODIFIED:20250121T145812Z
UID:10003063-1744797600-1744804800@www.lifelonglearningcollaborative.org
SUMMARY:Reading Plays: Families
DESCRIPTION:
URL:https://www.lifelonglearningcollaborative.org/event/reading-plays-families/2025-04-16/
LOCATION:Temple Beth-El\, 70 Orchard Avenue\, Providence\, RI\, United States
CATEGORIES:Courses
END:VEVENT
BEGIN:VEVENT
DTSTART;TZID=America/New_York:20250416T100000
DTEND;TZID=America/New_York:20250416T120000
DTSTAMP:20260422T181023
CREATED:20250121T135451Z
LAST-MODIFIED:20250121T145832Z
UID:10003082-1744797600-1744804800@www.lifelonglearningcollaborative.org
SUMMARY:Paint Like a Woman II
DESCRIPTION:
URL:https://www.lifelonglearningcollaborative.org/event/paint-like-a-woman-ii/2025-04-16/
LOCATION:Temple Beth-El\, 70 Orchard Avenue\, Providence\, RI\, United States
CATEGORIES:Courses
END:VEVENT
BEGIN:VEVENT
DTSTART;TZID=America/New_York:20250416T100000
DTEND;TZID=America/New_York:20250416T120000
DTSTAMP:20260422T181023
CREATED:20250121T135534Z
LAST-MODIFIED:20250121T135534Z
UID:10003097-1744797600-1744804800@www.lifelonglearningcollaborative.org
SUMMARY:Writing a Memoir (Zoom)
DESCRIPTION:
URL:https://www.lifelonglearningcollaborative.org/event/writing-a-memoir-zoom/2025-04-16/
LOCATION:ZOOM
CATEGORIES:Courses
END:VEVENT
BEGIN:VEVENT
DTSTART;TZID=America/New_York:20250416T130000
DTEND;TZID=America/New_York:20250416T150000
DTSTAMP:20260422T181023
CREATED:20250121T135612Z
LAST-MODIFIED:20250121T135612Z
UID:10003107-1744808400-1744815600@www.lifelonglearningcollaborative.org
SUMMARY:Hot Topics
DESCRIPTION:
URL:https://www.lifelonglearningcollaborative.org/event/hot-topics-3-7/2025-04-16/
LOCATION:ZOOM
CATEGORIES:Courses
END:VEVENT
BEGIN:VEVENT
DTSTART;TZID=America/New_York:20250416T130000
DTEND;TZID=America/New_York:20250416T150000
DTSTAMP:20260422T181023
CREATED:20250121T135707Z
LAST-MODIFIED:20250121T145647Z
UID:10003121-1744808400-1744815600@www.lifelonglearningcollaborative.org
SUMMARY:LLC Knits Hybrid
DESCRIPTION:Hybrid course held in-person at Temple Beth-El and on Zoom.
URL:https://www.lifelonglearningcollaborative.org/event/llc-knits-hybrid-2-2/2025-04-16/
CATEGORIES:Courses
END:VEVENT
BEGIN:VEVENT
DTSTART;TZID=America/New_York:20250416T160000
DTEND;TZID=America/New_York:20250416T170000
DTSTAMP:20260422T181023
CREATED:20250219T185502Z
LAST-MODIFIED:20250219T185502Z
UID:10003221-1744819200-1744822800@www.lifelonglearningcollaborative.org
SUMMARY:Webinar Lecture w/ Ed Iannuccilli\, MD\, Author
DESCRIPTION:The First Italians to Rhode Island \nJoin us for an enlightening presentation by Dr. Ed Iannuccilli exploring the legacy of early Italians in Rhode Island. Discover how these artisans\, initially conscripted for work in homes and churches\, shaped our communities. Dr. Iannuccilli will highlight notable figures like Giuseppe Carlo Mariani and celebrate the contributions of Italians who have left a lasting impact. Don’t miss this opportunity to learn about the rich heritage that continues to inspire pride in our Italian-American community. \nEd Iannuccilli\, MD\, a retired gastroenterologist\, has had extensive experience in academics\, management\, governance\, and entrepreneurial endeavors. Former Chairman of the Board at Rhode Island Hospital and a former member of the Lifespan Board\, he is a Clinical Professor Emeritus at the Warren Alpert Medical School at Brown University. He is the author of five books: Growing Up Italian: Grandfather’s Fig Tree and Other Stories\, What Ever Happened to Sunday Dinner and Other Stories\, My Story Continues: From Neighborhood to Junior High School\, Growing Up Italian: Collected Stories (e-book)\, A Whole Bunch of 500-Word Stories\, and Essays on the Art and Pain of Downsizing.
URL:https://www.lifelonglearningcollaborative.org/event/webinar-lecture-w-ed-iannuccilli-md-author/
LOCATION:ZOOM
CATEGORIES:Free Webinars
END:VEVENT
BEGIN:VEVENT
DTSTART;TZID=America/New_York:20250417T100000
DTEND;TZID=America/New_York:20250417T120000
DTSTAMP:20260422T181023
CREATED:20250121T135801Z
LAST-MODIFIED:20250121T145927Z
UID:10003140-1744884000-1744891200@www.lifelonglearningcollaborative.org
SUMMARY:Theater Conversations
DESCRIPTION:
URL:https://www.lifelonglearningcollaborative.org/event/theater-conversations-3-3/2025-04-17/
LOCATION:Temple Beth-El\, 70 Orchard Avenue\, Providence\, RI\, United States
CATEGORIES:Courses
END:VEVENT
BEGIN:VEVENT
DTSTART;TZID=America/New_York:20250417T100000
DTEND;TZID=America/New_York:20250417T120000
DTSTAMP:20260422T181023
CREATED:20250121T135846Z
LAST-MODIFIED:20250121T150011Z
UID:10003159-1744884000-1744891200@www.lifelonglearningcollaborative.org
SUMMARY:Short Stories: Native Amer. Authors
DESCRIPTION:
URL:https://www.lifelonglearningcollaborative.org/event/short-stories-native-amer-authors/2025-04-17/
LOCATION:Temple Beth-El\, 70 Orchard Avenue\, Providence\, RI\, United States
CATEGORIES:Courses
END:VEVENT
BEGIN:VEVENT
DTSTART;TZID=America/New_York:20250417T130000
DTEND;TZID=America/New_York:20250417T150000
DTSTAMP:20260422T181023
CREATED:20250121T135959Z
LAST-MODIFIED:20250121T135959Z
UID:10003170-1744894800-1744902000@www.lifelonglearningcollaborative.org
SUMMARY:Block Island
DESCRIPTION:Optional day trip to Block Island the week of May 12
URL:https://www.lifelonglearningcollaborative.org/event/block-island/2025-04-17/
LOCATION:Temple Beth-El\, 70 Orchard Avenue\, Providence\, RI\, United States
CATEGORIES:Courses
END:VEVENT
BEGIN:VEVENT
DTSTART;TZID=America/New_York:20250417T130000
DTEND;TZID=America/New_York:20250417T150000
DTSTAMP:20260422T181023
CREATED:20250121T140058Z
LAST-MODIFIED:20250121T140058Z
UID:10003177-1744894800-1744902000@www.lifelonglearningcollaborative.org
SUMMARY:Ticket to the Opera Hybrid
DESCRIPTION:Hybrid course held in-person at Temple Beth-El and on Zoom.
URL:https://www.lifelonglearningcollaborative.org/event/ticket-to-the-opera-hybrid/2025-04-17/
CATEGORIES:Courses
END:VEVENT
BEGIN:VEVENT
DTSTART;TZID=America/New_York:20250417T130000
DTEND;TZID=America/New_York:20250417T150000
DTSTAMP:20260422T181023
CREATED:20250121T140149Z
LAST-MODIFIED:20250121T140149Z
UID:10003185-1744894800-1744902000@www.lifelonglearningcollaborative.org
SUMMARY:Writing a Memoir (TBE)
DESCRIPTION:
URL:https://www.lifelonglearningcollaborative.org/event/writing-a-memoir-tbe/2025-04-17/
LOCATION:Temple Beth-El\, 70 Orchard Avenue\, Providence\, RI\, United States
CATEGORIES:Courses
END:VEVENT
BEGIN:VEVENT
DTSTART;TZID=America/New_York:20250418T100000
DTEND;TZID=America/New_York:20250418T110000
DTSTAMP:20260422T181023
CREATED:20250121T140229Z
LAST-MODIFIED:20250121T140229Z
UID:10003195-1744970400-1744974000@www.lifelonglearningcollaborative.org
SUMMARY:Get Fit at Home
DESCRIPTION:
URL:https://www.lifelonglearningcollaborative.org/event/get-fit-at-home-3-8/2025-04-18/
LOCATION:ZOOM
CATEGORIES:Courses
END:VEVENT
BEGIN:VEVENT
DTSTART;TZID=America/New_York:20250418T100000
DTEND;TZID=America/New_York:20250418T120000
DTSTAMP:20260422T181023
CREATED:20250121T140332Z
LAST-MODIFIED:20250121T140332Z
UID:10003203-1744970400-1744977600@www.lifelonglearningcollaborative.org
SUMMARY:Fox Point
DESCRIPTION:Temple Beth-El and Fox Point
URL:https://www.lifelonglearningcollaborative.org/event/fox-point/2025-04-18/
LOCATION:Temple Beth-El\, 70 Orchard Avenue\, Providence\, RI\, United States
CATEGORIES:Courses
END:VEVENT
BEGIN:VEVENT
DTSTART;TZID=America/New_York:20250421T100000
DTEND;TZID=America/New_York:20250421T120000
DTSTAMP:20260422T181023
CREATED:20250121T134228Z
LAST-MODIFIED:20250121T134228Z
UID:10002935-1745229600-1745236800@www.lifelonglearningcollaborative.org
SUMMARY:Open Studio Art (Zoom)
DESCRIPTION:
URL:https://www.lifelonglearningcollaborative.org/event/open-studio-art-zoom-2-3/2025-04-21/
LOCATION:ZOOM
CATEGORIES:Courses
END:VEVENT
BEGIN:VEVENT
DTSTART;TZID=America/New_York:20250421T100000
DTEND;TZID=America/New_York:20250421T120000
DTSTAMP:20260422T181023
CREATED:20250121T134322Z
LAST-MODIFIED:20250121T134322Z
UID:10002945-1745229600-1745236800@www.lifelonglearningcollaborative.org
SUMMARY:Absurd Comedies\, II
DESCRIPTION:
URL:https://www.lifelonglearningcollaborative.org/event/absurd-comedies-ii/2025-04-21/
LOCATION:ZOOM
CATEGORIES:Courses
END:VEVENT
BEGIN:VEVENT
DTSTART;TZID=America/New_York:20250422T100000
DTEND;TZID=America/New_York:20250422T120000
DTSTAMP:20260422T181023
CREATED:20250121T134410Z
LAST-MODIFIED:20250121T134410Z
UID:10002955-1745316000-1745323200@www.lifelonglearningcollaborative.org
SUMMARY:Open Studio Art (TBE)
DESCRIPTION:
URL:https://www.lifelonglearningcollaborative.org/event/open-studio-art-tbe-2-2/2025-04-22/
LOCATION:Temple Beth-El\, 70 Orchard Avenue\, Providence\, RI\, United States
CATEGORIES:Courses
END:VEVENT
BEGIN:VEVENT
DTSTART;TZID=America/New_York:20250422T100000
DTEND;TZID=America/New_York:20250422T120000
DTSTAMP:20260422T181023
CREATED:20250121T134453Z
LAST-MODIFIED:20250301T135559Z
UID:10002965-1745316000-1745323200@www.lifelonglearningcollaborative.org
SUMMARY:Israel: A Nation Reborn
DESCRIPTION:
URL:https://www.lifelonglearningcollaborative.org/event/israel-a-nation-reborn/2025-04-22/
LOCATION:ZOOM
CATEGORIES:Courses
END:VEVENT
BEGIN:VEVENT
DTSTART;TZID=America/New_York:20250422T100000
DTEND;TZID=America/New_York:20250422T120000
DTSTAMP:20260422T181023
CREATED:20250121T134535Z
LAST-MODIFIED:20250121T134535Z
UID:10002975-1745316000-1745323200@www.lifelonglearningcollaborative.org
SUMMARY:Whodunit?
DESCRIPTION:
URL:https://www.lifelonglearningcollaborative.org/event/whodunit/2025-04-22/
LOCATION:Temple Beth-El\, 70 Orchard Avenue\, Providence\, RI\, United States
CATEGORIES:Courses
END:VEVENT
BEGIN:VEVENT
DTSTART;TZID=America/New_York:20250422T100000
DTEND;TZID=America/New_York:20250422T120000
DTSTAMP:20260422T181023
CREATED:20250121T134623Z
LAST-MODIFIED:20250121T134623Z
UID:10002985-1745316000-1745323200@www.lifelonglearningcollaborative.org
SUMMARY:Films: Food & Wine
DESCRIPTION:
URL:https://www.lifelonglearningcollaborative.org/event/films-food-wine/2025-04-22/
LOCATION:ZOOM
CATEGORIES:Courses
END:VEVENT
BEGIN:VEVENT
DTSTART;TZID=America/New_York:20250422T130000
DTEND;TZID=America/New_York:20250422T141500
DTSTAMP:20260422T181023
CREATED:20250121T135058Z
LAST-MODIFIED:20250121T135058Z
UID:10003032-1745326800-1745331300@www.lifelonglearningcollaborative.org
SUMMARY:Alexander Technique
DESCRIPTION:
URL:https://www.lifelonglearningcollaborative.org/event/alexander-technique-2-2/2025-04-22/
LOCATION:Temple Beth-El\, 70 Orchard Avenue\, Providence\, RI\, United States
CATEGORIES:Courses
END:VEVENT
BEGIN:VEVENT
DTSTART;TZID=America/New_York:20250422T130000
DTEND;TZID=America/New_York:20250422T150000
DTSTAMP:20260422T181023
CREATED:20250121T134752Z
LAST-MODIFIED:20250121T134752Z
UID:10003005-1745326800-1745334000@www.lifelonglearningcollaborative.org
SUMMARY:Music You've Never Heard
DESCRIPTION:
URL:https://www.lifelonglearningcollaborative.org/event/music-youve-never-heard/2025-04-22/
LOCATION:Temple Beth-El\, 70 Orchard Avenue\, Providence\, RI\, United States
CATEGORIES:Courses
END:VEVENT
BEGIN:VEVENT
DTSTART;TZID=America/New_York:20250422T130000
DTEND;TZID=America/New_York:20250422T150000
DTSTAMP:20260422T181023
CREATED:20250121T134833Z
LAST-MODIFIED:20250121T134833Z
UID:10003015-1745326800-1745334000@www.lifelonglearningcollaborative.org
SUMMARY:Cell Phone Photo Club
DESCRIPTION:
URL:https://www.lifelonglearningcollaborative.org/event/cell-phone-photo-club-2-5/2025-04-22/
LOCATION:Temple Beth-El\, 70 Orchard Avenue\, Providence\, RI\, United States
CATEGORIES:Courses
END:VEVENT
BEGIN:VEVENT
DTSTART;TZID=America/New_York:20250422T151500
DTEND;TZID=America/New_York:20250422T170000
DTSTAMP:20260422T181023
CREATED:20250121T135228Z
LAST-MODIFIED:20250121T135228Z
UID:10003050-1745334900-1745341200@www.lifelonglearningcollaborative.org
SUMMARY:Scrabble
DESCRIPTION:
URL:https://www.lifelonglearningcollaborative.org/event/scrabble-17/2025-04-22/
LOCATION:Temple Beth-El\, 70 Orchard Avenue\, Providence\, RI\, United States
CATEGORIES:Courses
END:VEVENT
BEGIN:VEVENT
DTSTART;TZID=America/New_York:20250423T100000
DTEND;TZID=America/New_York:20250423T120000
DTSTAMP:20260422T181023
CREATED:20250121T135355Z
LAST-MODIFIED:20250121T145812Z
UID:10003065-1745402400-1745409600@www.lifelonglearningcollaborative.org
SUMMARY:Reading Plays: Families
DESCRIPTION:
URL:https://www.lifelonglearningcollaborative.org/event/reading-plays-families/2025-04-23/
LOCATION:Temple Beth-El\, 70 Orchard Avenue\, Providence\, RI\, United States
CATEGORIES:Courses
END:VEVENT
BEGIN:VEVENT
DTSTART;TZID=America/New_York:20250423T100000
DTEND;TZID=America/New_York:20250423T120000
DTSTAMP:20260422T181023
CREATED:20250121T135451Z
LAST-MODIFIED:20250121T145832Z
UID:10003084-1745402400-1745409600@www.lifelonglearningcollaborative.org
SUMMARY:Paint Like a Woman II
DESCRIPTION:
URL:https://www.lifelonglearningcollaborative.org/event/paint-like-a-woman-ii/2025-04-23/
LOCATION:Temple Beth-El\, 70 Orchard Avenue\, Providence\, RI\, United States
CATEGORIES:Courses
END:VEVENT
BEGIN:VEVENT
DTSTART;TZID=America/New_York:20250423T100000
DTEND;TZID=America/New_York:20250423T120000
DTSTAMP:20260422T181023
CREATED:20250121T135534Z
LAST-MODIFIED:20250121T135534Z
UID:10003098-1745402400-1745409600@www.lifelonglearningcollaborative.org
SUMMARY:Writing a Memoir (Zoom)
DESCRIPTION:
URL:https://www.lifelonglearningcollaborative.org/event/writing-a-memoir-zoom/2025-04-23/
LOCATION:ZOOM
CATEGORIES:Courses
END:VEVENT
BEGIN:VEVENT
DTSTART;TZID=America/New_York:20250423T130000
DTEND;TZID=America/New_York:20250423T150000
DTSTAMP:20260422T181023
CREATED:20250121T135612Z
LAST-MODIFIED:20250121T135612Z
UID:10003108-1745413200-1745420400@www.lifelonglearningcollaborative.org
SUMMARY:Hot Topics
DESCRIPTION:
URL:https://www.lifelonglearningcollaborative.org/event/hot-topics-3-7/2025-04-23/
LOCATION:ZOOM
CATEGORIES:Courses
END:VEVENT
BEGIN:VEVENT
DTSTART;TZID=America/New_York:20250423T130000
DTEND;TZID=America/New_York:20250423T150000
DTSTAMP:20260422T181023
CREATED:20250121T135707Z
LAST-MODIFIED:20250121T145647Z
UID:10003123-1745413200-1745420400@www.lifelonglearningcollaborative.org
SUMMARY:LLC Knits Hybrid
DESCRIPTION:Hybrid course held in-person at Temple Beth-El and on Zoom.
URL:https://www.lifelonglearningcollaborative.org/event/llc-knits-hybrid-2-2/2025-04-23/
CATEGORIES:Courses
END:VEVENT
BEGIN:VEVENT
DTSTART;TZID=America/New_York:20250424T100000
DTEND;TZID=America/New_York:20250424T120000
DTSTAMP:20260422T181023
CREATED:20250121T135801Z
LAST-MODIFIED:20250121T145927Z
UID:10003142-1745488800-1745496000@www.lifelonglearningcollaborative.org
SUMMARY:Theater Conversations
DESCRIPTION:
URL:https://www.lifelonglearningcollaborative.org/event/theater-conversations-3-3/2025-04-24/
LOCATION:Temple Beth-El\, 70 Orchard Avenue\, Providence\, RI\, United States
CATEGORIES:Courses
END:VEVENT
END:VCALENDAR