BEGIN:VCALENDAR
VERSION:2.0
PRODID:-//Lifelong Learning Collaborative - ECPv6.15.12.2//NONSGML v1.0//EN
CALSCALE:GREGORIAN
METHOD:PUBLISH
X-WR-CALNAME:Lifelong Learning Collaborative
X-ORIGINAL-URL:https://www.lifelonglearningcollaborative.org
X-WR-CALDESC:Events for Lifelong Learning Collaborative
REFRESH-INTERVAL;VALUE=DURATION:PT1H
X-Robots-Tag:noindex
X-PUBLISHED-TTL:PT1H
BEGIN:VTIMEZONE
TZID:America/New_York
BEGIN:DAYLIGHT
TZOFFSETFROM:-0500
TZOFFSETTO:-0400
TZNAME:EDT
DTSTART:20240310T070000
END:DAYLIGHT
BEGIN:STANDARD
TZOFFSETFROM:-0400
TZOFFSETTO:-0500
TZNAME:EST
DTSTART:20241103T060000
END:STANDARD
BEGIN:DAYLIGHT
TZOFFSETFROM:-0500
TZOFFSETTO:-0400
TZNAME:EDT
DTSTART:20250309T070000
END:DAYLIGHT
BEGIN:STANDARD
TZOFFSETFROM:-0400
TZOFFSETTO:-0500
TZNAME:EST
DTSTART:20251102T060000
END:STANDARD
BEGIN:DAYLIGHT
TZOFFSETFROM:-0500
TZOFFSETTO:-0400
TZNAME:EDT
DTSTART:20260308T070000
END:DAYLIGHT
BEGIN:STANDARD
TZOFFSETFROM:-0400
TZOFFSETTO:-0500
TZNAME:EST
DTSTART:20261101T060000
END:STANDARD
END:VTIMEZONE
BEGIN:VEVENT
DTSTART;TZID=America/New_York:20250711T100000
DTEND;TZID=America/New_York:20250711T110000
DTSTAMP:20260422T091505
CREATED:20250527T013150Z
LAST-MODIFIED:20250527T013150Z
UID:10003355-1752228000-1752231600@www.lifelonglearningcollaborative.org
SUMMARY:Get Fit
DESCRIPTION:
URL:https://www.lifelonglearningcollaborative.org/event/get-fit/2025-07-11/
LOCATION:ZOOM
CATEGORIES:Courses
END:VEVENT
BEGIN:VEVENT
DTSTART;TZID=America/New_York:20250710T100000
DTEND;TZID=America/New_York:20250710T120000
DTSTAMP:20260422T091505
CREATED:20250527T013056Z
LAST-MODIFIED:20250527T013525Z
UID:10003347-1752141600-1752148800@www.lifelonglearningcollaborative.org
SUMMARY:Barbara Pym
DESCRIPTION:
URL:https://www.lifelonglearningcollaborative.org/event/barbara-pym/2025-07-10/
LOCATION:Temple Beth-El\, 70 Orchard Avenue\, Providence\, RI\, United States
CATEGORIES:Courses
END:VEVENT
BEGIN:VEVENT
DTSTART;TZID=America/New_York:20250709T130000
DTEND;TZID=America/New_York:20250709T150000
DTSTAMP:20260422T091505
CREATED:20250527T012956Z
LAST-MODIFIED:20250527T012956Z
UID:10003343-1752066000-1752073200@www.lifelonglearningcollaborative.org
SUMMARY:Fiction Writing Group
DESCRIPTION:
URL:https://www.lifelonglearningcollaborative.org/event/fiction-writing-group/2025-07-09/
LOCATION:Temple Beth-El\, 70 Orchard Avenue\, Providence\, RI\, United States
CATEGORIES:Courses
END:VEVENT
BEGIN:VEVENT
DTSTART;TZID=America/New_York:20250709T130000
DTEND;TZID=America/New_York:20250709T150000
DTSTAMP:20260422T091505
CREATED:20250527T012811Z
LAST-MODIFIED:20250527T012811Z
UID:10003337-1752066000-1752073200@www.lifelonglearningcollaborative.org
SUMMARY:Jazz Dance
DESCRIPTION:
URL:https://www.lifelonglearningcollaborative.org/event/jazz-dance/2025-07-09/
LOCATION:Temple Beth-El\, 70 Orchard Avenue\, Providence\, RI\, United States
CATEGORIES:Courses
END:VEVENT
BEGIN:VEVENT
DTSTART;TZID=America/New_York:20250709T100000
DTEND;TZID=America/New_York:20250709T120000
DTSTAMP:20260422T091505
CREATED:20250527T012333Z
LAST-MODIFIED:20250527T012333Z
UID:10003322-1752055200-1752062400@www.lifelonglearningcollaborative.org
SUMMARY:Plein Air
DESCRIPTION:
URL:https://www.lifelonglearningcollaborative.org/event/plein-air-5/2025-07-09/
CATEGORIES:Courses
END:VEVENT
BEGIN:VEVENT
DTSTART;TZID=America/New_York:20250709T100000
DTEND;TZID=America/New_York:20250709T120000
DTSTAMP:20260422T091505
CREATED:20250527T012240Z
LAST-MODIFIED:20250527T012240Z
UID:10003314-1752055200-1752062400@www.lifelonglearningcollaborative.org
SUMMARY:How Things Are Made (Hybrid)
DESCRIPTION:
URL:https://www.lifelonglearningcollaborative.org/event/how-things-are-made-hybrid/2025-07-09/
CATEGORIES:Courses
END:VEVENT
BEGIN:VEVENT
DTSTART;TZID=America/New_York:20250708T151500
DTEND;TZID=America/New_York:20250708T170000
DTSTAMP:20260422T091505
CREATED:20250526T234839Z
LAST-MODIFIED:20250527T012549Z
UID:10003330-1751987700-1751994000@www.lifelonglearningcollaborative.org
SUMMARY:Scrabble
DESCRIPTION:
URL:https://www.lifelonglearningcollaborative.org/event/scrabble-19/2025-07-08/
LOCATION:Temple Beth-El\, 70 Orchard Avenue\, Providence\, RI\, United States
CATEGORIES:Courses
END:VEVENT
BEGIN:VEVENT
DTSTART;TZID=America/New_York:20250708T100000
DTEND;TZID=America/New_York:20250708T120000
DTSTAMP:20260422T091505
CREATED:20250526T234216Z
LAST-MODIFIED:20250526T234216Z
UID:10003293-1751968800-1751976000@www.lifelonglearningcollaborative.org
SUMMARY:Beach Reads
DESCRIPTION:
URL:https://www.lifelonglearningcollaborative.org/event/beach-reads-2-2/2025-07-08/
LOCATION:Temple Beth-El\, 70 Orchard Avenue\, Providence\, RI\, United States
CATEGORIES:Courses
END:VEVENT
BEGIN:VEVENT
DTSTART;TZID=America/New_York:20250707T130000
DTEND;TZID=America/New_York:20250707T150000
DTSTAMP:20260422T091505
CREATED:20250526T234005Z
LAST-MODIFIED:20250526T234005Z
UID:10003287-1751893200-1751900400@www.lifelonglearningcollaborative.org
SUMMARY:Armchair Travelers
DESCRIPTION:
URL:https://www.lifelonglearningcollaborative.org/event/armchair-travelers-2-2/2025-07-07/
LOCATION:international house of rhode island\, 8 Stimson Avenue\, Providence\, RI\, 02906\, United States
CATEGORIES:Courses
END:VEVENT
BEGIN:VEVENT
DTSTART;TZID=America/New_York:20250707T100000
DTEND;TZID=America/New_York:20250707T120000
DTSTAMP:20260422T091505
CREATED:20250526T233807Z
LAST-MODIFIED:20251103T210152Z
UID:10003227-1751882400-1751889600@www.lifelonglearningcollaborative.org
SUMMARY:Current Events
DESCRIPTION:
URL:https://www.lifelonglearningcollaborative.org/event/current-events/2025-07-07/
LOCATION:ZOOM
CATEGORIES:Courses
END:VEVENT
BEGIN:VEVENT
DTSTART;TZID=America/New_York:20250704T100000
DTEND;TZID=America/New_York:20250704T110000
DTSTAMP:20260422T091505
CREATED:20250527T013150Z
LAST-MODIFIED:20250527T013150Z
UID:10003354-1751623200-1751626800@www.lifelonglearningcollaborative.org
SUMMARY:Get Fit
DESCRIPTION:
URL:https://www.lifelonglearningcollaborative.org/event/get-fit/2025-07-04/
LOCATION:ZOOM
CATEGORIES:Courses
END:VEVENT
BEGIN:VEVENT
DTSTART;TZID=America/New_York:20250702T100000
DTEND;TZID=America/New_York:20250702T120000
DTSTAMP:20260422T091505
CREATED:20250527T012333Z
LAST-MODIFIED:20250527T012333Z
UID:10003321-1751450400-1751457600@www.lifelonglearningcollaborative.org
SUMMARY:Plein Air
DESCRIPTION:
URL:https://www.lifelonglearningcollaborative.org/event/plein-air-5/2025-07-02/
CATEGORIES:Courses
END:VEVENT
BEGIN:VEVENT
DTSTART;TZID=America/New_York:20250630T130000
DTEND;TZID=America/New_York:20250630T150000
DTSTAMP:20260422T091505
CREATED:20250526T234005Z
LAST-MODIFIED:20250526T234005Z
UID:10003286-1751288400-1751295600@www.lifelonglearningcollaborative.org
SUMMARY:Armchair Travelers
DESCRIPTION:
URL:https://www.lifelonglearningcollaborative.org/event/armchair-travelers-2-2/2025-06-30/
LOCATION:international house of rhode island\, 8 Stimson Avenue\, Providence\, RI\, 02906\, United States
CATEGORIES:Courses
END:VEVENT
BEGIN:VEVENT
DTSTART;TZID=America/New_York:20250630T130000
DTEND;TZID=America/New_York:20250630T150000
DTSTAMP:20260422T091505
CREATED:20240715T131626Z
LAST-MODIFIED:20240715T131626Z
UID:10001922-1751288400-1751295600@www.lifelonglearningcollaborative.org
SUMMARY:Historical Novel Book Club 24-25
DESCRIPTION:
URL:https://www.lifelonglearningcollaborative.org/event/historical-novel-book-club-24-25/2025-06-30/
LOCATION:ZOOM
CATEGORIES:Courses
END:VEVENT
BEGIN:VEVENT
DTSTART;TZID=America/New_York:20250630T100000
DTEND;TZID=America/New_York:20250630T120000
DTSTAMP:20260422T091505
CREATED:20250526T233807Z
LAST-MODIFIED:20251103T210152Z
UID:10003226-1751277600-1751284800@www.lifelonglearningcollaborative.org
SUMMARY:Current Events
DESCRIPTION:
URL:https://www.lifelonglearningcollaborative.org/event/current-events/2025-06-30/
LOCATION:ZOOM
CATEGORIES:Courses
END:VEVENT
BEGIN:VEVENT
DTSTART;TZID=America/New_York:20250627T100000
DTEND;TZID=America/New_York:20250627T120000
DTSTAMP:20260422T091505
CREATED:20250527T013701Z
LAST-MODIFIED:20250527T013701Z
UID:10003360-1751018400-1751025600@www.lifelonglearningcollaborative.org
SUMMARY:Forget Plymouth Rock
DESCRIPTION:
URL:https://www.lifelonglearningcollaborative.org/event/forget-plymouth-rock-2-2/2025-06-27/
CATEGORIES:Courses
END:VEVENT
BEGIN:VEVENT
DTSTART;TZID=America/New_York:20250627T100000
DTEND;TZID=America/New_York:20250627T110000
DTSTAMP:20260422T091505
CREATED:20250527T013150Z
LAST-MODIFIED:20250527T013150Z
UID:10003353-1751018400-1751022000@www.lifelonglearningcollaborative.org
SUMMARY:Get Fit
DESCRIPTION:
URL:https://www.lifelonglearningcollaborative.org/event/get-fit/2025-06-27/
LOCATION:ZOOM
CATEGORIES:Courses
END:VEVENT
BEGIN:VEVENT
DTSTART;TZID=America/New_York:20250626T100000
DTEND;TZID=America/New_York:20250626T120000
DTSTAMP:20260422T091505
CREATED:20250527T013056Z
LAST-MODIFIED:20250527T013525Z
UID:10003346-1750932000-1750939200@www.lifelonglearningcollaborative.org
SUMMARY:Barbara Pym
DESCRIPTION:
URL:https://www.lifelonglearningcollaborative.org/event/barbara-pym/2025-06-26/
LOCATION:Temple Beth-El\, 70 Orchard Avenue\, Providence\, RI\, United States
CATEGORIES:Courses
END:VEVENT
BEGIN:VEVENT
DTSTART;TZID=America/New_York:20250625T130000
DTEND;TZID=America/New_York:20250625T150000
DTSTAMP:20260422T091505
CREATED:20250527T012956Z
LAST-MODIFIED:20250527T012956Z
UID:10003342-1750856400-1750863600@www.lifelonglearningcollaborative.org
SUMMARY:Fiction Writing Group
DESCRIPTION:
URL:https://www.lifelonglearningcollaborative.org/event/fiction-writing-group/2025-06-25/
LOCATION:Temple Beth-El\, 70 Orchard Avenue\, Providence\, RI\, United States
CATEGORIES:Courses
END:VEVENT
BEGIN:VEVENT
DTSTART;TZID=America/New_York:20250625T130000
DTEND;TZID=America/New_York:20250625T150000
DTSTAMP:20260422T091505
CREATED:20250527T012811Z
LAST-MODIFIED:20250527T012811Z
UID:10003336-1750856400-1750863600@www.lifelonglearningcollaborative.org
SUMMARY:Jazz Dance
DESCRIPTION:
URL:https://www.lifelonglearningcollaborative.org/event/jazz-dance/2025-06-25/
LOCATION:Temple Beth-El\, 70 Orchard Avenue\, Providence\, RI\, United States
CATEGORIES:Courses
END:VEVENT
BEGIN:VEVENT
DTSTART;TZID=America/New_York:20250625T100000
DTEND;TZID=America/New_York:20250625T120000
DTSTAMP:20260422T091505
CREATED:20250527T012333Z
LAST-MODIFIED:20250527T012333Z
UID:10003320-1750845600-1750852800@www.lifelonglearningcollaborative.org
SUMMARY:Plein Air
DESCRIPTION:
URL:https://www.lifelonglearningcollaborative.org/event/plein-air-5/2025-06-25/
CATEGORIES:Courses
END:VEVENT
BEGIN:VEVENT
DTSTART;TZID=America/New_York:20250625T100000
DTEND;TZID=America/New_York:20250625T120000
DTSTAMP:20260422T091505
CREATED:20250527T012240Z
LAST-MODIFIED:20250527T012240Z
UID:10003313-1750845600-1750852800@www.lifelonglearningcollaborative.org
SUMMARY:How Things Are Made (Hybrid)
DESCRIPTION:
URL:https://www.lifelonglearningcollaborative.org/event/how-things-are-made-hybrid/2025-06-25/
CATEGORIES:Courses
END:VEVENT
BEGIN:VEVENT
DTSTART;TZID=America/New_York:20250624T151500
DTEND;TZID=America/New_York:20250624T170000
DTSTAMP:20260422T091505
CREATED:20250526T234839Z
LAST-MODIFIED:20250527T012549Z
UID:10003329-1750778100-1750784400@www.lifelonglearningcollaborative.org
SUMMARY:Scrabble
DESCRIPTION:
URL:https://www.lifelonglearningcollaborative.org/event/scrabble-19/2025-06-24/
LOCATION:Temple Beth-El\, 70 Orchard Avenue\, Providence\, RI\, United States
CATEGORIES:Courses
END:VEVENT
BEGIN:VEVENT
DTSTART;TZID=America/New_York:20250624T100000
DTEND;TZID=America/New_York:20250624T120000
DTSTAMP:20260422T091505
CREATED:20250526T234216Z
LAST-MODIFIED:20250526T234216Z
UID:10003292-1750759200-1750766400@www.lifelonglearningcollaborative.org
SUMMARY:Beach Reads
DESCRIPTION:
URL:https://www.lifelonglearningcollaborative.org/event/beach-reads-2-2/2025-06-24/
LOCATION:Temple Beth-El\, 70 Orchard Avenue\, Providence\, RI\, United States
CATEGORIES:Courses
END:VEVENT
BEGIN:VEVENT
DTSTART;TZID=America/New_York:20250623T130000
DTEND;TZID=America/New_York:20250623T150000
DTSTAMP:20260422T091505
CREATED:20250526T234005Z
LAST-MODIFIED:20250526T234005Z
UID:10003285-1750683600-1750690800@www.lifelonglearningcollaborative.org
SUMMARY:Armchair Travelers
DESCRIPTION:
URL:https://www.lifelonglearningcollaborative.org/event/armchair-travelers-2-2/2025-06-23/
LOCATION:international house of rhode island\, 8 Stimson Avenue\, Providence\, RI\, 02906\, United States
CATEGORIES:Courses
END:VEVENT
BEGIN:VEVENT
DTSTART;TZID=America/New_York:20250623T100000
DTEND;TZID=America/New_York:20250623T120000
DTSTAMP:20260422T091505
CREATED:20250526T233807Z
LAST-MODIFIED:20251103T210152Z
UID:10003225-1750672800-1750680000@www.lifelonglearningcollaborative.org
SUMMARY:Current Events
DESCRIPTION:
URL:https://www.lifelonglearningcollaborative.org/event/current-events/2025-06-23/
LOCATION:ZOOM
CATEGORIES:Courses
END:VEVENT
BEGIN:VEVENT
DTSTART;TZID=America/New_York:20250620T100000
DTEND;TZID=America/New_York:20250620T110000
DTSTAMP:20260422T091505
CREATED:20250527T013150Z
LAST-MODIFIED:20250527T013150Z
UID:10003352-1750413600-1750417200@www.lifelonglearningcollaborative.org
SUMMARY:Get Fit
DESCRIPTION:
URL:https://www.lifelonglearningcollaborative.org/event/get-fit/2025-06-20/
LOCATION:ZOOM
CATEGORIES:Courses
END:VEVENT
BEGIN:VEVENT
DTSTART;TZID=America/New_York:20250618T120000
DTEND;TZID=America/New_York:20250618T140000
DTSTAMP:20260422T091505
CREATED:20250526T234609Z
LAST-MODIFIED:20250526T234609Z
UID:10003300-1750248000-1750255200@www.lifelonglearningcollaborative.org
SUMMARY:Jazz Showcase
DESCRIPTION:
URL:https://www.lifelonglearningcollaborative.org/event/jazz-showcase/
LOCATION:Shriners Center\, 1 Rhodes Place\, Cranston\, RI\, 02905\, United States
CATEGORIES:Courses
END:VEVENT
BEGIN:VEVENT
DTSTART;TZID=America/New_York:20250618T100000
DTEND;TZID=America/New_York:20250618T120000
DTSTAMP:20260422T091505
CREATED:20250527T012240Z
LAST-MODIFIED:20250527T012240Z
UID:10003312-1750240800-1750248000@www.lifelonglearningcollaborative.org
SUMMARY:How Things Are Made (Hybrid)
DESCRIPTION:
URL:https://www.lifelonglearningcollaborative.org/event/how-things-are-made-hybrid/2025-06-18/
CATEGORIES:Courses
END:VEVENT
BEGIN:VEVENT
DTSTART;TZID=America/New_York:20250617T151500
DTEND;TZID=America/New_York:20250617T170000
DTSTAMP:20260422T091505
CREATED:20250526T234839Z
LAST-MODIFIED:20250527T012549Z
UID:10003328-1750173300-1750179600@www.lifelonglearningcollaborative.org
SUMMARY:Scrabble
DESCRIPTION:
URL:https://www.lifelonglearningcollaborative.org/event/scrabble-19/2025-06-17/
LOCATION:Temple Beth-El\, 70 Orchard Avenue\, Providence\, RI\, United States
CATEGORIES:Courses
END:VEVENT
END:VCALENDAR