BEGIN:VCALENDAR
VERSION:2.0
PRODID:-//Lifelong Learning Collaborative - ECPv6.15.12.2//NONSGML v1.0//EN
CALSCALE:GREGORIAN
METHOD:PUBLISH
X-ORIGINAL-URL:https://www.lifelonglearningcollaborative.org
X-WR-CALDESC:Events for Lifelong Learning Collaborative
REFRESH-INTERVAL;VALUE=DURATION:PT1H
X-Robots-Tag:noindex
X-PUBLISHED-TTL:PT1H
BEGIN:VTIMEZONE
TZID:America/New_York
BEGIN:DAYLIGHT
TZOFFSETFROM:-0500
TZOFFSETTO:-0400
TZNAME:EDT
DTSTART:20250309T070000
END:DAYLIGHT
BEGIN:STANDARD
TZOFFSETFROM:-0400
TZOFFSETTO:-0500
TZNAME:EST
DTSTART:20251102T060000
END:STANDARD
BEGIN:DAYLIGHT
TZOFFSETFROM:-0500
TZOFFSETTO:-0400
TZNAME:EDT
DTSTART:20260308T070000
END:DAYLIGHT
BEGIN:STANDARD
TZOFFSETFROM:-0400
TZOFFSETTO:-0500
TZNAME:EST
DTSTART:20261101T060000
END:STANDARD
BEGIN:DAYLIGHT
TZOFFSETFROM:-0500
TZOFFSETTO:-0400
TZNAME:EDT
DTSTART:20270314T070000
END:DAYLIGHT
BEGIN:STANDARD
TZOFFSETFROM:-0400
TZOFFSETTO:-0500
TZNAME:EST
DTSTART:20271107T060000
END:STANDARD
END:VTIMEZONE
BEGIN:VEVENT
DTSTART;TZID=America/New_York:20260429T130000
DTEND;TZID=America/New_York:20260429T150000
DTSTAMP:20260419T195425
CREATED:20260119T162638Z
LAST-MODIFIED:20260119T162638Z
UID:10004054-1777467600-1777474800@www.lifelonglearningcollaborative.org
SUMMARY:Hot Topics
DESCRIPTION:
URL:https://www.lifelonglearningcollaborative.org/event/hot-topics-3-10/2026-04-29/
LOCATION:ZOOM
CATEGORIES:Courses
END:VEVENT
BEGIN:VEVENT
DTSTART;TZID=America/New_York:20260429T130000
DTEND;TZID=America/New_York:20260429T150000
DTSTAMP:20260419T195425
CREATED:20260119T162913Z
LAST-MODIFIED:20260316T150634Z
UID:10004218-1777467600-1777474800@www.lifelonglearningcollaborative.org
SUMMARY:Improv Theater
DESCRIPTION:
URL:https://www.lifelonglearningcollaborative.org/event/improv-theater/2026-04-29/
LOCATION:Shriners Center\, 1 Rhodes Place\, Cranston\, RI\, 02905\, United States
CATEGORIES:Courses
END:VEVENT
BEGIN:VEVENT
DTSTART;TZID=America/New_York:20260430T100000
DTEND;TZID=America/New_York:20260430T120000
DTSTAMP:20260419T195425
CREATED:20260119T163012Z
LAST-MODIFIED:20260119T163012Z
UID:10004076-1777543200-1777550400@www.lifelonglearningcollaborative.org
SUMMARY:Theater Conversations
DESCRIPTION:First play closes on March 22
URL:https://www.lifelonglearningcollaborative.org/event/theater-conversations-3-5/2026-04-30/
LOCATION:Shriners Center\, 1 Rhodes Place\, Cranston\, RI\, 02905\, United States
CATEGORIES:Courses
END:VEVENT
BEGIN:VEVENT
DTSTART;TZID=America/New_York:20260430T123000
DTEND;TZID=America/New_York:20260430T143000
DTSTAMP:20260419T195425
CREATED:20260119T163330Z
LAST-MODIFIED:20260119T163330Z
UID:10004096-1777552200-1777559400@www.lifelonglearningcollaborative.org
SUMMARY:Memoir (In-person)
DESCRIPTION:
URL:https://www.lifelonglearningcollaborative.org/event/memoir-in-person/2026-04-30/
LOCATION:Shriners Center\, 1 Rhodes Place\, Cranston\, RI\, 02905\, United States
CATEGORIES:Courses
END:VEVENT
BEGIN:VEVENT
DTSTART;TZID=America/New_York:20260430T130000
DTEND;TZID=America/New_York:20260430T150000
DTSTAMP:20260419T195425
CREATED:20260119T163057Z
LAST-MODIFIED:20260119T163057Z
UID:10004086-1777554000-1777561200@www.lifelonglearningcollaborative.org
SUMMARY:Bridge
DESCRIPTION:
URL:https://www.lifelonglearningcollaborative.org/event/bridge-2/2026-04-30/
LOCATION:Regency Plaza Apartments\, RI\, United States
CATEGORIES:Courses
END:VEVENT
BEGIN:VEVENT
DTSTART;TZID=America/New_York:20260501T100000
DTEND;TZID=America/New_York:20260501T110000
DTSTAMP:20260419T195425
CREATED:20260119T163622Z
LAST-MODIFIED:20260119T163622Z
UID:10004125-1777629600-1777633200@www.lifelonglearningcollaborative.org
SUMMARY:Personal Training
DESCRIPTION:
URL:https://www.lifelonglearningcollaborative.org/event/personal-training/2026-05-01/
LOCATION:ZOOM
CATEGORIES:Courses
END:VEVENT
BEGIN:VEVENT
DTSTART;TZID=America/New_York:20260501T100000
DTEND;TZID=America/New_York:20260501T120000
DTSTAMP:20260419T195425
CREATED:20260119T163522Z
LAST-MODIFIED:20260119T163522Z
UID:10004116-1777629600-1777636800@www.lifelonglearningcollaborative.org
SUMMARY:Anthropology Movies
DESCRIPTION:
URL:https://www.lifelonglearningcollaborative.org/event/anthropology-movies-2-2/2026-05-01/
LOCATION:Shriners Center\, 1 Rhodes Place\, Cranston\, RI\, 02905\, United States
CATEGORIES:Courses
END:VEVENT
BEGIN:VEVENT
DTSTART;TZID=America/New_York:20260501T100000
DTEND;TZID=America/New_York:20260501T120000
DTSTAMP:20260419T195425
CREATED:20260323T131155Z
LAST-MODIFIED:20260323T131156Z
UID:10004139-1777629600-1777636800@www.lifelonglearningcollaborative.org
SUMMARY:Prov Public Art\, Jane's Walk
DESCRIPTION:Shriners & other sites
URL:https://www.lifelonglearningcollaborative.org/event/prov-public-art-janes-walk-2-2/2026-05-01/
LOCATION:Shriners Center\, 1 Rhodes Place\, Cranston\, RI\, 02905\, United States
CATEGORIES:Courses
END:VEVENT
BEGIN:VEVENT
DTSTART;VALUE=DATE:20260504
DTEND;VALUE=DATE:20260505
DTSTAMP:20260419T195425
CREATED:20260406T134110Z
LAST-MODIFIED:20260406T134110Z
UID:10004243-1777852800-1777939199@www.lifelonglearningcollaborative.org
SUMMARY:Summersession catalog announcement
DESCRIPTION:
URL:https://www.lifelonglearningcollaborative.org/event/summersession-catalog-announcement-2/
LOCATION:RI
CATEGORIES:Semester Announcements
END:VEVENT
BEGIN:VEVENT
DTSTART;TZID=America/New_York:20260504T100000
DTEND;TZID=America/New_York:20260504T120000
DTSTAMP:20260419T195425
CREATED:20260119T140142Z
LAST-MODIFIED:20260119T140142Z
UID:10003907-1777888800-1777896000@www.lifelonglearningcollaborative.org
SUMMARY:Russian Short Stories
DESCRIPTION:Wingate Residences\, East Side of Providence
URL:https://www.lifelonglearningcollaborative.org/event/russian-short-stories/2026-05-04/
LOCATION:RI
CATEGORIES:Courses
END:VEVENT
BEGIN:VEVENT
DTSTART;TZID=America/New_York:20260504T100000
DTEND;TZID=America/New_York:20260504T120000
DTSTAMP:20260419T195425
CREATED:20260119T140307Z
LAST-MODIFIED:20260119T140307Z
UID:10003917-1777888800-1777896000@www.lifelonglearningcollaborative.org
SUMMARY:Studio Art (Zoom)
DESCRIPTION:
URL:https://www.lifelonglearningcollaborative.org/event/studio-art-zoom/2026-05-04/
LOCATION:ZOOM
CATEGORIES:Courses
END:VEVENT
BEGIN:VEVENT
DTSTART;TZID=America/New_York:20260504T100000
DTEND;TZID=America/New_York:20260504T120000
DTSTAMP:20260419T195425
CREATED:20260119T140406Z
LAST-MODIFIED:20260323T131758Z
UID:10004240-1777888800-1777896000@www.lifelonglearningcollaborative.org
SUMMARY:"Magic Mountain"
DESCRIPTION:
URL:https://www.lifelonglearningcollaborative.org/event/magic-mountain/2026-05-04/
LOCATION:Shriners Center\, 1 Rhodes Place\, Cranston\, RI\, 02905\, United States
CATEGORIES:Courses
END:VEVENT
BEGIN:VEVENT
DTSTART;TZID=America/New_York:20260504T100000
DTEND;TZID=America/New_York:20260504T120000
DTSTAMP:20260419T195425
CREATED:20260119T140530Z
LAST-MODIFIED:20260323T131054Z
UID:10004230-1777888800-1777896000@www.lifelonglearningcollaborative.org
SUMMARY:Democracy
DESCRIPTION:
URL:https://www.lifelonglearningcollaborative.org/event/democracy/2026-05-04/
LOCATION:ZOOM
CATEGORIES:Courses
END:VEVENT
BEGIN:VEVENT
DTSTART;TZID=America/New_York:20260504T100000
DTEND;TZID=America/New_York:20260504T120000
DTSTAMP:20260419T195425
CREATED:20260119T162123Z
LAST-MODIFIED:20260119T162123Z
UID:10004031-1777888800-1777896000@www.lifelonglearningcollaborative.org
SUMMARY:Paint Like a Woman
DESCRIPTION:
URL:https://www.lifelonglearningcollaborative.org/event/paint-like-a-woman-2-2/2026-05-04/
LOCATION:Shriners Center\, 1 Rhodes Place\, Cranston\, RI\, 02905\, United States
CATEGORIES:Courses
END:VEVENT
BEGIN:VEVENT
DTSTART;TZID=America/New_York:20260504T130000
DTEND;TZID=America/New_York:20260504T150000
DTSTAMP:20260419T195425
CREATED:20260119T141809Z
LAST-MODIFIED:20260119T141809Z
UID:10003925-1777899600-1777906800@www.lifelonglearningcollaborative.org
SUMMARY:Sacred Places
DESCRIPTION:
URL:https://www.lifelonglearningcollaborative.org/event/sacred-places/2026-05-04/
LOCATION:Shriners Center\, 1 Rhodes Place\, Cranston\, RI\, 02905\, United States
CATEGORIES:Courses
END:VEVENT
BEGIN:VEVENT
DTSTART;TZID=America/New_York:20260504T130000
DTEND;TZID=America/New_York:20260504T150000
DTSTAMP:20260419T195425
CREATED:20260119T141918Z
LAST-MODIFIED:20260119T141918Z
UID:10003935-1777899600-1777906800@www.lifelonglearningcollaborative.org
SUMMARY:Irish\, Then Italians
DESCRIPTION:
URL:https://www.lifelonglearningcollaborative.org/event/irish-then-italians/2026-05-04/
LOCATION:Shriners Center\, 1 Rhodes Place\, Cranston\, RI\, 02905\, United States
CATEGORIES:Courses
END:VEVENT
BEGIN:VEVENT
DTSTART;TZID=America/New_York:20260504T160000
DTEND;TZID=America/New_York:20260504T170000
DTSTAMP:20260419T195425
CREATED:20260209T174039Z
LAST-MODIFIED:20260209T174039Z
UID:10004146-1777910400-1777914000@www.lifelonglearningcollaborative.org
SUMMARY:Webinar Lecture: Psychologist and Author Dale Atkins – "The Importance of Grandchildren Creating Lasting Memories with Grandparents"
DESCRIPTION:
URL:https://www.lifelonglearningcollaborative.org/event/webinar-lecture-psychologist-and-author-dale-atkins-the-importance-of-grandchildren-creating-lasting-memories-with-grandparents/
LOCATION:ZOOM
CATEGORIES:Free Webinars
END:VEVENT
BEGIN:VEVENT
DTSTART;TZID=America/New_York:20260505T100000
DTEND;TZID=America/New_York:20260505T120000
DTSTAMP:20260419T195425
CREATED:20260119T142135Z
LAST-MODIFIED:20260119T142135Z
UID:10003955-1777975200-1777982400@www.lifelonglearningcollaborative.org
SUMMARY:Memoir (Zoom)
DESCRIPTION:
URL:https://www.lifelonglearningcollaborative.org/event/memoir-zoom/2026-05-05/
LOCATION:ZOOM
CATEGORIES:Courses
END:VEVENT
BEGIN:VEVENT
DTSTART;TZID=America/New_York:20260505T100000
DTEND;TZID=America/New_York:20260505T120000
DTSTAMP:20260419T195425
CREATED:20260119T142433Z
LAST-MODIFIED:20260119T142433Z
UID:10003963-1777975200-1777982400@www.lifelonglearningcollaborative.org
SUMMARY:Cell Phone Photo Club
DESCRIPTION:
URL:https://www.lifelonglearningcollaborative.org/event/cell-phone-photo-club-2-10/2026-05-05/
LOCATION:Shriners Center\, 1 Rhodes Place\, Cranston\, RI\, 02905\, United States
CATEGORIES:Courses
END:VEVENT
BEGIN:VEVENT
DTSTART;TZID=America/New_York:20260505T100000
DTEND;TZID=America/New_York:20260505T123000
DTSTAMP:20260419T195425
CREATED:20260119T142028Z
LAST-MODIFIED:20260119T142028Z
UID:10003945-1777975200-1777984200@www.lifelonglearningcollaborative.org
SUMMARY:Studio Art (In-person)
DESCRIPTION:
URL:https://www.lifelonglearningcollaborative.org/event/studio-art-in-person/2026-05-05/
LOCATION:Shriners Center\, 1 Rhodes Place\, Cranston\, RI\, 02905\, United States
CATEGORIES:Courses
END:VEVENT
BEGIN:VEVENT
DTSTART;TZID=America/New_York:20260505T130000
DTEND;TZID=America/New_York:20260505T150000
DTSTAMP:20260419T195425
CREATED:20260119T161425Z
LAST-MODIFIED:20260323T130801Z
UID:10003981-1777986000-1777993200@www.lifelonglearningcollaborative.org
SUMMARY:Diamonds: Jewels\, Couture\, Glamour
DESCRIPTION:
URL:https://www.lifelonglearningcollaborative.org/event/diamonds-jewels-couture-glamour/2026-05-05/
LOCATION:Shriners Center\, 1 Rhodes Place\, Cranston\, RI\, 02905\, United States
CATEGORIES:Courses
END:VEVENT
BEGIN:VEVENT
DTSTART;TZID=America/New_York:20260505T150000
DTEND;TZID=America/New_York:20260505T173000
DTSTAMP:20260419T195425
CREATED:20260323T131242Z
LAST-MODIFIED:20260323T131243Z
UID:10004003-1777993200-1778002200@www.lifelonglearningcollaborative.org
SUMMARY:Scrabble
DESCRIPTION:
URL:https://www.lifelonglearningcollaborative.org/event/scrabble-25-2/2026-05-05/
LOCATION:Shriners Center\, 1 Rhodes Place\, Cranston\, RI\, 02905\, United States
CATEGORIES:Courses
END:VEVENT
BEGIN:VEVENT
DTSTART;TZID=America/New_York:20260506T100000
DTEND;TZID=America/New_York:20260506T120000
DTSTAMP:20260419T195425
CREATED:20260119T161816Z
LAST-MODIFIED:20260119T161816Z
UID:10004014-1778061600-1778068800@www.lifelonglearningcollaborative.org
SUMMARY:Looking at Ourselves
DESCRIPTION:
URL:https://www.lifelonglearningcollaborative.org/event/looking-at-ourselves/2026-05-06/
LOCATION:Shriners Center\, 1 Rhodes Place\, Cranston\, RI\, 02905\, United States
CATEGORIES:Courses
END:VEVENT
BEGIN:VEVENT
DTSTART;TZID=America/New_York:20260506T100000
DTEND;TZID=America/New_York:20260506T120000
DTSTAMP:20260419T195425
CREATED:20260119T162123Z
LAST-MODIFIED:20260119T162123Z
UID:10004032-1778061600-1778068800@www.lifelonglearningcollaborative.org
SUMMARY:Paint Like a Woman
DESCRIPTION:
URL:https://www.lifelonglearningcollaborative.org/event/paint-like-a-woman-2-2/2026-05-06/
LOCATION:Shriners Center\, 1 Rhodes Place\, Cranston\, RI\, 02905\, United States
CATEGORIES:Courses
END:VEVENT
BEGIN:VEVENT
DTSTART;TZID=America/New_York:20260506T100000
DTEND;TZID=America/New_York:20260506T120000
DTSTAMP:20260419T195425
CREATED:20260119T162220Z
LAST-MODIFIED:20260119T162220Z
UID:10004045-1778061600-1778068800@www.lifelonglearningcollaborative.org
SUMMARY:Independence at 250
DESCRIPTION:
URL:https://www.lifelonglearningcollaborative.org/event/independence-at-250/2026-05-06/
LOCATION:Shriners Center\, 1 Rhodes Place\, Cranston\, RI\, 02905\, United States
CATEGORIES:Courses
END:VEVENT
BEGIN:VEVENT
DTSTART;TZID=America/New_York:20260506T130000
DTEND;TZID=America/New_York:20260506T150000
DTSTAMP:20260419T195425
CREATED:20260119T162638Z
LAST-MODIFIED:20260119T162638Z
UID:10004055-1778072400-1778079600@www.lifelonglearningcollaborative.org
SUMMARY:Hot Topics
DESCRIPTION:
URL:https://www.lifelonglearningcollaborative.org/event/hot-topics-3-10/2026-05-06/
LOCATION:ZOOM
CATEGORIES:Courses
END:VEVENT
BEGIN:VEVENT
DTSTART;TZID=America/New_York:20260506T130000
DTEND;TZID=America/New_York:20260506T150000
DTSTAMP:20260419T195425
CREATED:20260119T162913Z
LAST-MODIFIED:20260316T150634Z
UID:10004219-1778072400-1778079600@www.lifelonglearningcollaborative.org
SUMMARY:Improv Theater
DESCRIPTION:
URL:https://www.lifelonglearningcollaborative.org/event/improv-theater/2026-05-06/
LOCATION:Shriners Center\, 1 Rhodes Place\, Cranston\, RI\, 02905\, United States
CATEGORIES:Courses
END:VEVENT
BEGIN:VEVENT
DTSTART;TZID=America/New_York:20260507T100000
DTEND;TZID=America/New_York:20260507T120000
DTSTAMP:20260419T195425
CREATED:20260119T163012Z
LAST-MODIFIED:20260119T163012Z
UID:10004077-1778148000-1778155200@www.lifelonglearningcollaborative.org
SUMMARY:Theater Conversations
DESCRIPTION:First play closes on March 22
URL:https://www.lifelonglearningcollaborative.org/event/theater-conversations-3-5/2026-05-07/
LOCATION:Shriners Center\, 1 Rhodes Place\, Cranston\, RI\, 02905\, United States
CATEGORIES:Courses
END:VEVENT
BEGIN:VEVENT
DTSTART;TZID=America/New_York:20260507T123000
DTEND;TZID=America/New_York:20260507T143000
DTSTAMP:20260419T195425
CREATED:20260119T163330Z
LAST-MODIFIED:20260119T163330Z
UID:10004097-1778157000-1778164200@www.lifelonglearningcollaborative.org
SUMMARY:Memoir (In-person)
DESCRIPTION:
URL:https://www.lifelonglearningcollaborative.org/event/memoir-in-person/2026-05-07/
LOCATION:Shriners Center\, 1 Rhodes Place\, Cranston\, RI\, 02905\, United States
CATEGORIES:Courses
END:VEVENT
BEGIN:VEVENT
DTSTART;TZID=America/New_York:20260507T130000
DTEND;TZID=America/New_York:20260507T150000
DTSTAMP:20260419T195425
CREATED:20260119T163057Z
LAST-MODIFIED:20260119T163057Z
UID:10004087-1778158800-1778166000@www.lifelonglearningcollaborative.org
SUMMARY:Bridge
DESCRIPTION:
URL:https://www.lifelonglearningcollaborative.org/event/bridge-2/2026-05-07/
LOCATION:Regency Plaza Apartments\, RI\, United States
CATEGORIES:Courses
END:VEVENT
END:VCALENDAR