BEGIN:VCALENDAR
VERSION:2.0
PRODID:-//Lifelong Learning Collaborative - ECPv6.15.12.2//NONSGML v1.0//EN
CALSCALE:GREGORIAN
METHOD:PUBLISH
X-ORIGINAL-URL:https://www.lifelonglearningcollaborative.org
X-WR-CALDESC:Events for Lifelong Learning Collaborative
REFRESH-INTERVAL;VALUE=DURATION:PT1H
X-Robots-Tag:noindex
X-PUBLISHED-TTL:PT1H
BEGIN:VTIMEZONE
TZID:America/New_York
BEGIN:DAYLIGHT
TZOFFSETFROM:-0500
TZOFFSETTO:-0400
TZNAME:EDT
DTSTART:20230312T070000
END:DAYLIGHT
BEGIN:STANDARD
TZOFFSETFROM:-0400
TZOFFSETTO:-0500
TZNAME:EST
DTSTART:20231105T060000
END:STANDARD
BEGIN:DAYLIGHT
TZOFFSETFROM:-0500
TZOFFSETTO:-0400
TZNAME:EDT
DTSTART:20240310T070000
END:DAYLIGHT
BEGIN:STANDARD
TZOFFSETFROM:-0400
TZOFFSETTO:-0500
TZNAME:EST
DTSTART:20241103T060000
END:STANDARD
BEGIN:DAYLIGHT
TZOFFSETFROM:-0500
TZOFFSETTO:-0400
TZNAME:EDT
DTSTART:20250309T070000
END:DAYLIGHT
BEGIN:STANDARD
TZOFFSETFROM:-0400
TZOFFSETTO:-0500
TZNAME:EST
DTSTART:20251102T060000
END:STANDARD
END:VTIMEZONE
BEGIN:VEVENT
DTSTART;TZID=America/New_York:20240919T100000
DTEND;TZID=America/New_York:20240919T120000
DTSTAMP:20260420T033059
CREATED:20240715T135513Z
LAST-MODIFIED:20241016T113748Z
UID:10002138-1726740000-1726747200@www.lifelonglearningcollaborative.org
SUMMARY:Dark Humor: Saunders & Vonnegut
DESCRIPTION:Oct 17 & Oct 24 classes will meet at Laurelmead
URL:https://www.lifelonglearningcollaborative.org/event/dark-humor-saunders-vonnegut/2024-09-19/
LOCATION:Temple Beth-El\, 70 Orchard Avenue\, Providence\, RI\, United States
CATEGORIES:Courses
END:VEVENT
BEGIN:VEVENT
DTSTART;TZID=America/New_York:20240919T130000
DTEND;TZID=America/New_York:20240919T150000
DTSTAMP:20260420T033059
CREATED:20240715T140057Z
LAST-MODIFIED:20241016T113610Z
UID:10002174-1726750800-1726758000@www.lifelonglearningcollaborative.org
SUMMARY:Writing a Memoir
DESCRIPTION:Meets at Temple Beth-El with the exception of two Thursdays (Oct 17 & Oct 24) which will be on ZOOM
URL:https://www.lifelonglearningcollaborative.org/event/writing-a-memoir-3-4/2024-09-19/
LOCATION:Temple Beth-El\, 70 Orchard Avenue\, Providence\, RI\, United States
CATEGORIES:Courses
END:VEVENT
BEGIN:VEVENT
DTSTART;TZID=America/New_York:20240920T100000
DTEND;TZID=America/New_York:20240920T110000
DTSTAMP:20260420T033059
CREATED:20240715T140326Z
LAST-MODIFIED:20240715T140326Z
UID:10002183-1726826400-1726830000@www.lifelonglearningcollaborative.org
SUMMARY:Get Fit at Home
DESCRIPTION:
URL:https://www.lifelonglearningcollaborative.org/event/get-fit-at-home-3-7/2024-09-20/
LOCATION:ZOOM
CATEGORIES:Courses
END:VEVENT
BEGIN:VEVENT
DTSTART;TZID=America/New_York:20240920T100000
DTEND;TZID=America/New_York:20240920T120000
DTSTAMP:20260420T033059
CREATED:20240715T140447Z
LAST-MODIFIED:20240715T140447Z
UID:10002192-1726826400-1726833600@www.lifelonglearningcollaborative.org
SUMMARY:Anthropology of Time Hybrid (TBE)
DESCRIPTION:
URL:https://www.lifelonglearningcollaborative.org/event/anthropology-of-time-hybrid-tbe/2024-09-20/
LOCATION:Temple Beth-El\, 70 Orchard Avenue\, Providence\, RI\, United States
CATEGORIES:Courses
END:VEVENT
BEGIN:VEVENT
DTSTART;TZID=America/New_York:20240920T100000
DTEND;TZID=America/New_York:20240920T120000
DTSTAMP:20260420T033059
CREATED:20240715T140511Z
LAST-MODIFIED:20240715T140511Z
UID:10002201-1726826400-1726833600@www.lifelonglearningcollaborative.org
SUMMARY:Anthropology of Time Hybrid (Zoom)
DESCRIPTION:
URL:https://www.lifelonglearningcollaborative.org/event/anthropology-of-time-hybrid-zoom/2024-09-20/
LOCATION:ZOOM
CATEGORIES:Courses
END:VEVENT
BEGIN:VEVENT
DTSTART;TZID=America/New_York:20240920T130000
DTEND;TZID=America/New_York:20240920T150000
DTSTAMP:20260420T033059
CREATED:20240715T140803Z
LAST-MODIFIED:20240715T140803Z
UID:10002210-1726837200-1726844400@www.lifelonglearningcollaborative.org
SUMMARY:Ancient Persia
DESCRIPTION:
URL:https://www.lifelonglearningcollaborative.org/event/ancient-persia/2024-09-20/
LOCATION:ZOOM
CATEGORIES:Courses
END:VEVENT
BEGIN:VEVENT
DTSTART;TZID=America/New_York:20240923T100000
DTEND;TZID=America/New_York:20240923T120000
DTSTAMP:20260420T033059
CREATED:20240715T131120Z
LAST-MODIFIED:20240715T131120Z
UID:10001896-1727085600-1727092800@www.lifelonglearningcollaborative.org
SUMMARY:Open Studio Art (Zoom)
DESCRIPTION:
URL:https://www.lifelonglearningcollaborative.org/event/open-studio-art-zoom/2024-09-23/
LOCATION:ZOOM
CATEGORIES:Courses
END:VEVENT
BEGIN:VEVENT
DTSTART;TZID=America/New_York:20240924T100000
DTEND;TZID=America/New_York:20240924T120000
DTSTAMP:20260420T033059
CREATED:20240715T131745Z
LAST-MODIFIED:20240715T131745Z
UID:10001927-1727172000-1727179200@www.lifelonglearningcollaborative.org
SUMMARY:Alexander von Humboldt
DESCRIPTION:
URL:https://www.lifelonglearningcollaborative.org/event/alexander-von-humboldt/2024-09-24/
LOCATION:ZOOM
CATEGORIES:Courses
END:VEVENT
BEGIN:VEVENT
DTSTART;TZID=America/New_York:20240924T100000
DTEND;TZID=America/New_York:20240924T120000
DTSTAMP:20260420T033059
CREATED:20240715T132013Z
LAST-MODIFIED:20240715T132013Z
UID:10001947-1727172000-1727179200@www.lifelonglearningcollaborative.org
SUMMARY:Open Studio Art (TBE)
DESCRIPTION:
URL:https://www.lifelonglearningcollaborative.org/event/open-studio-art-tbe/2024-09-24/
LOCATION:Temple Beth-El\, 70 Orchard Avenue\, Providence\, RI\, United States
CATEGORIES:Courses
END:VEVENT
BEGIN:VEVENT
DTSTART;TZID=America/New_York:20240924T100000
DTEND;TZID=America/New_York:20240924T120000
DTSTAMP:20260420T033059
CREATED:20240715T132123Z
LAST-MODIFIED:20240715T132123Z
UID:10001957-1727172000-1727179200@www.lifelonglearningcollaborative.org
SUMMARY:Absurd Comedies
DESCRIPTION:
URL:https://www.lifelonglearningcollaborative.org/event/absurd-comedies/2024-09-24/
LOCATION:ZOOM
CATEGORIES:Courses
END:VEVENT
BEGIN:VEVENT
DTSTART;TZID=America/New_York:20240924T100000
DTEND;TZID=America/New_York:20240924T120000
DTSTAMP:20260420T033059
CREATED:20240715T132223Z
LAST-MODIFIED:20240715T132223Z
UID:10001967-1727172000-1727179200@www.lifelonglearningcollaborative.org
SUMMARY:Palestine
DESCRIPTION:
URL:https://www.lifelonglearningcollaborative.org/event/palestine/2024-09-24/
LOCATION:Temple Beth-El\, 70 Orchard Avenue\, Providence\, RI\, United States
CATEGORIES:Courses
END:VEVENT
BEGIN:VEVENT
DTSTART;TZID=America/New_York:20240924T130000
DTEND;TZID=America/New_York:20240924T150000
DTSTAMP:20260420T033059
CREATED:20240715T132314Z
LAST-MODIFIED:20240715T140935Z
UID:10002221-1727182800-1727190000@www.lifelonglearningcollaborative.org
SUMMARY:Cell Phone Photo Club
DESCRIPTION:
URL:https://www.lifelonglearningcollaborative.org/event/cell-phone-photo-club-2-4/2024-09-24/
LOCATION:Temple Beth-El\, 70 Orchard Avenue\, Providence\, RI\, United States
CATEGORIES:Courses
END:VEVENT
BEGIN:VEVENT
DTSTART;TZID=America/New_York:20240924T130000
DTEND;TZID=America/New_York:20240924T150000
DTSTAMP:20260420T033059
CREATED:20240715T132449Z
LAST-MODIFIED:20240715T132449Z
UID:10001995-1727182800-1727190000@www.lifelonglearningcollaborative.org
SUMMARY:Unquiet Women: Voices in Classical Music
DESCRIPTION:
URL:https://www.lifelonglearningcollaborative.org/event/unquiet-women-voices-in-classical-music/2024-09-24/
LOCATION:Temple Beth-El\, 70 Orchard Avenue\, Providence\, RI\, United States
CATEGORIES:Courses
END:VEVENT
BEGIN:VEVENT
DTSTART;TZID=America/New_York:20240924T130000
DTEND;TZID=America/New_York:20240924T150000
DTSTAMP:20260420T033059
CREATED:20240715T132557Z
LAST-MODIFIED:20240715T132557Z
UID:10002005-1727182800-1727190000@www.lifelonglearningcollaborative.org
SUMMARY:Fashion on the Silver Screen
DESCRIPTION:
URL:https://www.lifelonglearningcollaborative.org/event/fashion-on-the-silver-screen/2024-09-24/
LOCATION:Temple Beth-El\, 70 Orchard Avenue\, Providence\, RI\, United States
CATEGORIES:Courses
END:VEVENT
BEGIN:VEVENT
DTSTART;TZID=America/New_York:20240924T151500
DTEND;TZID=America/New_York:20240924T170000
DTSTAMP:20260420T033059
CREATED:20240715T132735Z
LAST-MODIFIED:20240715T132735Z
UID:10002014-1727190900-1727197200@www.lifelonglearningcollaborative.org
SUMMARY:Scrabble Social Club
DESCRIPTION:
URL:https://www.lifelonglearningcollaborative.org/event/scrabble-social-club/2024-09-24/
LOCATION:Temple Beth-El\, 70 Orchard Avenue\, Providence\, RI\, United States
CATEGORIES:Courses
END:VEVENT
BEGIN:VEVENT
DTSTART;TZID=America/New_York:20240924T160000
DTEND;TZID=America/New_York:20240924T170000
DTSTAMP:20260420T033059
CREATED:20240813T115518Z
LAST-MODIFIED:20240813T115518Z
UID:10002232-1727193600-1727197200@www.lifelonglearningcollaborative.org
SUMMARY:Webinar Lecture feat. Linda Bloom\, LCSW and Charlie Bloom\, MSW\, Authors and Relationship Counselors
DESCRIPTION:Secrets to the Best Relationships \nNow more than ever\, people need guidance for navigating conflict wisely and skillfully\, drawing on insights from their work\, the blooms offer practical tools and strategies that apply to all relationships\, including relationships between seniors\, partners\, adult\, children\, grandchildren\, friends\, and others. During their presentation\, they refer to their newest book\, An End to Arguing\, where they convincingly show how destructive conflicts can be avoided. Successful discussions provide a stimulus for both individual and interpersonal growth. Their work doesn’t just provide a way of preventing differences from turning into painful conflict; it provides insight into what qualities are inherent and argument-free relationships. The way of getting there may be simpler than you think. Questions are welcome. \nLinda Bloom\, LCSW and Charlie Bloom\, MSW are trained as psychotherapists and relationship counselors. They have worked with individuals\, couples\, groups and organizations\, and have lectured and taught at learning institutions throughout the USA and internationally. They have authored five books\, including the bestseller\,101 Things I Knew When I Got Married.
URL:https://www.lifelonglearningcollaborative.org/event/webinar-lecture-feat-linda-bloom-lcsw-and-charlie-bloom-msw-authors-and-relationship-counselors/
LOCATION:ZOOM
CATEGORIES:Free Webinars
END:VEVENT
BEGIN:VEVENT
DTSTART;TZID=America/New_York:20240925T100000
DTEND;TZID=America/New_York:20240925T120000
DTSTAMP:20260420T033059
CREATED:20240715T133030Z
LAST-MODIFIED:20240715T133030Z
UID:10002024-1727258400-1727265600@www.lifelonglearningcollaborative.org
SUMMARY:Reading Plays Aloud
DESCRIPTION:
URL:https://www.lifelonglearningcollaborative.org/event/reading-plays-aloud/2024-09-25/
LOCATION:Temple Beth-El\, 70 Orchard Avenue\, Providence\, RI\, United States
CATEGORIES:Courses
END:VEVENT
BEGIN:VEVENT
DTSTART;TZID=America/New_York:20240925T100000
DTEND;TZID=America/New_York:20240925T120000
DTSTAMP:20260420T033059
CREATED:20240715T133428Z
LAST-MODIFIED:20240715T133428Z
UID:10002039-1727258400-1727265600@www.lifelonglearningcollaborative.org
SUMMARY:Read\, Listen\, Be Inspired\, Write
DESCRIPTION:
URL:https://www.lifelonglearningcollaborative.org/event/read-listen-be-inspired-write/2024-09-25/
LOCATION:Temple Beth-El\, 70 Orchard Avenue\, Providence\, RI\, United States
CATEGORIES:Courses
END:VEVENT
BEGIN:VEVENT
DTSTART;TZID=America/New_York:20240925T100000
DTEND;TZID=America/New_York:20240925T120000
DTSTAMP:20260420T033059
CREATED:20240715T133525Z
LAST-MODIFIED:20240715T133525Z
UID:10002051-1727258400-1727265600@www.lifelonglearningcollaborative.org
SUMMARY:Fact or Fiction
DESCRIPTION:
URL:https://www.lifelonglearningcollaborative.org/event/fact-or-fiction/2024-09-25/
LOCATION:Regency Plaza Apartments\, RI\, United States
CATEGORIES:Courses
END:VEVENT
BEGIN:VEVENT
DTSTART;TZID=America/New_York:20240925T100000
DTEND;TZID=America/New_York:20240925T120000
DTSTAMP:20260420T033059
CREATED:20240715T133705Z
LAST-MODIFIED:20240715T133705Z
UID:10002061-1727258400-1727265600@www.lifelonglearningcollaborative.org
SUMMARY:Power of Creative Arts
DESCRIPTION:
URL:https://www.lifelonglearningcollaborative.org/event/power-of-creative-arts/2024-09-25/
LOCATION:Temple Beth-El\, 70 Orchard Avenue\, Providence\, RI\, United States
CATEGORIES:Courses
END:VEVENT
BEGIN:VEVENT
DTSTART;TZID=America/New_York:20240925T130000
DTEND;TZID=America/New_York:20240925T150000
DTSTAMP:20260420T033059
CREATED:20240715T133809Z
LAST-MODIFIED:20240715T133809Z
UID:10002067-1727269200-1727276400@www.lifelonglearningcollaborative.org
SUMMARY:Dutch Golden Age
DESCRIPTION:
URL:https://www.lifelonglearningcollaborative.org/event/dutch-golden-age/2024-09-25/
LOCATION:Temple Beth-El\, 70 Orchard Avenue\, Providence\, RI\, United States
CATEGORIES:Courses
END:VEVENT
BEGIN:VEVENT
DTSTART;TZID=America/New_York:20240925T130000
DTEND;TZID=America/New_York:20240925T150000
DTSTAMP:20260420T033059
CREATED:20240715T133914Z
LAST-MODIFIED:20240715T133914Z
UID:10002077-1727269200-1727276400@www.lifelonglearningcollaborative.org
SUMMARY:LLC Knits
DESCRIPTION:
URL:https://www.lifelonglearningcollaborative.org/event/llc-knits-3-5/2024-09-25/
LOCATION:Temple Beth-El\, 70 Orchard Avenue\, Providence\, RI\, United States
CATEGORIES:Courses
END:VEVENT
BEGIN:VEVENT
DTSTART;TZID=America/New_York:20240925T130000
DTEND;TZID=America/New_York:20240925T150000
DTSTAMP:20260420T033059
CREATED:20240715T134033Z
LAST-MODIFIED:20240715T134033Z
UID:10002087-1727269200-1727276400@www.lifelonglearningcollaborative.org
SUMMARY:Hot Topics
DESCRIPTION:
URL:https://www.lifelonglearningcollaborative.org/event/hot-topics-3-5/2024-09-25/
LOCATION:ZOOM
CATEGORIES:Courses
END:VEVENT
BEGIN:VEVENT
DTSTART;TZID=America/New_York:20240926T100000
DTEND;TZID=America/New_York:20240926T120000
DTSTAMP:20260420T033059
CREATED:20240715T134721Z
LAST-MODIFIED:20240715T134813Z
UID:10002109-1727344800-1727352000@www.lifelonglearningcollaborative.org
SUMMARY:Theater Conversations
DESCRIPTION:
URL:https://www.lifelonglearningcollaborative.org/event/theater-conversations-3-2/2024-09-26/
LOCATION:Temple Beth-El\, 70 Orchard Avenue\, Providence\, RI\, United States
CATEGORIES:Courses
END:VEVENT
BEGIN:VEVENT
DTSTART;TZID=America/New_York:20240926T100000
DTEND;TZID=America/New_York:20240926T120000
DTSTAMP:20260420T033059
CREATED:20240715T134948Z
LAST-MODIFIED:20240715T135149Z
UID:10002119-1727344800-1727352000@www.lifelonglearningcollaborative.org
SUMMARY:Our Brains\, Memory\, Brain Health Hybrid (TBE)
DESCRIPTION:Class will be on Zoom Oct 24
URL:https://www.lifelonglearningcollaborative.org/event/our-brains-memory-brain-health-hybrid/2024-09-26/
LOCATION:Temple Beth-El\, 70 Orchard Avenue\, Providence\, RI\, United States
CATEGORIES:Courses
END:VEVENT
BEGIN:VEVENT
DTSTART;TZID=America/New_York:20240926T100000
DTEND;TZID=America/New_York:20240926T120000
DTSTAMP:20260420T033059
CREATED:20240715T135101Z
LAST-MODIFIED:20240715T135101Z
UID:10002129-1727344800-1727352000@www.lifelonglearningcollaborative.org
SUMMARY:Our Brains\, Memory\, Brain Health Hybrid (Zoom)
DESCRIPTION:Both classes will be on Zoom on Oct 24
URL:https://www.lifelonglearningcollaborative.org/event/our-brains-memory-brain-health-hybrid-zoom/2024-09-26/
LOCATION:ZOOM
CATEGORIES:Courses
END:VEVENT
BEGIN:VEVENT
DTSTART;TZID=America/New_York:20240926T100000
DTEND;TZID=America/New_York:20240926T120000
DTSTAMP:20260420T033059
CREATED:20240715T135513Z
LAST-MODIFIED:20241016T113748Z
UID:10002139-1727344800-1727352000@www.lifelonglearningcollaborative.org
SUMMARY:Dark Humor: Saunders & Vonnegut
DESCRIPTION:Oct 17 & Oct 24 classes will meet at Laurelmead
URL:https://www.lifelonglearningcollaborative.org/event/dark-humor-saunders-vonnegut/2024-09-26/
LOCATION:Temple Beth-El\, 70 Orchard Avenue\, Providence\, RI\, United States
CATEGORIES:Courses
END:VEVENT
BEGIN:VEVENT
DTSTART;TZID=America/New_York:20240926T130000
DTEND;TZID=America/New_York:20240926T150000
DTSTAMP:20260420T033059
CREATED:20240715T140057Z
LAST-MODIFIED:20241016T113610Z
UID:10002175-1727355600-1727362800@www.lifelonglearningcollaborative.org
SUMMARY:Writing a Memoir
DESCRIPTION:Meets at Temple Beth-El with the exception of two Thursdays (Oct 17 & Oct 24) which will be on ZOOM
URL:https://www.lifelonglearningcollaborative.org/event/writing-a-memoir-3-4/2024-09-26/
LOCATION:Temple Beth-El\, 70 Orchard Avenue\, Providence\, RI\, United States
CATEGORIES:Courses
END:VEVENT
BEGIN:VEVENT
DTSTART;TZID=America/New_York:20240927T100000
DTEND;TZID=America/New_York:20240927T110000
DTSTAMP:20260420T033059
CREATED:20240715T140326Z
LAST-MODIFIED:20240715T140326Z
UID:10002184-1727431200-1727434800@www.lifelonglearningcollaborative.org
SUMMARY:Get Fit at Home
DESCRIPTION:
URL:https://www.lifelonglearningcollaborative.org/event/get-fit-at-home-3-7/2024-09-27/
LOCATION:ZOOM
CATEGORIES:Courses
END:VEVENT
BEGIN:VEVENT
DTSTART;TZID=America/New_York:20240927T100000
DTEND;TZID=America/New_York:20240927T120000
DTSTAMP:20260420T033059
CREATED:20240715T140447Z
LAST-MODIFIED:20240715T140447Z
UID:10002193-1727431200-1727438400@www.lifelonglearningcollaborative.org
SUMMARY:Anthropology of Time Hybrid (TBE)
DESCRIPTION:
URL:https://www.lifelonglearningcollaborative.org/event/anthropology-of-time-hybrid-tbe/2024-09-27/
LOCATION:Temple Beth-El\, 70 Orchard Avenue\, Providence\, RI\, United States
CATEGORIES:Courses
END:VEVENT
END:VCALENDAR