BEGIN:VCALENDAR
VERSION:2.0
PRODID:-//Lifelong Learning Collaborative - ECPv6.15.12.2//NONSGML v1.0//EN
CALSCALE:GREGORIAN
METHOD:PUBLISH
X-WR-CALNAME:Lifelong Learning Collaborative
X-ORIGINAL-URL:https://www.lifelonglearningcollaborative.org
X-WR-CALDESC:Events for Lifelong Learning Collaborative
REFRESH-INTERVAL;VALUE=DURATION:PT1H
X-Robots-Tag:noindex
X-PUBLISHED-TTL:PT1H
BEGIN:VTIMEZONE
TZID:America/New_York
BEGIN:DAYLIGHT
TZOFFSETFROM:-0500
TZOFFSETTO:-0400
TZNAME:EDT
DTSTART:20260308T070000
END:DAYLIGHT
BEGIN:STANDARD
TZOFFSETFROM:-0400
TZOFFSETTO:-0500
TZNAME:EST
DTSTART:20261101T060000
END:STANDARD
BEGIN:DAYLIGHT
TZOFFSETFROM:-0500
TZOFFSETTO:-0400
TZNAME:EDT
DTSTART:20270314T070000
END:DAYLIGHT
BEGIN:STANDARD
TZOFFSETFROM:-0400
TZOFFSETTO:-0500
TZNAME:EST
DTSTART:20271107T060000
END:STANDARD
BEGIN:DAYLIGHT
TZOFFSETFROM:-0500
TZOFFSETTO:-0400
TZNAME:EDT
DTSTART:20280312T070000
END:DAYLIGHT
BEGIN:STANDARD
TZOFFSETFROM:-0400
TZOFFSETTO:-0500
TZNAME:EST
DTSTART:20281105T060000
END:STANDARD
BEGIN:DAYLIGHT
TZOFFSETFROM:-0500
TZOFFSETTO:-0400
TZNAME:EDT
DTSTART:20290311T070000
END:DAYLIGHT
BEGIN:STANDARD
TZOFFSETFROM:-0400
TZOFFSETTO:-0500
TZNAME:EST
DTSTART:20291104T060000
END:STANDARD
BEGIN:DAYLIGHT
TZOFFSETFROM:-0500
TZOFFSETTO:-0400
TZNAME:EDT
DTSTART:20300310T070000
END:DAYLIGHT
BEGIN:STANDARD
TZOFFSETFROM:-0400
TZOFFSETTO:-0500
TZNAME:EST
DTSTART:20301103T060000
END:STANDARD
BEGIN:DAYLIGHT
TZOFFSETFROM:-0500
TZOFFSETTO:-0400
TZNAME:EDT
DTSTART:20310309T070000
END:DAYLIGHT
BEGIN:STANDARD
TZOFFSETFROM:-0400
TZOFFSETTO:-0500
TZNAME:EST
DTSTART:20311102T060000
END:STANDARD
END:VTIMEZONE
BEGIN:VEVENT
DTSTART;TZID=America/New_York:20271211T090000
DTEND;TZID=America/New_York:20271211T110000
DTSTAMP:20260420T030407
CREATED:20260310T161512Z
LAST-MODIFIED:20260310T161512Z
UID:10004173-1828515600-1828522800@www.lifelonglearningcollaborative.org
SUMMARY:Breakfast Club: Prov & Warren
DESCRIPTION:
URL:https://www.lifelonglearningcollaborative.org/event/breakfast-club-prov-warren/2027-12-11/
LOCATION:RI
END:VEVENT
BEGIN:VEVENT
DTSTART;TZID=America/New_York:20280108T090000
DTEND;TZID=America/New_York:20280108T110000
DTSTAMP:20260420T030407
CREATED:20260310T161512Z
LAST-MODIFIED:20260310T161512Z
UID:10004174-1830934800-1830942000@www.lifelonglearningcollaborative.org
SUMMARY:Breakfast Club: Prov & Warren
DESCRIPTION:
URL:https://www.lifelonglearningcollaborative.org/event/breakfast-club-prov-warren/2028-01-08/
LOCATION:RI
END:VEVENT
BEGIN:VEVENT
DTSTART;TZID=America/New_York:20280212T090000
DTEND;TZID=America/New_York:20280212T110000
DTSTAMP:20260420T030407
CREATED:20260310T161512Z
LAST-MODIFIED:20260310T161512Z
UID:10004175-1833958800-1833966000@www.lifelonglearningcollaborative.org
SUMMARY:Breakfast Club: Prov & Warren
DESCRIPTION:
URL:https://www.lifelonglearningcollaborative.org/event/breakfast-club-prov-warren/2028-02-12/
LOCATION:RI
END:VEVENT
BEGIN:VEVENT
DTSTART;TZID=America/New_York:20280311T090000
DTEND;TZID=America/New_York:20280311T110000
DTSTAMP:20260420T030407
CREATED:20260310T161512Z
LAST-MODIFIED:20260310T161512Z
UID:10004176-1836378000-1836385200@www.lifelonglearningcollaborative.org
SUMMARY:Breakfast Club: Prov & Warren
DESCRIPTION:
URL:https://www.lifelonglearningcollaborative.org/event/breakfast-club-prov-warren/2028-03-11/
LOCATION:RI
END:VEVENT
BEGIN:VEVENT
DTSTART;TZID=America/New_York:20280408T090000
DTEND;TZID=America/New_York:20280408T110000
DTSTAMP:20260420T030407
CREATED:20260310T161512Z
LAST-MODIFIED:20260310T161512Z
UID:10004177-1838797200-1838804400@www.lifelonglearningcollaborative.org
SUMMARY:Breakfast Club: Prov & Warren
DESCRIPTION:
URL:https://www.lifelonglearningcollaborative.org/event/breakfast-club-prov-warren/2028-04-08/
LOCATION:RI
END:VEVENT
BEGIN:VEVENT
DTSTART;TZID=America/New_York:20280513T090000
DTEND;TZID=America/New_York:20280513T110000
DTSTAMP:20260420T030407
CREATED:20260310T161512Z
LAST-MODIFIED:20260310T161512Z
UID:10004178-1841821200-1841828400@www.lifelonglearningcollaborative.org
SUMMARY:Breakfast Club: Prov & Warren
DESCRIPTION:
URL:https://www.lifelonglearningcollaborative.org/event/breakfast-club-prov-warren/2028-05-13/
LOCATION:RI
END:VEVENT
BEGIN:VEVENT
DTSTART;TZID=America/New_York:20280610T090000
DTEND;TZID=America/New_York:20280610T110000
DTSTAMP:20260420T030407
CREATED:20260310T161512Z
LAST-MODIFIED:20260310T161512Z
UID:10004179-1844240400-1844247600@www.lifelonglearningcollaborative.org
SUMMARY:Breakfast Club: Prov & Warren
DESCRIPTION:
URL:https://www.lifelonglearningcollaborative.org/event/breakfast-club-prov-warren/2028-06-10/
LOCATION:RI
END:VEVENT
BEGIN:VEVENT
DTSTART;TZID=America/New_York:20280708T090000
DTEND;TZID=America/New_York:20280708T110000
DTSTAMP:20260420T030407
CREATED:20260310T161512Z
LAST-MODIFIED:20260310T161512Z
UID:10004180-1846659600-1846666800@www.lifelonglearningcollaborative.org
SUMMARY:Breakfast Club: Prov & Warren
DESCRIPTION:
URL:https://www.lifelonglearningcollaborative.org/event/breakfast-club-prov-warren/2028-07-08/
LOCATION:RI
END:VEVENT
BEGIN:VEVENT
DTSTART;TZID=America/New_York:20280812T090000
DTEND;TZID=America/New_York:20280812T110000
DTSTAMP:20260420T030407
CREATED:20260310T161512Z
LAST-MODIFIED:20260310T161512Z
UID:10004181-1849683600-1849690800@www.lifelonglearningcollaborative.org
SUMMARY:Breakfast Club: Prov & Warren
DESCRIPTION:
URL:https://www.lifelonglearningcollaborative.org/event/breakfast-club-prov-warren/2028-08-12/
LOCATION:RI
END:VEVENT
BEGIN:VEVENT
DTSTART;TZID=America/New_York:20280909T090000
DTEND;TZID=America/New_York:20280909T110000
DTSTAMP:20260420T030407
CREATED:20260310T161512Z
LAST-MODIFIED:20260310T161512Z
UID:10004182-1852102800-1852110000@www.lifelonglearningcollaborative.org
SUMMARY:Breakfast Club: Prov & Warren
DESCRIPTION:
URL:https://www.lifelonglearningcollaborative.org/event/breakfast-club-prov-warren/2028-09-09/
LOCATION:RI
END:VEVENT
BEGIN:VEVENT
DTSTART;TZID=America/New_York:20281014T090000
DTEND;TZID=America/New_York:20281014T110000
DTSTAMP:20260420T030407
CREATED:20260310T161512Z
LAST-MODIFIED:20260310T161512Z
UID:10004183-1855126800-1855134000@www.lifelonglearningcollaborative.org
SUMMARY:Breakfast Club: Prov & Warren
DESCRIPTION:
URL:https://www.lifelonglearningcollaborative.org/event/breakfast-club-prov-warren/2028-10-14/
LOCATION:RI
END:VEVENT
BEGIN:VEVENT
DTSTART;TZID=America/New_York:20281111T090000
DTEND;TZID=America/New_York:20281111T110000
DTSTAMP:20260420T030407
CREATED:20260310T161512Z
LAST-MODIFIED:20260310T161512Z
UID:10004184-1857546000-1857553200@www.lifelonglearningcollaborative.org
SUMMARY:Breakfast Club: Prov & Warren
DESCRIPTION:
URL:https://www.lifelonglearningcollaborative.org/event/breakfast-club-prov-warren/2028-11-11/
LOCATION:RI
END:VEVENT
BEGIN:VEVENT
DTSTART;TZID=America/New_York:20281209T090000
DTEND;TZID=America/New_York:20281209T110000
DTSTAMP:20260420T030407
CREATED:20260310T161512Z
LAST-MODIFIED:20260310T161512Z
UID:10004185-1859965200-1859972400@www.lifelonglearningcollaborative.org
SUMMARY:Breakfast Club: Prov & Warren
DESCRIPTION:
URL:https://www.lifelonglearningcollaborative.org/event/breakfast-club-prov-warren/2028-12-09/
LOCATION:RI
END:VEVENT
BEGIN:VEVENT
DTSTART;TZID=America/New_York:20290113T090000
DTEND;TZID=America/New_York:20290113T110000
DTSTAMP:20260420T030407
CREATED:20260310T161512Z
LAST-MODIFIED:20260310T161512Z
UID:10004186-1862989200-1862996400@www.lifelonglearningcollaborative.org
SUMMARY:Breakfast Club: Prov & Warren
DESCRIPTION:
URL:https://www.lifelonglearningcollaborative.org/event/breakfast-club-prov-warren/2029-01-13/
LOCATION:RI
END:VEVENT
BEGIN:VEVENT
DTSTART;TZID=America/New_York:20290210T090000
DTEND;TZID=America/New_York:20290210T110000
DTSTAMP:20260420T030407
CREATED:20260310T161512Z
LAST-MODIFIED:20260310T161512Z
UID:10004187-1865408400-1865415600@www.lifelonglearningcollaborative.org
SUMMARY:Breakfast Club: Prov & Warren
DESCRIPTION:
URL:https://www.lifelonglearningcollaborative.org/event/breakfast-club-prov-warren/2029-02-10/
LOCATION:RI
END:VEVENT
BEGIN:VEVENT
DTSTART;TZID=America/New_York:20290310T090000
DTEND;TZID=America/New_York:20290310T110000
DTSTAMP:20260420T030407
CREATED:20260310T161512Z
LAST-MODIFIED:20260310T161512Z
UID:10004188-1867827600-1867834800@www.lifelonglearningcollaborative.org
SUMMARY:Breakfast Club: Prov & Warren
DESCRIPTION:
URL:https://www.lifelonglearningcollaborative.org/event/breakfast-club-prov-warren/2029-03-10/
LOCATION:RI
END:VEVENT
BEGIN:VEVENT
DTSTART;TZID=America/New_York:20290414T090000
DTEND;TZID=America/New_York:20290414T110000
DTSTAMP:20260420T030407
CREATED:20260310T161512Z
LAST-MODIFIED:20260310T161512Z
UID:10004189-1870851600-1870858800@www.lifelonglearningcollaborative.org
SUMMARY:Breakfast Club: Prov & Warren
DESCRIPTION:
URL:https://www.lifelonglearningcollaborative.org/event/breakfast-club-prov-warren/2029-04-14/
LOCATION:RI
END:VEVENT
BEGIN:VEVENT
DTSTART;TZID=America/New_York:20290512T090000
DTEND;TZID=America/New_York:20290512T110000
DTSTAMP:20260420T030407
CREATED:20260310T161512Z
LAST-MODIFIED:20260310T161512Z
UID:10004190-1873270800-1873278000@www.lifelonglearningcollaborative.org
SUMMARY:Breakfast Club: Prov & Warren
DESCRIPTION:
URL:https://www.lifelonglearningcollaborative.org/event/breakfast-club-prov-warren/2029-05-12/
LOCATION:RI
END:VEVENT
BEGIN:VEVENT
DTSTART;TZID=America/New_York:20290609T090000
DTEND;TZID=America/New_York:20290609T110000
DTSTAMP:20260420T030407
CREATED:20260310T161512Z
LAST-MODIFIED:20260310T161512Z
UID:10004191-1875690000-1875697200@www.lifelonglearningcollaborative.org
SUMMARY:Breakfast Club: Prov & Warren
DESCRIPTION:
URL:https://www.lifelonglearningcollaborative.org/event/breakfast-club-prov-warren/2029-06-09/
LOCATION:RI
END:VEVENT
BEGIN:VEVENT
DTSTART;TZID=America/New_York:20290714T090000
DTEND;TZID=America/New_York:20290714T110000
DTSTAMP:20260420T030407
CREATED:20260310T161512Z
LAST-MODIFIED:20260310T161512Z
UID:10004192-1878714000-1878721200@www.lifelonglearningcollaborative.org
SUMMARY:Breakfast Club: Prov & Warren
DESCRIPTION:
URL:https://www.lifelonglearningcollaborative.org/event/breakfast-club-prov-warren/2029-07-14/
LOCATION:RI
END:VEVENT
BEGIN:VEVENT
DTSTART;TZID=America/New_York:20290811T090000
DTEND;TZID=America/New_York:20290811T110000
DTSTAMP:20260420T030407
CREATED:20260310T161512Z
LAST-MODIFIED:20260310T161512Z
UID:10004193-1881133200-1881140400@www.lifelonglearningcollaborative.org
SUMMARY:Breakfast Club: Prov & Warren
DESCRIPTION:
URL:https://www.lifelonglearningcollaborative.org/event/breakfast-club-prov-warren/2029-08-11/
LOCATION:RI
END:VEVENT
BEGIN:VEVENT
DTSTART;TZID=America/New_York:20290908T090000
DTEND;TZID=America/New_York:20290908T110000
DTSTAMP:20260420T030407
CREATED:20260310T161512Z
LAST-MODIFIED:20260310T161512Z
UID:10004194-1883552400-1883559600@www.lifelonglearningcollaborative.org
SUMMARY:Breakfast Club: Prov & Warren
DESCRIPTION:
URL:https://www.lifelonglearningcollaborative.org/event/breakfast-club-prov-warren/2029-09-08/
LOCATION:RI
END:VEVENT
BEGIN:VEVENT
DTSTART;TZID=America/New_York:20291013T090000
DTEND;TZID=America/New_York:20291013T110000
DTSTAMP:20260420T030407
CREATED:20260310T161512Z
LAST-MODIFIED:20260310T161512Z
UID:10004195-1886576400-1886583600@www.lifelonglearningcollaborative.org
SUMMARY:Breakfast Club: Prov & Warren
DESCRIPTION:
URL:https://www.lifelonglearningcollaborative.org/event/breakfast-club-prov-warren/2029-10-13/
LOCATION:RI
END:VEVENT
BEGIN:VEVENT
DTSTART;TZID=America/New_York:20291110T090000
DTEND;TZID=America/New_York:20291110T110000
DTSTAMP:20260420T030407
CREATED:20260310T161512Z
LAST-MODIFIED:20260310T161512Z
UID:10004196-1888995600-1889002800@www.lifelonglearningcollaborative.org
SUMMARY:Breakfast Club: Prov & Warren
DESCRIPTION:
URL:https://www.lifelonglearningcollaborative.org/event/breakfast-club-prov-warren/2029-11-10/
LOCATION:RI
END:VEVENT
BEGIN:VEVENT
DTSTART;TZID=America/New_York:20291208T090000
DTEND;TZID=America/New_York:20291208T110000
DTSTAMP:20260420T030407
CREATED:20260310T161512Z
LAST-MODIFIED:20260310T161512Z
UID:10004197-1891414800-1891422000@www.lifelonglearningcollaborative.org
SUMMARY:Breakfast Club: Prov & Warren
DESCRIPTION:
URL:https://www.lifelonglearningcollaborative.org/event/breakfast-club-prov-warren/2029-12-08/
LOCATION:RI
END:VEVENT
BEGIN:VEVENT
DTSTART;TZID=America/New_York:20300112T090000
DTEND;TZID=America/New_York:20300112T110000
DTSTAMP:20260420T030407
CREATED:20260310T161512Z
LAST-MODIFIED:20260310T161512Z
UID:10004198-1894438800-1894446000@www.lifelonglearningcollaborative.org
SUMMARY:Breakfast Club: Prov & Warren
DESCRIPTION:
URL:https://www.lifelonglearningcollaborative.org/event/breakfast-club-prov-warren/2030-01-12/
LOCATION:RI
END:VEVENT
BEGIN:VEVENT
DTSTART;TZID=America/New_York:20300209T090000
DTEND;TZID=America/New_York:20300209T110000
DTSTAMP:20260420T030407
CREATED:20260310T161512Z
LAST-MODIFIED:20260310T161512Z
UID:10004199-1896858000-1896865200@www.lifelonglearningcollaborative.org
SUMMARY:Breakfast Club: Prov & Warren
DESCRIPTION:
URL:https://www.lifelonglearningcollaborative.org/event/breakfast-club-prov-warren/2030-02-09/
LOCATION:RI
END:VEVENT
BEGIN:VEVENT
DTSTART;TZID=America/New_York:20300309T090000
DTEND;TZID=America/New_York:20300309T110000
DTSTAMP:20260420T030407
CREATED:20260310T161512Z
LAST-MODIFIED:20260310T161512Z
UID:10004200-1899277200-1899284400@www.lifelonglearningcollaborative.org
SUMMARY:Breakfast Club: Prov & Warren
DESCRIPTION:
URL:https://www.lifelonglearningcollaborative.org/event/breakfast-club-prov-warren/2030-03-09/
LOCATION:RI
END:VEVENT
BEGIN:VEVENT
DTSTART;TZID=America/New_York:20300413T090000
DTEND;TZID=America/New_York:20300413T110000
DTSTAMP:20260420T030407
CREATED:20260310T161512Z
LAST-MODIFIED:20260310T161512Z
UID:10004201-1902301200-1902308400@www.lifelonglearningcollaborative.org
SUMMARY:Breakfast Club: Prov & Warren
DESCRIPTION:
URL:https://www.lifelonglearningcollaborative.org/event/breakfast-club-prov-warren/2030-04-13/
LOCATION:RI
END:VEVENT
BEGIN:VEVENT
DTSTART;TZID=America/New_York:20300511T090000
DTEND;TZID=America/New_York:20300511T110000
DTSTAMP:20260420T030407
CREATED:20260310T161512Z
LAST-MODIFIED:20260310T161512Z
UID:10004202-1904720400-1904727600@www.lifelonglearningcollaborative.org
SUMMARY:Breakfast Club: Prov & Warren
DESCRIPTION:
URL:https://www.lifelonglearningcollaborative.org/event/breakfast-club-prov-warren/2030-05-11/
LOCATION:RI
END:VEVENT
END:VCALENDAR