BEGIN:VCALENDAR
VERSION:2.0
PRODID:-//Lifelong Learning Collaborative - ECPv6.15.12.2//NONSGML v1.0//EN
CALSCALE:GREGORIAN
METHOD:PUBLISH
X-WR-CALNAME:Lifelong Learning Collaborative
X-ORIGINAL-URL:https://www.lifelonglearningcollaborative.org
X-WR-CALDESC:Events for Lifelong Learning Collaborative
REFRESH-INTERVAL;VALUE=DURATION:PT1H
X-Robots-Tag:noindex
X-PUBLISHED-TTL:PT1H
BEGIN:VTIMEZONE
TZID:America/New_York
BEGIN:DAYLIGHT
TZOFFSETFROM:-0500
TZOFFSETTO:-0400
TZNAME:EDT
DTSTART:20250309T070000
END:DAYLIGHT
BEGIN:STANDARD
TZOFFSETFROM:-0400
TZOFFSETTO:-0500
TZNAME:EST
DTSTART:20251102T060000
END:STANDARD
BEGIN:DAYLIGHT
TZOFFSETFROM:-0500
TZOFFSETTO:-0400
TZNAME:EDT
DTSTART:20260308T070000
END:DAYLIGHT
BEGIN:STANDARD
TZOFFSETFROM:-0400
TZOFFSETTO:-0500
TZNAME:EST
DTSTART:20261101T060000
END:STANDARD
BEGIN:DAYLIGHT
TZOFFSETFROM:-0500
TZOFFSETTO:-0400
TZNAME:EDT
DTSTART:20270314T070000
END:DAYLIGHT
BEGIN:STANDARD
TZOFFSETFROM:-0400
TZOFFSETTO:-0500
TZNAME:EST
DTSTART:20271107T060000
END:STANDARD
END:VTIMEZONE
BEGIN:VEVENT
DTSTART;TZID=America/New_York:20260408T130000
DTEND;TZID=America/New_York:20260408T150000
DTSTAMP:20260419T195057
CREATED:20260119T162913Z
LAST-MODIFIED:20260316T150634Z
UID:10004215-1775653200-1775660400@www.lifelonglearningcollaborative.org
SUMMARY:Improv Theater
DESCRIPTION:
URL:https://www.lifelonglearningcollaborative.org/event/improv-theater/2026-04-08/
LOCATION:Shriners Center\, 1 Rhodes Place\, Cranston\, RI\, 02905\, United States
CATEGORIES:Courses
END:VEVENT
BEGIN:VEVENT
DTSTART;TZID=America/New_York:20260409T100000
DTEND;TZID=America/New_York:20260409T120000
DTSTAMP:20260419T195057
CREATED:20260119T163012Z
LAST-MODIFIED:20260119T163012Z
UID:10004073-1775728800-1775736000@www.lifelonglearningcollaborative.org
SUMMARY:Theater Conversations
DESCRIPTION:First play closes on March 22
URL:https://www.lifelonglearningcollaborative.org/event/theater-conversations-3-5/2026-04-09/
LOCATION:Shriners Center\, 1 Rhodes Place\, Cranston\, RI\, 02905\, United States
CATEGORIES:Courses
END:VEVENT
BEGIN:VEVENT
DTSTART;TZID=America/New_York:20260409T123000
DTEND;TZID=America/New_York:20260409T143000
DTSTAMP:20260419T195057
CREATED:20260119T163330Z
LAST-MODIFIED:20260119T163330Z
UID:10004093-1775737800-1775745000@www.lifelonglearningcollaborative.org
SUMMARY:Memoir (In-person)
DESCRIPTION:
URL:https://www.lifelonglearningcollaborative.org/event/memoir-in-person/2026-04-09/
LOCATION:Shriners Center\, 1 Rhodes Place\, Cranston\, RI\, 02905\, United States
CATEGORIES:Courses
END:VEVENT
BEGIN:VEVENT
DTSTART;TZID=America/New_York:20260409T130000
DTEND;TZID=America/New_York:20260409T150000
DTSTAMP:20260419T195057
CREATED:20260119T163057Z
LAST-MODIFIED:20260119T163057Z
UID:10004083-1775739600-1775746800@www.lifelonglearningcollaborative.org
SUMMARY:Bridge
DESCRIPTION:
URL:https://www.lifelonglearningcollaborative.org/event/bridge-2/2026-04-09/
LOCATION:Regency Plaza Apartments\, RI\, United States
CATEGORIES:Courses
END:VEVENT
BEGIN:VEVENT
DTSTART;TZID=America/New_York:20260410T100000
DTEND;TZID=America/New_York:20260410T110000
DTSTAMP:20260419T195057
CREATED:20260119T163622Z
LAST-MODIFIED:20260119T163622Z
UID:10004122-1775815200-1775818800@www.lifelonglearningcollaborative.org
SUMMARY:Personal Training
DESCRIPTION:
URL:https://www.lifelonglearningcollaborative.org/event/personal-training/2026-04-10/
LOCATION:ZOOM
CATEGORIES:Courses
END:VEVENT
BEGIN:VEVENT
DTSTART;TZID=America/New_York:20260410T100000
DTEND;TZID=America/New_York:20260410T120000
DTSTAMP:20260419T195057
CREATED:20260119T163522Z
LAST-MODIFIED:20260119T163522Z
UID:10004113-1775815200-1775822400@www.lifelonglearningcollaborative.org
SUMMARY:Anthropology Movies
DESCRIPTION:
URL:https://www.lifelonglearningcollaborative.org/event/anthropology-movies-2-2/2026-04-10/
LOCATION:Shriners Center\, 1 Rhodes Place\, Cranston\, RI\, 02905\, United States
CATEGORIES:Courses
END:VEVENT
BEGIN:VEVENT
DTSTART;TZID=America/New_York:20260410T100000
DTEND;TZID=America/New_York:20260410T120000
DTSTAMP:20260419T195057
CREATED:20260323T131155Z
LAST-MODIFIED:20260323T131156Z
UID:10004133-1775815200-1775822400@www.lifelonglearningcollaborative.org
SUMMARY:Prov Public Art\, Jane's Walk
DESCRIPTION:Shriners & other sites
URL:https://www.lifelonglearningcollaborative.org/event/prov-public-art-janes-walk-2-2/2026-04-10/
LOCATION:Shriners Center\, 1 Rhodes Place\, Cranston\, RI\, 02905\, United States
CATEGORIES:Courses
END:VEVENT
BEGIN:VEVENT
DTSTART;TZID=America/New_York:20260411T090000
DTEND;TZID=America/New_York:20260411T110000
DTSTAMP:20260419T195057
CREATED:20260310T161512Z
LAST-MODIFIED:20260310T161512Z
UID:10004153-1775898000-1775905200@www.lifelonglearningcollaborative.org
SUMMARY:Breakfast Club: Prov & Warren
DESCRIPTION:
URL:https://www.lifelonglearningcollaborative.org/event/breakfast-club-prov-warren/2026-04-11/
LOCATION:RI
END:VEVENT
BEGIN:VEVENT
DTSTART;TZID=America/New_York:20260413T100000
DTEND;TZID=America/New_York:20260413T120000
DTSTAMP:20260419T195057
CREATED:20260119T140142Z
LAST-MODIFIED:20260119T140142Z
UID:10003904-1776074400-1776081600@www.lifelonglearningcollaborative.org
SUMMARY:Russian Short Stories
DESCRIPTION:Wingate Residences\, East Side of Providence
URL:https://www.lifelonglearningcollaborative.org/event/russian-short-stories/2026-04-13/
LOCATION:RI
CATEGORIES:Courses
END:VEVENT
BEGIN:VEVENT
DTSTART;TZID=America/New_York:20260413T100000
DTEND;TZID=America/New_York:20260413T120000
DTSTAMP:20260419T195057
CREATED:20260119T140307Z
LAST-MODIFIED:20260119T140307Z
UID:10003914-1776074400-1776081600@www.lifelonglearningcollaborative.org
SUMMARY:Studio Art (Zoom)
DESCRIPTION:
URL:https://www.lifelonglearningcollaborative.org/event/studio-art-zoom/2026-04-13/
LOCATION:ZOOM
CATEGORIES:Courses
END:VEVENT
BEGIN:VEVENT
DTSTART;TZID=America/New_York:20260413T100000
DTEND;TZID=America/New_York:20260413T120000
DTSTAMP:20260419T195057
CREATED:20260119T140406Z
LAST-MODIFIED:20260323T131758Z
UID:10004237-1776074400-1776081600@www.lifelonglearningcollaborative.org
SUMMARY:"Magic Mountain"
DESCRIPTION:
URL:https://www.lifelonglearningcollaborative.org/event/magic-mountain/2026-04-13/
LOCATION:Shriners Center\, 1 Rhodes Place\, Cranston\, RI\, 02905\, United States
CATEGORIES:Courses
END:VEVENT
BEGIN:VEVENT
DTSTART;TZID=America/New_York:20260413T100000
DTEND;TZID=America/New_York:20260413T120000
DTSTAMP:20260419T195057
CREATED:20260119T140530Z
LAST-MODIFIED:20260323T131054Z
UID:10004227-1776074400-1776081600@www.lifelonglearningcollaborative.org
SUMMARY:Democracy
DESCRIPTION:
URL:https://www.lifelonglearningcollaborative.org/event/democracy/2026-04-13/
LOCATION:ZOOM
CATEGORIES:Courses
END:VEVENT
BEGIN:VEVENT
DTSTART;TZID=America/New_York:20260413T100000
DTEND;TZID=America/New_York:20260413T120000
DTSTAMP:20260419T195057
CREATED:20260119T162123Z
LAST-MODIFIED:20260119T162123Z
UID:10004025-1776074400-1776081600@www.lifelonglearningcollaborative.org
SUMMARY:Paint Like a Woman
DESCRIPTION:
URL:https://www.lifelonglearningcollaborative.org/event/paint-like-a-woman-2-2/2026-04-13/
LOCATION:Shriners Center\, 1 Rhodes Place\, Cranston\, RI\, 02905\, United States
CATEGORIES:Courses
END:VEVENT
BEGIN:VEVENT
DTSTART;TZID=America/New_York:20260413T130000
DTEND;TZID=America/New_York:20260413T150000
DTSTAMP:20260419T195057
CREATED:20250714T134926Z
LAST-MODIFIED:20250714T135145Z
UID:10003406-1776085200-1776092400@www.lifelonglearningcollaborative.org
SUMMARY:Detective Novel Book Club
DESCRIPTION:
URL:https://www.lifelonglearningcollaborative.org/event/detective-novel-book-club/2026-04-13/
LOCATION:Shriners Center\, 1 Rhodes Place\, Cranston\, RI\, 02905\, United States
CATEGORIES:Courses
END:VEVENT
BEGIN:VEVENT
DTSTART;TZID=America/New_York:20260413T130000
DTEND;TZID=America/New_York:20260413T150000
DTSTAMP:20260419T195057
CREATED:20260119T141809Z
LAST-MODIFIED:20260119T141809Z
UID:10003922-1776085200-1776092400@www.lifelonglearningcollaborative.org
SUMMARY:Sacred Places
DESCRIPTION:
URL:https://www.lifelonglearningcollaborative.org/event/sacred-places/2026-04-13/
LOCATION:Shriners Center\, 1 Rhodes Place\, Cranston\, RI\, 02905\, United States
CATEGORIES:Courses
END:VEVENT
BEGIN:VEVENT
DTSTART;TZID=America/New_York:20260413T130000
DTEND;TZID=America/New_York:20260413T150000
DTSTAMP:20260419T195057
CREATED:20260119T141918Z
LAST-MODIFIED:20260119T141918Z
UID:10003932-1776085200-1776092400@www.lifelonglearningcollaborative.org
SUMMARY:Irish\, Then Italians
DESCRIPTION:
URL:https://www.lifelonglearningcollaborative.org/event/irish-then-italians/2026-04-13/
LOCATION:Shriners Center\, 1 Rhodes Place\, Cranston\, RI\, 02905\, United States
CATEGORIES:Courses
END:VEVENT
BEGIN:VEVENT
DTSTART;TZID=America/New_York:20260414T100000
DTEND;TZID=America/New_York:20260414T120000
DTSTAMP:20260419T195057
CREATED:20260119T142135Z
LAST-MODIFIED:20260119T142135Z
UID:10003952-1776160800-1776168000@www.lifelonglearningcollaborative.org
SUMMARY:Memoir (Zoom)
DESCRIPTION:
URL:https://www.lifelonglearningcollaborative.org/event/memoir-zoom/2026-04-14/
LOCATION:ZOOM
CATEGORIES:Courses
END:VEVENT
BEGIN:VEVENT
DTSTART;TZID=America/New_York:20260414T100000
DTEND;TZID=America/New_York:20260414T120000
DTSTAMP:20260419T195057
CREATED:20260119T142433Z
LAST-MODIFIED:20260119T142433Z
UID:10003960-1776160800-1776168000@www.lifelonglearningcollaborative.org
SUMMARY:Cell Phone Photo Club
DESCRIPTION:
URL:https://www.lifelonglearningcollaborative.org/event/cell-phone-photo-club-2-10/2026-04-14/
LOCATION:Shriners Center\, 1 Rhodes Place\, Cranston\, RI\, 02905\, United States
CATEGORIES:Courses
END:VEVENT
BEGIN:VEVENT
DTSTART;TZID=America/New_York:20260414T100000
DTEND;TZID=America/New_York:20260414T123000
DTSTAMP:20260419T195057
CREATED:20260119T142028Z
LAST-MODIFIED:20260119T142028Z
UID:10003942-1776160800-1776169800@www.lifelonglearningcollaborative.org
SUMMARY:Studio Art (In-person)
DESCRIPTION:
URL:https://www.lifelonglearningcollaborative.org/event/studio-art-in-person/2026-04-14/
LOCATION:Shriners Center\, 1 Rhodes Place\, Cranston\, RI\, 02905\, United States
CATEGORIES:Courses
END:VEVENT
BEGIN:VEVENT
DTSTART;TZID=America/New_York:20260414T123000
DTEND;TZID=America/New_York:20260414T140000
DTSTAMP:20260419T195057
CREATED:20260119T161627Z
LAST-MODIFIED:20260119T161627Z
UID:10003988-1776169800-1776175200@www.lifelonglearningcollaborative.org
SUMMARY:1938 Hurricane
DESCRIPTION:Providence Art Club
URL:https://www.lifelonglearningcollaborative.org/event/1938-hurricane/2026-04-14/
LOCATION:RI
CATEGORIES:Courses
END:VEVENT
BEGIN:VEVENT
DTSTART;TZID=America/New_York:20260414T130000
DTEND;TZID=America/New_York:20260414T150000
DTSTAMP:20260419T195057
CREATED:20260119T161425Z
LAST-MODIFIED:20260323T130801Z
UID:10003978-1776171600-1776178800@www.lifelonglearningcollaborative.org
SUMMARY:Diamonds: Jewels\, Couture\, Glamour
DESCRIPTION:
URL:https://www.lifelonglearningcollaborative.org/event/diamonds-jewels-couture-glamour/2026-04-14/
LOCATION:Shriners Center\, 1 Rhodes Place\, Cranston\, RI\, 02905\, United States
CATEGORIES:Courses
END:VEVENT
BEGIN:VEVENT
DTSTART;TZID=America/New_York:20260414T150000
DTEND;TZID=America/New_York:20260414T173000
DTSTAMP:20260419T195057
CREATED:20260323T131242Z
LAST-MODIFIED:20260323T131243Z
UID:10003997-1776178800-1776187800@www.lifelonglearningcollaborative.org
SUMMARY:Scrabble
DESCRIPTION:
URL:https://www.lifelonglearningcollaborative.org/event/scrabble-25-2/2026-04-14/
LOCATION:Shriners Center\, 1 Rhodes Place\, Cranston\, RI\, 02905\, United States
CATEGORIES:Courses
END:VEVENT
BEGIN:VEVENT
DTSTART;TZID=America/New_York:20260415T100000
DTEND;TZID=America/New_York:20260415T120000
DTSTAMP:20260419T195057
CREATED:20260119T161816Z
LAST-MODIFIED:20260119T161816Z
UID:10004011-1776247200-1776254400@www.lifelonglearningcollaborative.org
SUMMARY:Looking at Ourselves
DESCRIPTION:
URL:https://www.lifelonglearningcollaborative.org/event/looking-at-ourselves/2026-04-15/
LOCATION:Shriners Center\, 1 Rhodes Place\, Cranston\, RI\, 02905\, United States
CATEGORIES:Courses
END:VEVENT
BEGIN:VEVENT
DTSTART;TZID=America/New_York:20260415T100000
DTEND;TZID=America/New_York:20260415T120000
DTSTAMP:20260419T195057
CREATED:20260119T162123Z
LAST-MODIFIED:20260119T162123Z
UID:10004026-1776247200-1776254400@www.lifelonglearningcollaborative.org
SUMMARY:Paint Like a Woman
DESCRIPTION:
URL:https://www.lifelonglearningcollaborative.org/event/paint-like-a-woman-2-2/2026-04-15/
LOCATION:Shriners Center\, 1 Rhodes Place\, Cranston\, RI\, 02905\, United States
CATEGORIES:Courses
END:VEVENT
BEGIN:VEVENT
DTSTART;TZID=America/New_York:20260415T100000
DTEND;TZID=America/New_York:20260415T120000
DTSTAMP:20260419T195057
CREATED:20260119T162220Z
LAST-MODIFIED:20260119T162220Z
UID:10004042-1776247200-1776254400@www.lifelonglearningcollaborative.org
SUMMARY:Independence at 250
DESCRIPTION:
URL:https://www.lifelonglearningcollaborative.org/event/independence-at-250/2026-04-15/
LOCATION:Shriners Center\, 1 Rhodes Place\, Cranston\, RI\, 02905\, United States
CATEGORIES:Courses
END:VEVENT
BEGIN:VEVENT
DTSTART;TZID=America/New_York:20260415T130000
DTEND;TZID=America/New_York:20260415T150000
DTSTAMP:20260419T195057
CREATED:20260119T162638Z
LAST-MODIFIED:20260119T162638Z
UID:10004052-1776258000-1776265200@www.lifelonglearningcollaborative.org
SUMMARY:Hot Topics
DESCRIPTION:
URL:https://www.lifelonglearningcollaborative.org/event/hot-topics-3-10/2026-04-15/
LOCATION:ZOOM
CATEGORIES:Courses
END:VEVENT
BEGIN:VEVENT
DTSTART;TZID=America/New_York:20260415T130000
DTEND;TZID=America/New_York:20260415T150000
DTSTAMP:20260419T195057
CREATED:20260119T162913Z
LAST-MODIFIED:20260316T150634Z
UID:10004216-1776258000-1776265200@www.lifelonglearningcollaborative.org
SUMMARY:Improv Theater
DESCRIPTION:
URL:https://www.lifelonglearningcollaborative.org/event/improv-theater/2026-04-15/
LOCATION:Shriners Center\, 1 Rhodes Place\, Cranston\, RI\, 02905\, United States
CATEGORIES:Courses
END:VEVENT
BEGIN:VEVENT
DTSTART;TZID=America/New_York:20260415T160000
DTEND;TZID=America/New_York:20260415T170000
DTSTAMP:20260419T195057
CREATED:20260209T173924Z
LAST-MODIFIED:20260209T173924Z
UID:10004144-1776268800-1776272400@www.lifelonglearningcollaborative.org
SUMMARY:Webinar Lecture: Author William J. Kole – "Why Christian Gun Culture Makes Us All Less Safe"
DESCRIPTION:
URL:https://www.lifelonglearningcollaborative.org/event/webinar-lecture-author-william-j-kole-why-christian-gun-culture-makes-us-all-less-safe/
LOCATION:ZOOM
CATEGORIES:Free Webinars
END:VEVENT
BEGIN:VEVENT
DTSTART;TZID=America/New_York:20260416T100000
DTEND;TZID=America/New_York:20260416T120000
DTSTAMP:20260419T195057
CREATED:20260119T163012Z
LAST-MODIFIED:20260119T163012Z
UID:10004074-1776333600-1776340800@www.lifelonglearningcollaborative.org
SUMMARY:Theater Conversations
DESCRIPTION:First play closes on March 22
URL:https://www.lifelonglearningcollaborative.org/event/theater-conversations-3-5/2026-04-16/
LOCATION:Shriners Center\, 1 Rhodes Place\, Cranston\, RI\, 02905\, United States
CATEGORIES:Courses
END:VEVENT
BEGIN:VEVENT
DTSTART;TZID=America/New_York:20260416T123000
DTEND;TZID=America/New_York:20260416T143000
DTSTAMP:20260419T195057
CREATED:20260119T163330Z
LAST-MODIFIED:20260119T163330Z
UID:10004094-1776342600-1776349800@www.lifelonglearningcollaborative.org
SUMMARY:Memoir (In-person)
DESCRIPTION:
URL:https://www.lifelonglearningcollaborative.org/event/memoir-in-person/2026-04-16/
LOCATION:Shriners Center\, 1 Rhodes Place\, Cranston\, RI\, 02905\, United States
CATEGORIES:Courses
END:VEVENT
END:VCALENDAR