BEGIN:VCALENDAR
VERSION:2.0
PRODID:-//Lifelong Learning Collaborative - ECPv6.15.12.2//NONSGML v1.0//EN
CALSCALE:GREGORIAN
METHOD:PUBLISH
X-WR-CALNAME:Lifelong Learning Collaborative
X-ORIGINAL-URL:https://www.lifelonglearningcollaborative.org
X-WR-CALDESC:Events for Lifelong Learning Collaborative
REFRESH-INTERVAL;VALUE=DURATION:PT1H
X-Robots-Tag:noindex
X-PUBLISHED-TTL:PT1H
BEGIN:VTIMEZONE
TZID:America/New_York
BEGIN:DAYLIGHT
TZOFFSETFROM:-0500
TZOFFSETTO:-0400
TZNAME:EDT
DTSTART:20220313T070000
END:DAYLIGHT
BEGIN:STANDARD
TZOFFSETFROM:-0400
TZOFFSETTO:-0500
TZNAME:EST
DTSTART:20221106T060000
END:STANDARD
BEGIN:DAYLIGHT
TZOFFSETFROM:-0500
TZOFFSETTO:-0400
TZNAME:EDT
DTSTART:20230312T070000
END:DAYLIGHT
BEGIN:STANDARD
TZOFFSETFROM:-0400
TZOFFSETTO:-0500
TZNAME:EST
DTSTART:20231105T060000
END:STANDARD
BEGIN:DAYLIGHT
TZOFFSETFROM:-0500
TZOFFSETTO:-0400
TZNAME:EDT
DTSTART:20240310T070000
END:DAYLIGHT
BEGIN:STANDARD
TZOFFSETFROM:-0400
TZOFFSETTO:-0500
TZNAME:EST
DTSTART:20241103T060000
END:STANDARD
END:VTIMEZONE
BEGIN:VEVENT
DTSTART;TZID=America/New_York:20230926T130000
DTEND;TZID=America/New_York:20230926T150000
DTSTAMP:20260421T095324
CREATED:20230717T131842Z
LAST-MODIFIED:20230717T132013Z
UID:10001050-1695733200-1695740400@www.lifelonglearningcollaborative.org
SUMMARY:Classical Music 20th C.
DESCRIPTION:
URL:https://www.lifelonglearningcollaborative.org/event/classical-music-20th-c/2023-09-26/
LOCATION:Temple Beth-El\, 70 Orchard Avenue\, Providence\, RI\, United States
CATEGORIES:Courses
END:VEVENT
BEGIN:VEVENT
DTSTART;TZID=America/New_York:20230926T130000
DTEND;TZID=America/New_York:20230926T150000
DTSTAMP:20260421T095324
CREATED:20230717T132330Z
LAST-MODIFIED:20230717T132330Z
UID:10001070-1695733200-1695740400@www.lifelonglearningcollaborative.org
SUMMARY:Cell Phone Photo Club
DESCRIPTION:
URL:https://www.lifelonglearningcollaborative.org/event/cell-phone-photo-club-2-2/2023-09-26/
LOCATION:Temple Beth-El\, 70 Orchard Avenue\, Providence\, RI\, United States
CATEGORIES:Courses
END:VEVENT
BEGIN:VEVENT
DTSTART;TZID=America/New_York:20230926T151500
DTEND;TZID=America/New_York:20230926T171500
DTSTAMP:20260421T095324
CREATED:20230717T132527Z
LAST-MODIFIED:20230717T132550Z
UID:10001101-1695741300-1695748500@www.lifelonglearningcollaborative.org
SUMMARY:Scrabble
DESCRIPTION:
URL:https://www.lifelonglearningcollaborative.org/event/scrabble-7/2023-09-26/
LOCATION:Temple Beth-El\, 70 Orchard Avenue\, Providence\, RI\, United States
CATEGORIES:Courses
END:VEVENT
BEGIN:VEVENT
DTSTART;TZID=America/New_York:20230927T100000
DTEND;TZID=America/New_York:20230927T120000
DTSTAMP:20260421T095324
CREATED:20230717T132907Z
LAST-MODIFIED:20230717T132912Z
UID:10001120-1695808800-1695816000@www.lifelonglearningcollaborative.org
SUMMARY:US Supreme Court Decisions
DESCRIPTION:
URL:https://www.lifelonglearningcollaborative.org/event/us-supreme-court-decisions/2023-09-27/
LOCATION:ZOOM
CATEGORIES:Courses
END:VEVENT
BEGIN:VEVENT
DTSTART;TZID=America/New_York:20230927T100000
DTEND;TZID=America/New_York:20230927T120000
DTSTAMP:20260421T095324
CREATED:20230717T133007Z
LAST-MODIFIED:20230717T133007Z
UID:10001128-1695808800-1695816000@www.lifelonglearningcollaborative.org
SUMMARY:Gender/Power Plays
DESCRIPTION:
URL:https://www.lifelonglearningcollaborative.org/event/gender-power-plays/2023-09-27/
LOCATION:Temple Beth-El\, 70 Orchard Avenue\, Providence\, RI\, United States
CATEGORIES:Courses
END:VEVENT
BEGIN:VEVENT
DTSTART;TZID=America/New_York:20230927T130000
DTEND;TZID=America/New_York:20230927T150000
DTSTAMP:20260421T095324
CREATED:20230717T133214Z
LAST-MODIFIED:20230717T133247Z
UID:10001156-1695819600-1695826800@www.lifelonglearningcollaborative.org
SUMMARY:Hot Topics
DESCRIPTION:
URL:https://www.lifelonglearningcollaborative.org/event/hot-topics-3-2/2023-09-27/
LOCATION:ZOOM
CATEGORIES:Courses
END:VEVENT
BEGIN:VEVENT
DTSTART;TZID=America/New_York:20230927T130000
DTEND;TZID=America/New_York:20230927T150000
DTSTAMP:20260421T095324
CREATED:20230717T133327Z
LAST-MODIFIED:20230717T133327Z
UID:10001166-1695819600-1695826800@www.lifelonglearningcollaborative.org
SUMMARY:LLC Knits
DESCRIPTION:
URL:https://www.lifelonglearningcollaborative.org/event/llc-knits-3-2/2023-09-27/
LOCATION:Temple Beth-El\, 70 Orchard Avenue\, Providence\, RI\, United States
CATEGORIES:Courses
END:VEVENT
BEGIN:VEVENT
DTSTART;TZID=America/New_York:20230928T100000
DTEND;TZID=America/New_York:20230928T120000
DTSTAMP:20260421T095324
CREATED:20230717T133808Z
LAST-MODIFIED:20230717T133808Z
UID:10001223-1695895200-1695902400@www.lifelonglearningcollaborative.org
SUMMARY:Theater Conversations
DESCRIPTION:
URL:https://www.lifelonglearningcollaborative.org/event/theater-conversations/2023-09-28/
LOCATION:Temple Beth-El\, 70 Orchard Avenue\, Providence\, RI\, United States
CATEGORIES:Courses
END:VEVENT
BEGIN:VEVENT
DTSTART;TZID=America/New_York:20230928T130000
DTEND;TZID=America/New_York:20230928T150000
DTSTAMP:20260421T095324
CREATED:20230717T133447Z
LAST-MODIFIED:20230717T221908Z
UID:10001402-1695906000-1695913200@www.lifelonglearningcollaborative.org
SUMMARY:Your Hometown
DESCRIPTION:
URL:https://www.lifelonglearningcollaborative.org/event/your-hometown/2023-09-28/
LOCATION:Temple Beth-El\, 70 Orchard Avenue\, Providence\, RI\, United States
CATEGORIES:Courses
END:VEVENT
BEGIN:VEVENT
DTSTART;TZID=America/New_York:20230928T130000
DTEND;TZID=America/New_York:20230928T150000
DTSTAMP:20260421T095324
CREATED:20230717T133858Z
LAST-MODIFIED:20230717T133858Z
UID:10001240-1695906000-1695913200@www.lifelonglearningcollaborative.org
SUMMARY:Memoir
DESCRIPTION:
URL:https://www.lifelonglearningcollaborative.org/event/memoir/2023-09-28/
LOCATION:Temple Beth-El\, 70 Orchard Avenue\, Providence\, RI\, United States
CATEGORIES:Courses
END:VEVENT
BEGIN:VEVENT
DTSTART;TZID=America/New_York:20230928T130000
DTEND;TZID=America/New_York:20230928T150000
DTSTAMP:20260421T095324
CREATED:20230717T134009Z
LAST-MODIFIED:20230717T134009Z
UID:10001250-1695906000-1695913200@www.lifelonglearningcollaborative.org
SUMMARY:Paintings/Paris Cafes
DESCRIPTION:
URL:https://www.lifelonglearningcollaborative.org/event/paintings-paris-cafes/2023-09-28/
LOCATION:Temple Beth-El\, 70 Orchard Avenue\, Providence\, RI\, United States
CATEGORIES:Courses
END:VEVENT
BEGIN:VEVENT
DTSTART;TZID=America/New_York:20230928T130000
DTEND;TZID=America/New_York:20230928T150000
DTSTAMP:20260421T095324
CREATED:20230717T134117Z
LAST-MODIFIED:20230717T134117Z
UID:10001260-1695906000-1695913200@www.lifelonglearningcollaborative.org
SUMMARY:Photo Journey I
DESCRIPTION:ZOOM and Temple Beth-El
URL:https://www.lifelonglearningcollaborative.org/event/photo-journey-i/2023-09-28/
LOCATION:Temple Beth-El\, 70 Orchard Avenue\, Providence\, RI\, United States
CATEGORIES:Courses
END:VEVENT
BEGIN:VEVENT
DTSTART;TZID=America/New_York:20230929T100000
DTEND;TZID=America/New_York:20230929T110000
DTSTAMP:20260421T095324
CREATED:20230717T134610Z
LAST-MODIFIED:20230717T134610Z
UID:10001378-1695981600-1695985200@www.lifelonglearningcollaborative.org
SUMMARY:Get Fit at Home
DESCRIPTION:
URL:https://www.lifelonglearningcollaborative.org/event/get-fit-at-home-3-3/2023-09-29/
LOCATION:ZOOM
CATEGORIES:Courses
END:VEVENT
BEGIN:VEVENT
DTSTART;TZID=America/New_York:20230929T100000
DTEND;TZID=America/New_York:20230929T120000
DTSTAMP:20260421T095324
CREATED:20230717T134450Z
LAST-MODIFIED:20230717T134450Z
UID:10001307-1695981600-1695988800@www.lifelonglearningcollaborative.org
SUMMARY:Lives of Objects
DESCRIPTION:
URL:https://www.lifelonglearningcollaborative.org/event/lives-of-objects/2023-09-29/
LOCATION:Temple Beth-El\, 70 Orchard Avenue\, Providence\, RI\, United States
CATEGORIES:Courses
END:VEVENT
BEGIN:VEVENT
DTSTART;TZID=America/New_York:20231002T100000
DTEND;TZID=America/New_York:20231002T120000
DTSTAMP:20260421T095324
CREATED:20230717T130343Z
LAST-MODIFIED:20230717T130343Z
UID:10000667-1696240800-1696248000@www.lifelonglearningcollaborative.org
SUMMARY:Open Studio Art
DESCRIPTION:
URL:https://www.lifelonglearningcollaborative.org/event/open-studio-art-8/2023-10-02/
LOCATION:ZOOM
CATEGORIES:Courses
END:VEVENT
BEGIN:VEVENT
DTSTART;TZID=America/New_York:20231002T100000
DTEND;TZID=America/New_York:20231002T120000
DTSTAMP:20260421T095324
CREATED:20230717T130443Z
LAST-MODIFIED:20230717T132232Z
UID:10000729-1696240800-1696248000@www.lifelonglearningcollaborative.org
SUMMARY:Great Depression
DESCRIPTION:
URL:https://www.lifelonglearningcollaborative.org/event/great-depression/2023-10-02/
LOCATION:ZOOM
CATEGORIES:Courses
END:VEVENT
BEGIN:VEVENT
DTSTART;TZID=America/New_York:20231002T100000
DTEND;TZID=America/New_York:20231002T120000
DTSTAMP:20260421T095324
CREATED:20230717T130612Z
LAST-MODIFIED:20230717T132051Z
UID:10000791-1696240800-1696248000@www.lifelonglearningcollaborative.org
SUMMARY:An Immense World
DESCRIPTION:
URL:https://www.lifelonglearningcollaborative.org/event/an-immense-world/2023-10-02/
LOCATION:ZOOM
CATEGORIES:Courses
END:VEVENT
BEGIN:VEVENT
DTSTART;TZID=America/New_York:20231002T130000
DTEND;TZID=America/New_York:20231002T150000
DTSTAMP:20260421T095324
CREATED:20230717T131124Z
LAST-MODIFIED:20230717T133550Z
UID:10001194-1696251600-1696258800@www.lifelonglearningcollaborative.org
SUMMARY:Women Leaders
DESCRIPTION:
URL:https://www.lifelonglearningcollaborative.org/event/women-leaders/2023-10-02/
LOCATION:ZOOM
CATEGORIES:Courses
END:VEVENT
BEGIN:VEVENT
DTSTART;TZID=America/New_York:20231003T100000
DTEND;TZID=America/New_York:20231003T120000
DTSTAMP:20260421T095324
CREATED:20230717T131409Z
LAST-MODIFIED:20230717T131409Z
UID:10000950-1696327200-1696334400@www.lifelonglearningcollaborative.org
SUMMARY:Luminous Things: Big Six
DESCRIPTION:Hybrid: Temple Beth-El and Zoom
URL:https://www.lifelonglearningcollaborative.org/event/luminous-things-big-six/2023-10-03/
LOCATION:Temple Beth-El\, 70 Orchard Avenue\, Providence\, RI\, United States
CATEGORIES:Courses
END:VEVENT
BEGIN:VEVENT
DTSTART;TZID=America/New_York:20231003T100000
DTEND;TZID=America/New_York:20231003T120000
DTSTAMP:20260421T095324
CREATED:20230717T131734Z
LAST-MODIFIED:20230717T132146Z
UID:10001031-1696327200-1696334400@www.lifelonglearningcollaborative.org
SUMMARY:Düsseldorf
DESCRIPTION:
URL:https://www.lifelonglearningcollaborative.org/event/dusseldorf/2023-10-03/
LOCATION:Temple Beth-El\, 70 Orchard Avenue\, Providence\, RI\, United States
CATEGORIES:Courses
END:VEVENT
BEGIN:VEVENT
DTSTART;TZID=America/New_York:20231003T130000
DTEND;TZID=America/New_York:20231003T150000
DTSTAMP:20260421T095324
CREATED:20230717T131842Z
LAST-MODIFIED:20230717T132013Z
UID:10001051-1696338000-1696345200@www.lifelonglearningcollaborative.org
SUMMARY:Classical Music 20th C.
DESCRIPTION:
URL:https://www.lifelonglearningcollaborative.org/event/classical-music-20th-c/2023-10-03/
LOCATION:Temple Beth-El\, 70 Orchard Avenue\, Providence\, RI\, United States
CATEGORIES:Courses
END:VEVENT
BEGIN:VEVENT
DTSTART;TZID=America/New_York:20231003T130000
DTEND;TZID=America/New_York:20231003T150000
DTSTAMP:20260421T095324
CREATED:20230717T132330Z
LAST-MODIFIED:20230717T132330Z
UID:10001071-1696338000-1696345200@www.lifelonglearningcollaborative.org
SUMMARY:Cell Phone Photo Club
DESCRIPTION:
URL:https://www.lifelonglearningcollaborative.org/event/cell-phone-photo-club-2-2/2023-10-03/
LOCATION:Temple Beth-El\, 70 Orchard Avenue\, Providence\, RI\, United States
CATEGORIES:Courses
END:VEVENT
BEGIN:VEVENT
DTSTART;TZID=America/New_York:20231003T151500
DTEND;TZID=America/New_York:20231003T171500
DTSTAMP:20260421T095324
CREATED:20230717T132527Z
LAST-MODIFIED:20230717T132550Z
UID:10001102-1696346100-1696353300@www.lifelonglearningcollaborative.org
SUMMARY:Scrabble
DESCRIPTION:
URL:https://www.lifelonglearningcollaborative.org/event/scrabble-7/2023-10-03/
LOCATION:Temple Beth-El\, 70 Orchard Avenue\, Providence\, RI\, United States
CATEGORIES:Courses
END:VEVENT
BEGIN:VEVENT
DTSTART;TZID=America/New_York:20231004T100000
DTEND;TZID=America/New_York:20231004T120000
DTSTAMP:20260421T095324
CREATED:20230717T132907Z
LAST-MODIFIED:20230717T132912Z
UID:10001121-1696413600-1696420800@www.lifelonglearningcollaborative.org
SUMMARY:US Supreme Court Decisions
DESCRIPTION:
URL:https://www.lifelonglearningcollaborative.org/event/us-supreme-court-decisions/2023-10-04/
LOCATION:ZOOM
CATEGORIES:Courses
END:VEVENT
BEGIN:VEVENT
DTSTART;TZID=America/New_York:20231004T100000
DTEND;TZID=America/New_York:20231004T120000
DTSTAMP:20260421T095324
CREATED:20230717T133007Z
LAST-MODIFIED:20230717T133007Z
UID:10001129-1696413600-1696420800@www.lifelonglearningcollaborative.org
SUMMARY:Gender/Power Plays
DESCRIPTION:
URL:https://www.lifelonglearningcollaborative.org/event/gender-power-plays/2023-10-04/
LOCATION:Temple Beth-El\, 70 Orchard Avenue\, Providence\, RI\, United States
CATEGORIES:Courses
END:VEVENT
BEGIN:VEVENT
DTSTART;TZID=America/New_York:20231004T130000
DTEND;TZID=America/New_York:20231004T150000
DTSTAMP:20260421T095324
CREATED:20230717T133214Z
LAST-MODIFIED:20230717T133247Z
UID:10001157-1696424400-1696431600@www.lifelonglearningcollaborative.org
SUMMARY:Hot Topics
DESCRIPTION:
URL:https://www.lifelonglearningcollaborative.org/event/hot-topics-3-2/2023-10-04/
LOCATION:ZOOM
CATEGORIES:Courses
END:VEVENT
BEGIN:VEVENT
DTSTART;TZID=America/New_York:20231004T130000
DTEND;TZID=America/New_York:20231004T150000
DTSTAMP:20260421T095324
CREATED:20230717T133327Z
LAST-MODIFIED:20230717T133327Z
UID:10001167-1696424400-1696431600@www.lifelonglearningcollaborative.org
SUMMARY:LLC Knits
DESCRIPTION:
URL:https://www.lifelonglearningcollaborative.org/event/llc-knits-3-2/2023-10-04/
LOCATION:Temple Beth-El\, 70 Orchard Avenue\, Providence\, RI\, United States
CATEGORIES:Courses
END:VEVENT
BEGIN:VEVENT
DTSTART;TZID=America/New_York:20231005T100000
DTEND;TZID=America/New_York:20231005T120000
DTSTAMP:20260421T095324
CREATED:20230717T133808Z
LAST-MODIFIED:20230717T133808Z
UID:10001224-1696500000-1696507200@www.lifelonglearningcollaborative.org
SUMMARY:Theater Conversations
DESCRIPTION:
URL:https://www.lifelonglearningcollaborative.org/event/theater-conversations/2023-10-05/
LOCATION:Temple Beth-El\, 70 Orchard Avenue\, Providence\, RI\, United States
CATEGORIES:Courses
END:VEVENT
BEGIN:VEVENT
DTSTART;TZID=America/New_York:20231005T130000
DTEND;TZID=America/New_York:20231005T150000
DTSTAMP:20260421T095324
CREATED:20230717T133447Z
LAST-MODIFIED:20230717T221908Z
UID:10001403-1696510800-1696518000@www.lifelonglearningcollaborative.org
SUMMARY:Your Hometown
DESCRIPTION:
URL:https://www.lifelonglearningcollaborative.org/event/your-hometown/2023-10-05/
LOCATION:Temple Beth-El\, 70 Orchard Avenue\, Providence\, RI\, United States
CATEGORIES:Courses
END:VEVENT
BEGIN:VEVENT
DTSTART;TZID=America/New_York:20231005T130000
DTEND;TZID=America/New_York:20231005T150000
DTSTAMP:20260421T095324
CREATED:20230717T133858Z
LAST-MODIFIED:20230717T133858Z
UID:10001241-1696510800-1696518000@www.lifelonglearningcollaborative.org
SUMMARY:Memoir
DESCRIPTION:
URL:https://www.lifelonglearningcollaborative.org/event/memoir/2023-10-05/
LOCATION:Temple Beth-El\, 70 Orchard Avenue\, Providence\, RI\, United States
CATEGORIES:Courses
END:VEVENT
END:VCALENDAR