BEGIN:VCALENDAR
VERSION:2.0
PRODID:-//Lifelong Learning Collaborative - ECPv6.15.12.2//NONSGML v1.0//EN
CALSCALE:GREGORIAN
METHOD:PUBLISH
X-WR-CALNAME:Lifelong Learning Collaborative
X-ORIGINAL-URL:https://www.lifelonglearningcollaborative.org
X-WR-CALDESC:Events for Lifelong Learning Collaborative
REFRESH-INTERVAL;VALUE=DURATION:PT1H
X-Robots-Tag:noindex
X-PUBLISHED-TTL:PT1H
BEGIN:VTIMEZONE
TZID:America/New_York
BEGIN:DAYLIGHT
TZOFFSETFROM:-0500
TZOFFSETTO:-0400
TZNAME:EDT
DTSTART:20230312T070000
END:DAYLIGHT
BEGIN:STANDARD
TZOFFSETFROM:-0400
TZOFFSETTO:-0500
TZNAME:EST
DTSTART:20231105T060000
END:STANDARD
BEGIN:DAYLIGHT
TZOFFSETFROM:-0500
TZOFFSETTO:-0400
TZNAME:EDT
DTSTART:20240310T070000
END:DAYLIGHT
BEGIN:STANDARD
TZOFFSETFROM:-0400
TZOFFSETTO:-0500
TZNAME:EST
DTSTART:20241103T060000
END:STANDARD
BEGIN:DAYLIGHT
TZOFFSETFROM:-0500
TZOFFSETTO:-0400
TZNAME:EDT
DTSTART:20250309T070000
END:DAYLIGHT
BEGIN:STANDARD
TZOFFSETFROM:-0400
TZOFFSETTO:-0500
TZNAME:EST
DTSTART:20251102T060000
END:STANDARD
END:VTIMEZONE
BEGIN:VEVENT
DTSTART;VALUE=DATE:20241024
DTEND;VALUE=DATE:20241025
DTSTAMP:20260420T165509
CREATED:20241014T195330Z
LAST-MODIFIED:20241016T113650Z
UID:10002242-1729728000-1729814399@www.lifelonglearningcollaborative.org
SUMMARY:TEMPLE CLOSED - Classes moved to alternate location
DESCRIPTION:In-person classes have been moved or rescheduled; contact your coordinator for details
URL:https://www.lifelonglearningcollaborative.org/event/temple-beth-el-closed/2024-10-24/
LOCATION:RI
CATEGORIES:Courses
END:VEVENT
BEGIN:VEVENT
DTSTART;TZID=America/New_York:20241023T160000
DTEND;TZID=America/New_York:20241023T170000
DTSTAMP:20260420T165509
CREATED:20240813T115649Z
LAST-MODIFIED:20240813T115649Z
UID:10002234-1729699200-1729702800@www.lifelonglearningcollaborative.org
SUMMARY:Webinar Lecture feat. Secretary of State Gregg Amore
DESCRIPTION:Election Integrity for 2024 \nPlease try not to miss this important presentation. \nSecretary of State Gregg Amore will provide an update on the November 5 general election\, including key dates and reminders for voters\, as well as an overview of elections administration. Election Day is November 5. Get important information about upcoming deadlines ahead of time by visiting vote.ri.gov. Please bring your questions. \nSecretary of State Gregg Amore was elected in November of 2022 and sworn into office on January 3\, 2023 as the thirtieth Rhode Island Secretary of State.
URL:https://www.lifelonglearningcollaborative.org/event/webinar-lecture-feat-secretary-of-state-gregg-amore/
LOCATION:ZOOM
CATEGORIES:Free Webinars
END:VEVENT
BEGIN:VEVENT
DTSTART;TZID=America/New_York:20241023T130000
DTEND;TZID=America/New_York:20241023T150000
DTSTAMP:20260420T165509
CREATED:20240715T134033Z
LAST-MODIFIED:20240715T134033Z
UID:10002091-1729688400-1729695600@www.lifelonglearningcollaborative.org
SUMMARY:Hot Topics
DESCRIPTION:
URL:https://www.lifelonglearningcollaborative.org/event/hot-topics-3-5/2024-10-23/
LOCATION:ZOOM
CATEGORIES:Courses
END:VEVENT
BEGIN:VEVENT
DTSTART;TZID=America/New_York:20241023T130000
DTEND;TZID=America/New_York:20241023T150000
DTSTAMP:20260420T165509
CREATED:20240715T133914Z
LAST-MODIFIED:20240715T133914Z
UID:10002081-1729688400-1729695600@www.lifelonglearningcollaborative.org
SUMMARY:LLC Knits
DESCRIPTION:
URL:https://www.lifelonglearningcollaborative.org/event/llc-knits-3-5/2024-10-23/
LOCATION:Temple Beth-El\, 70 Orchard Avenue\, Providence\, RI\, United States
CATEGORIES:Courses
END:VEVENT
BEGIN:VEVENT
DTSTART;TZID=America/New_York:20241023T130000
DTEND;TZID=America/New_York:20241023T150000
DTSTAMP:20260420T165509
CREATED:20240715T133809Z
LAST-MODIFIED:20240715T133809Z
UID:10002070-1729688400-1729695600@www.lifelonglearningcollaborative.org
SUMMARY:Dutch Golden Age
DESCRIPTION:
URL:https://www.lifelonglearningcollaborative.org/event/dutch-golden-age/2024-10-23/
LOCATION:Temple Beth-El\, 70 Orchard Avenue\, Providence\, RI\, United States
CATEGORIES:Courses
END:VEVENT
BEGIN:VEVENT
DTSTART;TZID=America/New_York:20241023T100000
DTEND;TZID=America/New_York:20241023T120000
DTSTAMP:20260420T165509
CREATED:20240715T133525Z
LAST-MODIFIED:20240715T133525Z
UID:10002055-1729677600-1729684800@www.lifelonglearningcollaborative.org
SUMMARY:Fact or Fiction
DESCRIPTION:
URL:https://www.lifelonglearningcollaborative.org/event/fact-or-fiction/2024-10-23/
LOCATION:Regency Plaza Apartments\, RI\, United States
CATEGORIES:Courses
END:VEVENT
BEGIN:VEVENT
DTSTART;TZID=America/New_York:20241023T100000
DTEND;TZID=America/New_York:20241023T120000
DTSTAMP:20260420T165510
CREATED:20240715T133428Z
LAST-MODIFIED:20240715T133428Z
UID:10002042-1729677600-1729684800@www.lifelonglearningcollaborative.org
SUMMARY:Read\, Listen\, Be Inspired\, Write
DESCRIPTION:
URL:https://www.lifelonglearningcollaborative.org/event/read-listen-be-inspired-write/2024-10-23/
LOCATION:Temple Beth-El\, 70 Orchard Avenue\, Providence\, RI\, United States
CATEGORIES:Courses
END:VEVENT
BEGIN:VEVENT
DTSTART;TZID=America/New_York:20241023T100000
DTEND;TZID=America/New_York:20241023T120000
DTSTAMP:20260420T165510
CREATED:20240715T133030Z
LAST-MODIFIED:20240715T133030Z
UID:10002028-1729677600-1729684800@www.lifelonglearningcollaborative.org
SUMMARY:Reading Plays Aloud
DESCRIPTION:
URL:https://www.lifelonglearningcollaborative.org/event/reading-plays-aloud/2024-10-23/
LOCATION:Temple Beth-El\, 70 Orchard Avenue\, Providence\, RI\, United States
CATEGORIES:Courses
END:VEVENT
BEGIN:VEVENT
DTSTART;TZID=America/New_York:20241022T151500
DTEND;TZID=America/New_York:20241022T170000
DTSTAMP:20260420T165510
CREATED:20240715T132735Z
LAST-MODIFIED:20240715T132735Z
UID:10002018-1729610100-1729616400@www.lifelonglearningcollaborative.org
SUMMARY:Scrabble Social Club
DESCRIPTION:
URL:https://www.lifelonglearningcollaborative.org/event/scrabble-social-club/2024-10-22/
LOCATION:Temple Beth-El\, 70 Orchard Avenue\, Providence\, RI\, United States
CATEGORIES:Courses
END:VEVENT
BEGIN:VEVENT
DTSTART;TZID=America/New_York:20241022T130000
DTEND;TZID=America/New_York:20241022T150000
DTSTAMP:20260420T165510
CREATED:20240715T132557Z
LAST-MODIFIED:20240715T132557Z
UID:10002009-1729602000-1729609200@www.lifelonglearningcollaborative.org
SUMMARY:Fashion on the Silver Screen
DESCRIPTION:
URL:https://www.lifelonglearningcollaborative.org/event/fashion-on-the-silver-screen/2024-10-22/
LOCATION:Temple Beth-El\, 70 Orchard Avenue\, Providence\, RI\, United States
CATEGORIES:Courses
END:VEVENT
BEGIN:VEVENT
DTSTART;TZID=America/New_York:20241022T130000
DTEND;TZID=America/New_York:20241022T150000
DTSTAMP:20260420T165510
CREATED:20240715T132449Z
LAST-MODIFIED:20240715T132449Z
UID:10001999-1729602000-1729609200@www.lifelonglearningcollaborative.org
SUMMARY:Unquiet Women: Voices in Classical Music
DESCRIPTION:
URL:https://www.lifelonglearningcollaborative.org/event/unquiet-women-voices-in-classical-music/2024-10-22/
LOCATION:Temple Beth-El\, 70 Orchard Avenue\, Providence\, RI\, United States
CATEGORIES:Courses
END:VEVENT
BEGIN:VEVENT
DTSTART;TZID=America/New_York:20241022T130000
DTEND;TZID=America/New_York:20241022T150000
DTSTAMP:20260420T165510
CREATED:20240715T132314Z
LAST-MODIFIED:20240715T140935Z
UID:10002225-1729602000-1729609200@www.lifelonglearningcollaborative.org
SUMMARY:Cell Phone Photo Club
DESCRIPTION:
URL:https://www.lifelonglearningcollaborative.org/event/cell-phone-photo-club-2-4/2024-10-22/
LOCATION:Temple Beth-El\, 70 Orchard Avenue\, Providence\, RI\, United States
CATEGORIES:Courses
END:VEVENT
BEGIN:VEVENT
DTSTART;TZID=America/New_York:20241022T100000
DTEND;TZID=America/New_York:20241022T120000
DTSTAMP:20260420T165510
CREATED:20240715T132223Z
LAST-MODIFIED:20240715T132223Z
UID:10001971-1729591200-1729598400@www.lifelonglearningcollaborative.org
SUMMARY:Palestine
DESCRIPTION:
URL:https://www.lifelonglearningcollaborative.org/event/palestine/2024-10-22/
LOCATION:Temple Beth-El\, 70 Orchard Avenue\, Providence\, RI\, United States
CATEGORIES:Courses
END:VEVENT
BEGIN:VEVENT
DTSTART;TZID=America/New_York:20241022T100000
DTEND;TZID=America/New_York:20241022T120000
DTSTAMP:20260420T165510
CREATED:20240715T132123Z
LAST-MODIFIED:20240715T132123Z
UID:10001960-1729591200-1729598400@www.lifelonglearningcollaborative.org
SUMMARY:Absurd Comedies
DESCRIPTION:
URL:https://www.lifelonglearningcollaborative.org/event/absurd-comedies/2024-10-22/
LOCATION:ZOOM
CATEGORIES:Courses
END:VEVENT
BEGIN:VEVENT
DTSTART;TZID=America/New_York:20241022T100000
DTEND;TZID=America/New_York:20241022T120000
DTSTAMP:20260420T165510
CREATED:20240715T132013Z
LAST-MODIFIED:20240715T132013Z
UID:10001951-1729591200-1729598400@www.lifelonglearningcollaborative.org
SUMMARY:Open Studio Art (TBE)
DESCRIPTION:
URL:https://www.lifelonglearningcollaborative.org/event/open-studio-art-tbe/2024-10-22/
LOCATION:Temple Beth-El\, 70 Orchard Avenue\, Providence\, RI\, United States
CATEGORIES:Courses
END:VEVENT
BEGIN:VEVENT
DTSTART;TZID=America/New_York:20241022T100000
DTEND;TZID=America/New_York:20241022T120000
DTSTAMP:20260420T165510
CREATED:20240715T131745Z
LAST-MODIFIED:20240715T131745Z
UID:10001931-1729591200-1729598400@www.lifelonglearningcollaborative.org
SUMMARY:Alexander von Humboldt
DESCRIPTION:
URL:https://www.lifelonglearningcollaborative.org/event/alexander-von-humboldt/2024-10-22/
LOCATION:ZOOM
CATEGORIES:Courses
END:VEVENT
BEGIN:VEVENT
DTSTART;TZID=America/New_York:20241021T100000
DTEND;TZID=America/New_York:20241021T120000
DTSTAMP:20260420T165510
CREATED:20240715T131120Z
LAST-MODIFIED:20240715T131120Z
UID:10001900-1729504800-1729512000@www.lifelonglearningcollaborative.org
SUMMARY:Open Studio Art (Zoom)
DESCRIPTION:
URL:https://www.lifelonglearningcollaborative.org/event/open-studio-art-zoom/2024-10-21/
LOCATION:ZOOM
CATEGORIES:Courses
END:VEVENT
BEGIN:VEVENT
DTSTART;TZID=America/New_York:20241018T130000
DTEND;TZID=America/New_York:20241018T150000
DTSTAMP:20260420T165510
CREATED:20240715T140803Z
LAST-MODIFIED:20240715T140803Z
UID:10002212-1729256400-1729263600@www.lifelonglearningcollaborative.org
SUMMARY:Ancient Persia
DESCRIPTION:
URL:https://www.lifelonglearningcollaborative.org/event/ancient-persia/2024-10-18/
LOCATION:ZOOM
CATEGORIES:Courses
END:VEVENT
BEGIN:VEVENT
DTSTART;TZID=America/New_York:20241018T100000
DTEND;TZID=America/New_York:20241018T120000
DTSTAMP:20260420T165510
CREATED:20240715T140511Z
LAST-MODIFIED:20240715T140511Z
UID:10002204-1729245600-1729252800@www.lifelonglearningcollaborative.org
SUMMARY:Anthropology of Time Hybrid (Zoom)
DESCRIPTION:
URL:https://www.lifelonglearningcollaborative.org/event/anthropology-of-time-hybrid-zoom/2024-10-18/
LOCATION:ZOOM
CATEGORIES:Courses
END:VEVENT
BEGIN:VEVENT
DTSTART;TZID=America/New_York:20241018T100000
DTEND;TZID=America/New_York:20241018T120000
DTSTAMP:20260420T165510
CREATED:20240715T140447Z
LAST-MODIFIED:20240715T140447Z
UID:10002195-1729245600-1729252800@www.lifelonglearningcollaborative.org
SUMMARY:Anthropology of Time Hybrid (TBE)
DESCRIPTION:
URL:https://www.lifelonglearningcollaborative.org/event/anthropology-of-time-hybrid-tbe/2024-10-18/
LOCATION:Temple Beth-El\, 70 Orchard Avenue\, Providence\, RI\, United States
CATEGORIES:Courses
END:VEVENT
BEGIN:VEVENT
DTSTART;TZID=America/New_York:20241018T100000
DTEND;TZID=America/New_York:20241018T110000
DTSTAMP:20260420T165510
CREATED:20240715T140326Z
LAST-MODIFIED:20240715T140326Z
UID:10002186-1729245600-1729249200@www.lifelonglearningcollaborative.org
SUMMARY:Get Fit at Home
DESCRIPTION:
URL:https://www.lifelonglearningcollaborative.org/event/get-fit-at-home-3-7/2024-10-18/
LOCATION:ZOOM
CATEGORIES:Courses
END:VEVENT
BEGIN:VEVENT
DTSTART;TZID=America/New_York:20241017T130000
DTEND;TZID=America/New_York:20241017T150000
DTSTAMP:20260420T165510
CREATED:20240715T140057Z
LAST-MODIFIED:20241016T113610Z
UID:10002177-1729170000-1729177200@www.lifelonglearningcollaborative.org
SUMMARY:Writing a Memoir
DESCRIPTION:Meets at Temple Beth-El with the exception of two Thursdays (Oct 17 & Oct 24) which will be on ZOOM
URL:https://www.lifelonglearningcollaborative.org/event/writing-a-memoir-3-4/2024-10-17/
LOCATION:Temple Beth-El\, 70 Orchard Avenue\, Providence\, RI\, United States
CATEGORIES:Courses
END:VEVENT
BEGIN:VEVENT
DTSTART;TZID=America/New_York:20241017T100000
DTEND;TZID=America/New_York:20241017T120000
DTSTAMP:20260420T165510
CREATED:20240715T135513Z
LAST-MODIFIED:20241016T113748Z
UID:10002141-1729159200-1729166400@www.lifelonglearningcollaborative.org
SUMMARY:Dark Humor: Saunders & Vonnegut
DESCRIPTION:Oct 17 & Oct 24 classes will meet at Laurelmead
URL:https://www.lifelonglearningcollaborative.org/event/dark-humor-saunders-vonnegut/2024-10-17/
LOCATION:Temple Beth-El\, 70 Orchard Avenue\, Providence\, RI\, United States
CATEGORIES:Courses
END:VEVENT
BEGIN:VEVENT
DTSTART;TZID=America/New_York:20241017T100000
DTEND;TZID=America/New_York:20241017T120000
DTSTAMP:20260420T165510
CREATED:20240715T134721Z
LAST-MODIFIED:20240715T134813Z
UID:10002111-1729159200-1729166400@www.lifelonglearningcollaborative.org
SUMMARY:Theater Conversations
DESCRIPTION:
URL:https://www.lifelonglearningcollaborative.org/event/theater-conversations-3-2/2024-10-17/
LOCATION:Temple Beth-El\, 70 Orchard Avenue\, Providence\, RI\, United States
CATEGORIES:Courses
END:VEVENT
BEGIN:VEVENT
DTSTART;VALUE=DATE:20241017
DTEND;VALUE=DATE:20241018
DTSTAMP:20260420T165510
CREATED:20241014T195330Z
LAST-MODIFIED:20241016T113650Z
UID:10002241-1729123200-1729209599@www.lifelonglearningcollaborative.org
SUMMARY:TEMPLE CLOSED - Classes moved to alternate location
DESCRIPTION:In-person classes have been moved or rescheduled; contact your coordinator for details
URL:https://www.lifelonglearningcollaborative.org/event/temple-beth-el-closed/2024-10-17/
LOCATION:RI
CATEGORIES:Courses
END:VEVENT
BEGIN:VEVENT
DTSTART;TZID=America/New_York:20241016T130000
DTEND;TZID=America/New_York:20241016T150000
DTSTAMP:20260420T165510
CREATED:20240715T134033Z
LAST-MODIFIED:20240715T134033Z
UID:10002090-1729083600-1729090800@www.lifelonglearningcollaborative.org
SUMMARY:Hot Topics
DESCRIPTION:
URL:https://www.lifelonglearningcollaborative.org/event/hot-topics-3-5/2024-10-16/
LOCATION:ZOOM
CATEGORIES:Courses
END:VEVENT
BEGIN:VEVENT
DTSTART;TZID=America/New_York:20241016T130000
DTEND;TZID=America/New_York:20241016T150000
DTSTAMP:20260420T165510
CREATED:20240715T133914Z
LAST-MODIFIED:20240715T133914Z
UID:10002080-1729083600-1729090800@www.lifelonglearningcollaborative.org
SUMMARY:LLC Knits
DESCRIPTION:
URL:https://www.lifelonglearningcollaborative.org/event/llc-knits-3-5/2024-10-16/
LOCATION:Temple Beth-El\, 70 Orchard Avenue\, Providence\, RI\, United States
CATEGORIES:Courses
END:VEVENT
BEGIN:VEVENT
DTSTART;TZID=America/New_York:20241016T130000
DTEND;TZID=America/New_York:20241016T150000
DTSTAMP:20260420T165510
CREATED:20240715T133809Z
LAST-MODIFIED:20240715T133809Z
UID:10002069-1729083600-1729090800@www.lifelonglearningcollaborative.org
SUMMARY:Dutch Golden Age
DESCRIPTION:
URL:https://www.lifelonglearningcollaborative.org/event/dutch-golden-age/2024-10-16/
LOCATION:Temple Beth-El\, 70 Orchard Avenue\, Providence\, RI\, United States
CATEGORIES:Courses
END:VEVENT
BEGIN:VEVENT
DTSTART;TZID=America/New_York:20241016T100000
DTEND;TZID=America/New_York:20241016T120000
DTSTAMP:20260420T165510
CREATED:20240715T133705Z
LAST-MODIFIED:20240715T133705Z
UID:10002064-1729072800-1729080000@www.lifelonglearningcollaborative.org
SUMMARY:Power of Creative Arts
DESCRIPTION:
URL:https://www.lifelonglearningcollaborative.org/event/power-of-creative-arts/2024-10-16/
LOCATION:Temple Beth-El\, 70 Orchard Avenue\, Providence\, RI\, United States
CATEGORIES:Courses
END:VEVENT
BEGIN:VEVENT
DTSTART;TZID=America/New_York:20241016T100000
DTEND;TZID=America/New_York:20241016T120000
DTSTAMP:20260420T165510
CREATED:20240715T133525Z
LAST-MODIFIED:20240715T133525Z
UID:10002054-1729072800-1729080000@www.lifelonglearningcollaborative.org
SUMMARY:Fact or Fiction
DESCRIPTION:
URL:https://www.lifelonglearningcollaborative.org/event/fact-or-fiction/2024-10-16/
LOCATION:Regency Plaza Apartments\, RI\, United States
CATEGORIES:Courses
END:VEVENT
END:VCALENDAR