BEGIN:VCALENDAR
VERSION:2.0
PRODID:-//Lifelong Learning Collaborative - ECPv6.15.12.2//NONSGML v1.0//EN
CALSCALE:GREGORIAN
METHOD:PUBLISH
X-WR-CALNAME:Lifelong Learning Collaborative
X-ORIGINAL-URL:https://www.lifelonglearningcollaborative.org
X-WR-CALDESC:Events for Lifelong Learning Collaborative
REFRESH-INTERVAL;VALUE=DURATION:PT1H
X-Robots-Tag:noindex
X-PUBLISHED-TTL:PT1H
BEGIN:VTIMEZONE
TZID:America/New_York
BEGIN:DAYLIGHT
TZOFFSETFROM:-0500
TZOFFSETTO:-0400
TZNAME:EDT
DTSTART:20230312T070000
END:DAYLIGHT
BEGIN:STANDARD
TZOFFSETFROM:-0400
TZOFFSETTO:-0500
TZNAME:EST
DTSTART:20231105T060000
END:STANDARD
BEGIN:DAYLIGHT
TZOFFSETFROM:-0500
TZOFFSETTO:-0400
TZNAME:EDT
DTSTART:20240310T070000
END:DAYLIGHT
BEGIN:STANDARD
TZOFFSETFROM:-0400
TZOFFSETTO:-0500
TZNAME:EST
DTSTART:20241103T060000
END:STANDARD
BEGIN:DAYLIGHT
TZOFFSETFROM:-0500
TZOFFSETTO:-0400
TZNAME:EDT
DTSTART:20250309T070000
END:DAYLIGHT
BEGIN:STANDARD
TZOFFSETFROM:-0400
TZOFFSETTO:-0500
TZNAME:EST
DTSTART:20251102T060000
END:STANDARD
END:VTIMEZONE
BEGIN:VEVENT
DTSTART;TZID=America/New_York:20240910T130000
DTEND;TZID=America/New_York:20240910T150000
DTSTAMP:20260419T193550
CREATED:20240715T132449Z
LAST-MODIFIED:20240715T132449Z
UID:10001993-1725973200-1725980400@www.lifelonglearningcollaborative.org
SUMMARY:Unquiet Women: Voices in Classical Music
DESCRIPTION:
URL:https://www.lifelonglearningcollaborative.org/event/unquiet-women-voices-in-classical-music/2024-09-10/
LOCATION:Temple Beth-El\, 70 Orchard Avenue\, Providence\, RI\, United States
CATEGORIES:Courses
END:VEVENT
BEGIN:VEVENT
DTSTART;TZID=America/New_York:20240910T130000
DTEND;TZID=America/New_York:20240910T150000
DTSTAMP:20260419T193550
CREATED:20240715T132314Z
LAST-MODIFIED:20240715T140935Z
UID:10002219-1725973200-1725980400@www.lifelonglearningcollaborative.org
SUMMARY:Cell Phone Photo Club
DESCRIPTION:
URL:https://www.lifelonglearningcollaborative.org/event/cell-phone-photo-club-2-4/2024-09-10/
LOCATION:Temple Beth-El\, 70 Orchard Avenue\, Providence\, RI\, United States
CATEGORIES:Courses
END:VEVENT
BEGIN:VEVENT
DTSTART;TZID=America/New_York:20240910T100000
DTEND;TZID=America/New_York:20240910T120000
DTSTAMP:20260419T193550
CREATED:20240715T132223Z
LAST-MODIFIED:20240715T132223Z
UID:10001965-1725962400-1725969600@www.lifelonglearningcollaborative.org
SUMMARY:Palestine
DESCRIPTION:
URL:https://www.lifelonglearningcollaborative.org/event/palestine/2024-09-10/
LOCATION:Temple Beth-El\, 70 Orchard Avenue\, Providence\, RI\, United States
CATEGORIES:Courses
END:VEVENT
BEGIN:VEVENT
DTSTART;TZID=America/New_York:20240910T100000
DTEND;TZID=America/New_York:20240910T120000
DTSTAMP:20260419T193550
CREATED:20240715T132123Z
LAST-MODIFIED:20240715T132123Z
UID:10001955-1725962400-1725969600@www.lifelonglearningcollaborative.org
SUMMARY:Absurd Comedies
DESCRIPTION:
URL:https://www.lifelonglearningcollaborative.org/event/absurd-comedies/2024-09-10/
LOCATION:ZOOM
CATEGORIES:Courses
END:VEVENT
BEGIN:VEVENT
DTSTART;TZID=America/New_York:20240910T100000
DTEND;TZID=America/New_York:20240910T120000
DTSTAMP:20260419T193550
CREATED:20240715T132013Z
LAST-MODIFIED:20240715T132013Z
UID:10001945-1725962400-1725969600@www.lifelonglearningcollaborative.org
SUMMARY:Open Studio Art (TBE)
DESCRIPTION:
URL:https://www.lifelonglearningcollaborative.org/event/open-studio-art-tbe/2024-09-10/
LOCATION:Temple Beth-El\, 70 Orchard Avenue\, Providence\, RI\, United States
CATEGORIES:Courses
END:VEVENT
BEGIN:VEVENT
DTSTART;TZID=America/New_York:20240910T100000
DTEND;TZID=America/New_York:20240910T120000
DTSTAMP:20260419T193550
CREATED:20240715T131745Z
LAST-MODIFIED:20240715T131745Z
UID:10001925-1725962400-1725969600@www.lifelonglearningcollaborative.org
SUMMARY:Alexander von Humboldt
DESCRIPTION:
URL:https://www.lifelonglearningcollaborative.org/event/alexander-von-humboldt/2024-09-10/
LOCATION:ZOOM
CATEGORIES:Courses
END:VEVENT
BEGIN:VEVENT
DTSTART;TZID=America/New_York:20240909T100000
DTEND;TZID=America/New_York:20240909T120000
DTSTAMP:20260419T193550
CREATED:20240715T131120Z
LAST-MODIFIED:20240715T131120Z
UID:10001894-1725876000-1725883200@www.lifelonglearningcollaborative.org
SUMMARY:Open Studio Art (Zoom)
DESCRIPTION:
URL:https://www.lifelonglearningcollaborative.org/event/open-studio-art-zoom/2024-09-09/
LOCATION:ZOOM
CATEGORIES:Courses
END:VEVENT
BEGIN:VEVENT
DTSTART;TZID=America/New_York:20240905T100000
DTEND;TZID=America/New_York:20240905T130000
DTSTAMP:20260419T193550
CREATED:20240629T121232Z
LAST-MODIFIED:20240809T193512Z
UID:10001893-1725530400-1725541200@www.lifelonglearningcollaborative.org
SUMMARY:Fall Convocation @ TBE
DESCRIPTION:10-11 AM: Open House – Meet your spring coordinators\, enroll in open spring courses\n11 AM-12 noon: Convocation Program – Keynote Speaker Torey Malatia\, Public Radio Producer and Former CEO and General Manager of The Public’s Radio\n12 noon-1 PM: Luncheon/Social Hour
URL:https://www.lifelonglearningcollaborative.org/event/fall-convocation-temple-beth-el/
LOCATION:Temple Beth-El\, 70 Orchard Avenue\, Providence\, RI\, United States
CATEGORIES:Convocations
END:VEVENT
BEGIN:VEVENT
DTSTART;TZID=America/New_York:20240826T130000
DTEND;TZID=America/New_York:20240826T150000
DTSTAMP:20260419T193550
CREATED:20230717T130815Z
LAST-MODIFIED:20240715T142005Z
UID:10000863-1724677200-1724684400@www.lifelonglearningcollaborative.org
SUMMARY:Book Club
DESCRIPTION:
URL:https://www.lifelonglearningcollaborative.org/event/book-club/2024-08-26/
LOCATION:ZOOM
CATEGORIES:Courses
END:VEVENT
BEGIN:VEVENT
DTSTART;TZID=America/New_York:20240816T100000
DTEND;TZID=America/New_York:20240816T120000
DTSTAMP:20260419T193550
CREATED:20240506T150207Z
LAST-MODIFIED:20240506T150207Z
UID:10001892-1723802400-1723809600@www.lifelonglearningcollaborative.org
SUMMARY:Forget Plymouth Rock
DESCRIPTION:
URL:https://www.lifelonglearningcollaborative.org/event/forget-plymouth-rock/2024-08-16/
LOCATION:Temple Beth-El\, 70 Orchard Avenue\, Providence\, RI\, United States
CATEGORIES:Courses
END:VEVENT
BEGIN:VEVENT
DTSTART;TZID=America/New_York:20240814T100000
DTEND;TZID=America/New_York:20240814T130000
DTSTAMP:20260419T193550
CREATED:20240506T145738Z
LAST-MODIFIED:20240506T145738Z
UID:10001871-1723629600-1723640400@www.lifelonglearningcollaborative.org
SUMMARY:Plein Air Art Group
DESCRIPTION:
URL:https://www.lifelonglearningcollaborative.org/event/plein-air-art-group/2024-08-14/
LOCATION:RI
CATEGORIES:Courses
END:VEVENT
BEGIN:VEVENT
DTSTART;TZID=America/New_York:20240813T151500
DTEND;TZID=America/New_York:20240813T171500
DTSTAMP:20260419T193550
CREATED:20240506T145620Z
LAST-MODIFIED:20240506T145620Z
UID:10001863-1723562100-1723569300@www.lifelonglearningcollaborative.org
SUMMARY:Scrabble
DESCRIPTION:
URL:https://www.lifelonglearningcollaborative.org/event/scrabble-13/2024-08-13/
LOCATION:Temple Beth-El\, 70 Orchard Avenue\, Providence\, RI\, United States
CATEGORIES:Courses
END:VEVENT
BEGIN:VEVENT
DTSTART;TZID=America/New_York:20240813T130000
DTEND;TZID=America/New_York:20240813T150000
DTSTAMP:20260419T193550
CREATED:20240506T145333Z
LAST-MODIFIED:20240506T145333Z
UID:10001848-1723554000-1723561200@www.lifelonglearningcollaborative.org
SUMMARY:Cell Phone Photo Club
DESCRIPTION:
URL:https://www.lifelonglearningcollaborative.org/event/cell-phone-photo-club-2-3/2024-08-13/
LOCATION:Temple Beth-El\, 70 Orchard Avenue\, Providence\, RI\, United States
CATEGORIES:Courses
END:VEVENT
BEGIN:VEVENT
DTSTART;TZID=America/New_York:20240809T100000
DTEND;TZID=America/New_York:20240809T120000
DTSTAMP:20260419T193550
CREATED:20240506T150207Z
LAST-MODIFIED:20240506T150207Z
UID:10001891-1723197600-1723204800@www.lifelonglearningcollaborative.org
SUMMARY:Forget Plymouth Rock
DESCRIPTION:
URL:https://www.lifelonglearningcollaborative.org/event/forget-plymouth-rock/2024-08-09/
LOCATION:Temple Beth-El\, 70 Orchard Avenue\, Providence\, RI\, United States
CATEGORIES:Courses
END:VEVENT
BEGIN:VEVENT
DTSTART;TZID=America/New_York:20240809T100000
DTEND;TZID=America/New_York:20240809T110000
DTSTAMP:20260419T193550
CREATED:20240506T150106Z
LAST-MODIFIED:20240506T150106Z
UID:10001884-1723197600-1723201200@www.lifelonglearningcollaborative.org
SUMMARY:Get Fit at Home
DESCRIPTION:
URL:https://www.lifelonglearningcollaborative.org/event/get-fit-at-home-3-6/2024-08-09/
LOCATION:ZOOM
CATEGORIES:Courses
END:VEVENT
BEGIN:VEVENT
DTSTART;TZID=America/New_York:20240807T100000
DTEND;TZID=America/New_York:20240807T130000
DTSTAMP:20260419T193550
CREATED:20240506T145738Z
LAST-MODIFIED:20240506T145738Z
UID:10001870-1723024800-1723035600@www.lifelonglearningcollaborative.org
SUMMARY:Plein Air Art Group
DESCRIPTION:
URL:https://www.lifelonglearningcollaborative.org/event/plein-air-art-group/2024-08-07/
LOCATION:RI
CATEGORIES:Courses
END:VEVENT
BEGIN:VEVENT
DTSTART;TZID=America/New_York:20240806T151500
DTEND;TZID=America/New_York:20240806T171500
DTSTAMP:20260419T193550
CREATED:20240506T145620Z
LAST-MODIFIED:20240506T145620Z
UID:10001862-1722957300-1722964500@www.lifelonglearningcollaborative.org
SUMMARY:Scrabble
DESCRIPTION:
URL:https://www.lifelonglearningcollaborative.org/event/scrabble-13/2024-08-06/
LOCATION:Temple Beth-El\, 70 Orchard Avenue\, Providence\, RI\, United States
CATEGORIES:Courses
END:VEVENT
BEGIN:VEVENT
DTSTART;TZID=America/New_York:20240806T130000
DTEND;TZID=America/New_York:20240806T150000
DTSTAMP:20260419T193550
CREATED:20240506T145444Z
LAST-MODIFIED:20240506T145444Z
UID:10001855-1722949200-1722956400@www.lifelonglearningcollaborative.org
SUMMARY:Biographies
DESCRIPTION:
URL:https://www.lifelonglearningcollaborative.org/event/biographies/2024-08-06/
LOCATION:Temple Beth-El\, 70 Orchard Avenue\, Providence\, RI\, United States
CATEGORIES:Courses
END:VEVENT
BEGIN:VEVENT
DTSTART;TZID=America/New_York:20240806T100000
DTEND;TZID=America/New_York:20240806T120000
DTSTAMP:20260419T193550
CREATED:20240506T145221Z
LAST-MODIFIED:20240506T145221Z
UID:10001845-1722938400-1722945600@www.lifelonglearningcollaborative.org
SUMMARY:Beach Reads
DESCRIPTION:
URL:https://www.lifelonglearningcollaborative.org/event/beach-reads/2024-08-06/
LOCATION:Temple Beth-El\, 70 Orchard Avenue\, Providence\, RI\, United States
CATEGORIES:Courses
END:VEVENT
BEGIN:VEVENT
DTSTART;TZID=America/New_York:20240806T100000
DTEND;TZID=America/New_York:20240806T120000
DTSTAMP:20260419T193550
CREATED:20240506T145052Z
LAST-MODIFIED:20240506T145052Z
UID:10001841-1722938400-1722945600@www.lifelonglearningcollaborative.org
SUMMARY:Current Decisions
DESCRIPTION:
URL:https://www.lifelonglearningcollaborative.org/event/current-decisions-2-2/2024-08-06/
LOCATION:ZOOM
CATEGORIES:Courses
END:VEVENT
BEGIN:VEVENT
DTSTART;TZID=America/New_York:20240805T100000
DTEND;TZID=America/New_York:20240805T120000
DTSTAMP:20260419T193550
CREATED:20240506T125718Z
LAST-MODIFIED:20240506T125718Z
UID:10001828-1722852000-1722859200@www.lifelonglearningcollaborative.org
SUMMARY:Unusual Travel Experiences
DESCRIPTION:
URL:https://www.lifelonglearningcollaborative.org/event/unusual-travel-experiences/2024-08-05/
LOCATION:ZOOM
CATEGORIES:Courses
END:VEVENT
BEGIN:VEVENT
DTSTART;TZID=America/New_York:20240802T100000
DTEND;TZID=America/New_York:20240802T120000
DTSTAMP:20260419T193550
CREATED:20240506T150207Z
LAST-MODIFIED:20240506T150207Z
UID:10001890-1722592800-1722600000@www.lifelonglearningcollaborative.org
SUMMARY:Forget Plymouth Rock
DESCRIPTION:
URL:https://www.lifelonglearningcollaborative.org/event/forget-plymouth-rock/2024-08-02/
LOCATION:Temple Beth-El\, 70 Orchard Avenue\, Providence\, RI\, United States
CATEGORIES:Courses
END:VEVENT
BEGIN:VEVENT
DTSTART;TZID=America/New_York:20240802T100000
DTEND;TZID=America/New_York:20240802T110000
DTSTAMP:20260419T193550
CREATED:20240506T150106Z
LAST-MODIFIED:20240506T150106Z
UID:10001883-1722592800-1722596400@www.lifelonglearningcollaborative.org
SUMMARY:Get Fit at Home
DESCRIPTION:
URL:https://www.lifelonglearningcollaborative.org/event/get-fit-at-home-3-6/2024-08-02/
LOCATION:ZOOM
CATEGORIES:Courses
END:VEVENT
BEGIN:VEVENT
DTSTART;TZID=America/New_York:20240731T100000
DTEND;TZID=America/New_York:20240731T130000
DTSTAMP:20260419T193550
CREATED:20240506T145738Z
LAST-MODIFIED:20240506T145738Z
UID:10001869-1722420000-1722430800@www.lifelonglearningcollaborative.org
SUMMARY:Plein Air Art Group
DESCRIPTION:
URL:https://www.lifelonglearningcollaborative.org/event/plein-air-art-group/2024-07-31/
LOCATION:RI
CATEGORIES:Courses
END:VEVENT
BEGIN:VEVENT
DTSTART;TZID=America/New_York:20240730T151500
DTEND;TZID=America/New_York:20240730T171500
DTSTAMP:20260419T193550
CREATED:20240506T145620Z
LAST-MODIFIED:20240506T145620Z
UID:10001861-1722352500-1722359700@www.lifelonglearningcollaborative.org
SUMMARY:Scrabble
DESCRIPTION:
URL:https://www.lifelonglearningcollaborative.org/event/scrabble-13/2024-07-30/
LOCATION:Temple Beth-El\, 70 Orchard Avenue\, Providence\, RI\, United States
CATEGORIES:Courses
END:VEVENT
BEGIN:VEVENT
DTSTART;TZID=America/New_York:20240730T130000
DTEND;TZID=America/New_York:20240730T150000
DTSTAMP:20260419T193550
CREATED:20240506T145444Z
LAST-MODIFIED:20240506T145444Z
UID:10001854-1722344400-1722351600@www.lifelonglearningcollaborative.org
SUMMARY:Biographies
DESCRIPTION:
URL:https://www.lifelonglearningcollaborative.org/event/biographies/2024-07-30/
LOCATION:Temple Beth-El\, 70 Orchard Avenue\, Providence\, RI\, United States
CATEGORIES:Courses
END:VEVENT
BEGIN:VEVENT
DTSTART;TZID=America/New_York:20240730T100000
DTEND;TZID=America/New_York:20240730T120000
DTSTAMP:20260419T193550
CREATED:20240506T145052Z
LAST-MODIFIED:20240506T145052Z
UID:10001840-1722333600-1722340800@www.lifelonglearningcollaborative.org
SUMMARY:Current Decisions
DESCRIPTION:
URL:https://www.lifelonglearningcollaborative.org/event/current-decisions-2-2/2024-07-30/
LOCATION:ZOOM
CATEGORIES:Courses
END:VEVENT
BEGIN:VEVENT
DTSTART;TZID=America/New_York:20240729T100000
DTEND;TZID=America/New_York:20240729T120000
DTSTAMP:20260419T193550
CREATED:20240506T125718Z
LAST-MODIFIED:20240506T125718Z
UID:10001827-1722247200-1722254400@www.lifelonglearningcollaborative.org
SUMMARY:Unusual Travel Experiences
DESCRIPTION:
URL:https://www.lifelonglearningcollaborative.org/event/unusual-travel-experiences/2024-07-29/
LOCATION:ZOOM
CATEGORIES:Courses
END:VEVENT
BEGIN:VEVENT
DTSTART;TZID=America/New_York:20240726T100000
DTEND;TZID=America/New_York:20240726T120000
DTSTAMP:20260419T193550
CREATED:20240506T150207Z
LAST-MODIFIED:20240506T150207Z
UID:10001889-1721988000-1721995200@www.lifelonglearningcollaborative.org
SUMMARY:Forget Plymouth Rock
DESCRIPTION:
URL:https://www.lifelonglearningcollaborative.org/event/forget-plymouth-rock/2024-07-26/
LOCATION:Temple Beth-El\, 70 Orchard Avenue\, Providence\, RI\, United States
CATEGORIES:Courses
END:VEVENT
BEGIN:VEVENT
DTSTART;TZID=America/New_York:20240726T100000
DTEND;TZID=America/New_York:20240726T110000
DTSTAMP:20260419T193551
CREATED:20240506T150106Z
LAST-MODIFIED:20240506T150106Z
UID:10001882-1721988000-1721991600@www.lifelonglearningcollaborative.org
SUMMARY:Get Fit at Home
DESCRIPTION:
URL:https://www.lifelonglearningcollaborative.org/event/get-fit-at-home-3-6/2024-07-26/
LOCATION:ZOOM
CATEGORIES:Courses
END:VEVENT
END:VCALENDAR