BEGIN:VCALENDAR
VERSION:2.0
PRODID:-//Lifelong Learning Collaborative - ECPv6.15.12.2//NONSGML v1.0//EN
CALSCALE:GREGORIAN
METHOD:PUBLISH
X-WR-CALNAME:Lifelong Learning Collaborative
X-ORIGINAL-URL:https://www.lifelonglearningcollaborative.org
X-WR-CALDESC:Events for Lifelong Learning Collaborative
REFRESH-INTERVAL;VALUE=DURATION:PT1H
X-Robots-Tag:noindex
X-PUBLISHED-TTL:PT1H
BEGIN:VTIMEZONE
TZID:America/New_York
BEGIN:DAYLIGHT
TZOFFSETFROM:-0500
TZOFFSETTO:-0400
TZNAME:EDT
DTSTART:20240310T070000
END:DAYLIGHT
BEGIN:STANDARD
TZOFFSETFROM:-0400
TZOFFSETTO:-0500
TZNAME:EST
DTSTART:20241103T060000
END:STANDARD
BEGIN:DAYLIGHT
TZOFFSETFROM:-0500
TZOFFSETTO:-0400
TZNAME:EDT
DTSTART:20250309T070000
END:DAYLIGHT
BEGIN:STANDARD
TZOFFSETFROM:-0400
TZOFFSETTO:-0500
TZNAME:EST
DTSTART:20251102T060000
END:STANDARD
BEGIN:DAYLIGHT
TZOFFSETFROM:-0500
TZOFFSETTO:-0400
TZNAME:EDT
DTSTART:20260308T070000
END:DAYLIGHT
BEGIN:STANDARD
TZOFFSETFROM:-0400
TZOFFSETTO:-0500
TZNAME:EST
DTSTART:20261101T060000
END:STANDARD
END:VTIMEZONE
BEGIN:VEVENT
DTSTART;TZID=America/New_York:20250326T100000
DTEND;TZID=America/New_York:20250326T120000
DTSTAMP:20260421T221909
CREATED:20250121T135451Z
LAST-MODIFIED:20250121T145832Z
UID:10003076-1742983200-1742990400@www.lifelonglearningcollaborative.org
SUMMARY:Paint Like a Woman II
DESCRIPTION:
URL:https://www.lifelonglearningcollaborative.org/event/paint-like-a-woman-ii/2025-03-26/
LOCATION:Temple Beth-El\, 70 Orchard Avenue\, Providence\, RI\, United States
CATEGORIES:Courses
END:VEVENT
BEGIN:VEVENT
DTSTART;TZID=America/New_York:20250326T100000
DTEND;TZID=America/New_York:20250326T120000
DTSTAMP:20260421T221909
CREATED:20250121T135534Z
LAST-MODIFIED:20250121T135534Z
UID:10003094-1742983200-1742990400@www.lifelonglearningcollaborative.org
SUMMARY:Writing a Memoir (Zoom)
DESCRIPTION:
URL:https://www.lifelonglearningcollaborative.org/event/writing-a-memoir-zoom/2025-03-26/
LOCATION:ZOOM
CATEGORIES:Courses
END:VEVENT
BEGIN:VEVENT
DTSTART;TZID=America/New_York:20250326T130000
DTEND;TZID=America/New_York:20250326T150000
DTSTAMP:20260421T221909
CREATED:20250121T135612Z
LAST-MODIFIED:20250121T135612Z
UID:10003104-1742994000-1743001200@www.lifelonglearningcollaborative.org
SUMMARY:Hot Topics
DESCRIPTION:
URL:https://www.lifelonglearningcollaborative.org/event/hot-topics-3-7/2025-03-26/
LOCATION:ZOOM
CATEGORIES:Courses
END:VEVENT
BEGIN:VEVENT
DTSTART;TZID=America/New_York:20250326T130000
DTEND;TZID=America/New_York:20250326T150000
DTSTAMP:20260421T221909
CREATED:20250121T135707Z
LAST-MODIFIED:20250121T145647Z
UID:10003115-1742994000-1743001200@www.lifelonglearningcollaborative.org
SUMMARY:LLC Knits Hybrid
DESCRIPTION:Hybrid course held in-person at Temple Beth-El and on Zoom.
URL:https://www.lifelonglearningcollaborative.org/event/llc-knits-hybrid-2-2/2025-03-26/
LOCATION:RI
CATEGORIES:Courses
END:VEVENT
BEGIN:VEVENT
DTSTART;TZID=America/New_York:20250327T100000
DTEND;TZID=America/New_York:20250327T120000
DTSTAMP:20260421T221909
CREATED:20250121T135801Z
LAST-MODIFIED:20250121T145927Z
UID:10003134-1743069600-1743076800@www.lifelonglearningcollaborative.org
SUMMARY:Theater Conversations
DESCRIPTION:
URL:https://www.lifelonglearningcollaborative.org/event/theater-conversations-3-3/2025-03-27/
LOCATION:Temple Beth-El\, 70 Orchard Avenue\, Providence\, RI\, United States
CATEGORIES:Courses
END:VEVENT
BEGIN:VEVENT
DTSTART;TZID=America/New_York:20250327T100000
DTEND;TZID=America/New_York:20250327T120000
DTSTAMP:20260421T221909
CREATED:20250121T135846Z
LAST-MODIFIED:20250121T150011Z
UID:10003153-1743069600-1743076800@www.lifelonglearningcollaborative.org
SUMMARY:Short Stories: Native Amer. Authors
DESCRIPTION:
URL:https://www.lifelonglearningcollaborative.org/event/short-stories-native-amer-authors/2025-03-27/
LOCATION:Temple Beth-El\, 70 Orchard Avenue\, Providence\, RI\, United States
CATEGORIES:Courses
END:VEVENT
BEGIN:VEVENT
DTSTART;TZID=America/New_York:20250327T130000
DTEND;TZID=America/New_York:20250327T150000
DTSTAMP:20260421T221909
CREATED:20250121T135959Z
LAST-MODIFIED:20250121T135959Z
UID:10003167-1743080400-1743087600@www.lifelonglearningcollaborative.org
SUMMARY:Block Island
DESCRIPTION:Optional day trip to Block Island the week of May 12
URL:https://www.lifelonglearningcollaborative.org/event/block-island/2025-03-27/
LOCATION:Temple Beth-El\, 70 Orchard Avenue\, Providence\, RI\, United States
CATEGORIES:Courses
END:VEVENT
BEGIN:VEVENT
DTSTART;TZID=America/New_York:20250327T130000
DTEND;TZID=America/New_York:20250327T150000
DTSTAMP:20260421T221909
CREATED:20250121T140058Z
LAST-MODIFIED:20250121T140058Z
UID:10003175-1743080400-1743087600@www.lifelonglearningcollaborative.org
SUMMARY:Ticket to the Opera Hybrid
DESCRIPTION:Hybrid course held in-person at Temple Beth-El and on Zoom.
URL:https://www.lifelonglearningcollaborative.org/event/ticket-to-the-opera-hybrid/2025-03-27/
LOCATION:RI
CATEGORIES:Courses
END:VEVENT
BEGIN:VEVENT
DTSTART;TZID=America/New_York:20250327T130000
DTEND;TZID=America/New_York:20250327T150000
DTSTAMP:20260421T221909
CREATED:20250121T140149Z
LAST-MODIFIED:20250121T140149Z
UID:10003182-1743080400-1743087600@www.lifelonglearningcollaborative.org
SUMMARY:Writing a Memoir (TBE)
DESCRIPTION:
URL:https://www.lifelonglearningcollaborative.org/event/writing-a-memoir-tbe/2025-03-27/
LOCATION:Temple Beth-El\, 70 Orchard Avenue\, Providence\, RI\, United States
CATEGORIES:Courses
END:VEVENT
BEGIN:VEVENT
DTSTART;TZID=America/New_York:20250328T100000
DTEND;TZID=America/New_York:20250328T110000
DTSTAMP:20260421T221909
CREATED:20250121T140229Z
LAST-MODIFIED:20250121T140229Z
UID:10003192-1743156000-1743159600@www.lifelonglearningcollaborative.org
SUMMARY:Get Fit at Home
DESCRIPTION:
URL:https://www.lifelonglearningcollaborative.org/event/get-fit-at-home-3-8/2025-03-28/
LOCATION:ZOOM
CATEGORIES:Courses
END:VEVENT
BEGIN:VEVENT
DTSTART;TZID=America/New_York:20250328T100000
DTEND;TZID=America/New_York:20250328T120000
DTSTAMP:20260421T221909
CREATED:20250121T140332Z
LAST-MODIFIED:20250121T140332Z
UID:10003200-1743156000-1743163200@www.lifelonglearningcollaborative.org
SUMMARY:Fox Point
DESCRIPTION:Temple Beth-El and Fox Point
URL:https://www.lifelonglearningcollaborative.org/event/fox-point/2025-03-28/
LOCATION:Temple Beth-El\, 70 Orchard Avenue\, Providence\, RI\, United States
CATEGORIES:Courses
END:VEVENT
BEGIN:VEVENT
DTSTART;TZID=America/New_York:20250329T080000
DTEND;TZID=America/New_York:20250329T170000
DTSTAMP:20260421T221909
CREATED:20250129T165101Z
LAST-MODIFIED:20250224T202907Z
UID:10003217-1743235200-1743267600@www.lifelonglearningcollaborative.org
SUMMARY:LLC Bus Trip to Boston's MFA or Gardner Museum
DESCRIPTION:
URL:https://www.lifelonglearningcollaborative.org/event/llc-bus-trip-to-bostons-mfa-or-gardner-museum/
LOCATION:RI
CATEGORIES:Cultural Trips
END:VEVENT
BEGIN:VEVENT
DTSTART;TZID=America/New_York:20250331T100000
DTEND;TZID=America/New_York:20250331T120000
DTSTAMP:20260421T221909
CREATED:20250121T134228Z
LAST-MODIFIED:20250121T134228Z
UID:10002932-1743415200-1743422400@www.lifelonglearningcollaborative.org
SUMMARY:Open Studio Art (Zoom)
DESCRIPTION:
URL:https://www.lifelonglearningcollaborative.org/event/open-studio-art-zoom-2-3/2025-03-31/
LOCATION:ZOOM
CATEGORIES:Courses
END:VEVENT
BEGIN:VEVENT
DTSTART;TZID=America/New_York:20250331T100000
DTEND;TZID=America/New_York:20250331T120000
DTSTAMP:20260421T221909
CREATED:20250121T134322Z
LAST-MODIFIED:20250121T134322Z
UID:10002942-1743415200-1743422400@www.lifelonglearningcollaborative.org
SUMMARY:Absurd Comedies\, II
DESCRIPTION:
URL:https://www.lifelonglearningcollaborative.org/event/absurd-comedies-ii/2025-03-31/
LOCATION:ZOOM
CATEGORIES:Courses
END:VEVENT
BEGIN:VEVENT
DTSTART;TZID=America/New_York:20250331T130000
DTEND;TZID=America/New_York:20250331T150000
DTSTAMP:20260421T221909
CREATED:20240715T131626Z
LAST-MODIFIED:20240715T131626Z
UID:10001919-1743426000-1743433200@www.lifelonglearningcollaborative.org
SUMMARY:Historical Novel Book Club 24-25
DESCRIPTION:
URL:https://www.lifelonglearningcollaborative.org/event/historical-novel-book-club-24-25/2025-03-31/
LOCATION:ZOOM
CATEGORIES:Courses
END:VEVENT
BEGIN:VEVENT
DTSTART;TZID=America/New_York:20250331T160000
DTEND;TZID=America/New_York:20250331T170000
DTSTAMP:20260421T221909
CREATED:20250219T185302Z
LAST-MODIFIED:20250219T185302Z
UID:10003219-1743436800-1743440400@www.lifelonglearningcollaborative.org
SUMMARY:Webinar Lecture w/ Rose Weaver "Menopause Mama"
DESCRIPTION:A live dramatic reading of Menopause Mama written\, acted\, and sung by the incredible Rose Weaver\nTelevision\, film\, music\, and solo performer and writer \nMenopause Mama is a compelling\, cutting edge and often hilarious solo performance about menopause and aging. Through a variety of characters\, Rose Weaver depicts the struggles\, triumphs\, tears and lighter side of menopause. Her take no-prisoners honestly is delivered with a touch of humor\, ensuring the audience is entertained while also gaining valuable insights. \nTry not to miss this extraordinary live performance. \nRose Weaver\, a 2000 Pell Award winner and a New England Emmy nominee\, has entertained audiences for more than 40 years in television\, film\, music\, and as a solo performer and writer. She has appeared in many theatres across the country\, including many performances for Trinity Theatre\, including August Wilson’s Gem of the Ocean where she played Aunt Ester; Billie Holiday in Lady Day at Emerson’s Bar & Grille; Dussie Mae in Ma Rainey’s Black Bottom; Bernice in The Piano Lesson\, and the Witch in Into the Woods. A few of her television performances include In the Heat of the Night\, Poetic Justice\, LA Law\, Tales From the Crypt\, The Accused\, Not In My Family\, Lady in White and Go Tell It On the Mountain.
URL:https://www.lifelonglearningcollaborative.org/event/webinar-lecture-w-rose-weaver-menopause-mama/
LOCATION:ZOOM
CATEGORIES:Free Webinars
END:VEVENT
BEGIN:VEVENT
DTSTART;TZID=America/New_York:20250401T100000
DTEND;TZID=America/New_York:20250401T120000
DTSTAMP:20260421T221909
CREATED:20250121T134410Z
LAST-MODIFIED:20250121T134410Z
UID:10002952-1743501600-1743508800@www.lifelonglearningcollaborative.org
SUMMARY:Open Studio Art (TBE)
DESCRIPTION:
URL:https://www.lifelonglearningcollaborative.org/event/open-studio-art-tbe-2-2/2025-04-01/
LOCATION:Temple Beth-El\, 70 Orchard Avenue\, Providence\, RI\, United States
CATEGORIES:Courses
END:VEVENT
BEGIN:VEVENT
DTSTART;TZID=America/New_York:20250401T100000
DTEND;TZID=America/New_York:20250401T120000
DTSTAMP:20260421T221909
CREATED:20250121T134453Z
LAST-MODIFIED:20250301T135559Z
UID:10002962-1743501600-1743508800@www.lifelonglearningcollaborative.org
SUMMARY:Israel: A Nation Reborn
DESCRIPTION:
URL:https://www.lifelonglearningcollaborative.org/event/israel-a-nation-reborn/2025-04-01/
LOCATION:ZOOM
CATEGORIES:Courses
END:VEVENT
BEGIN:VEVENT
DTSTART;TZID=America/New_York:20250401T100000
DTEND;TZID=America/New_York:20250401T120000
DTSTAMP:20260421T221909
CREATED:20250121T134535Z
LAST-MODIFIED:20250121T134535Z
UID:10002972-1743501600-1743508800@www.lifelonglearningcollaborative.org
SUMMARY:Whodunit?
DESCRIPTION:
URL:https://www.lifelonglearningcollaborative.org/event/whodunit/2025-04-01/
LOCATION:Temple Beth-El\, 70 Orchard Avenue\, Providence\, RI\, United States
CATEGORIES:Courses
END:VEVENT
BEGIN:VEVENT
DTSTART;TZID=America/New_York:20250401T100000
DTEND;TZID=America/New_York:20250401T120000
DTSTAMP:20260421T221909
CREATED:20250121T134623Z
LAST-MODIFIED:20250121T134623Z
UID:10002982-1743501600-1743508800@www.lifelonglearningcollaborative.org
SUMMARY:Films: Food & Wine
DESCRIPTION:
URL:https://www.lifelonglearningcollaborative.org/event/films-food-wine/2025-04-01/
LOCATION:ZOOM
CATEGORIES:Courses
END:VEVENT
BEGIN:VEVENT
DTSTART;TZID=America/New_York:20250401T130000
DTEND;TZID=America/New_York:20250401T141500
DTSTAMP:20260421T221909
CREATED:20250121T135058Z
LAST-MODIFIED:20250121T135058Z
UID:10003029-1743512400-1743516900@www.lifelonglearningcollaborative.org
SUMMARY:Alexander Technique
DESCRIPTION:
URL:https://www.lifelonglearningcollaborative.org/event/alexander-technique-2-2/2025-04-01/
LOCATION:Temple Beth-El\, 70 Orchard Avenue\, Providence\, RI\, United States
CATEGORIES:Courses
END:VEVENT
BEGIN:VEVENT
DTSTART;TZID=America/New_York:20250401T130000
DTEND;TZID=America/New_York:20250401T150000
DTSTAMP:20260421T221909
CREATED:20250121T134752Z
LAST-MODIFIED:20250121T134752Z
UID:10003002-1743512400-1743519600@www.lifelonglearningcollaborative.org
SUMMARY:Music You've Never Heard
DESCRIPTION:
URL:https://www.lifelonglearningcollaborative.org/event/music-youve-never-heard/2025-04-01/
LOCATION:Temple Beth-El\, 70 Orchard Avenue\, Providence\, RI\, United States
CATEGORIES:Courses
END:VEVENT
BEGIN:VEVENT
DTSTART;TZID=America/New_York:20250401T130000
DTEND;TZID=America/New_York:20250401T150000
DTSTAMP:20260421T221909
CREATED:20250121T134833Z
LAST-MODIFIED:20250121T134833Z
UID:10003012-1743512400-1743519600@www.lifelonglearningcollaborative.org
SUMMARY:Cell Phone Photo Club
DESCRIPTION:
URL:https://www.lifelonglearningcollaborative.org/event/cell-phone-photo-club-2-5/2025-04-01/
LOCATION:Temple Beth-El\, 70 Orchard Avenue\, Providence\, RI\, United States
CATEGORIES:Courses
END:VEVENT
BEGIN:VEVENT
DTSTART;TZID=America/New_York:20250401T151500
DTEND;TZID=America/New_York:20250401T170000
DTSTAMP:20260421T221909
CREATED:20250121T135228Z
LAST-MODIFIED:20250121T135228Z
UID:10003047-1743520500-1743526800@www.lifelonglearningcollaborative.org
SUMMARY:Scrabble
DESCRIPTION:
URL:https://www.lifelonglearningcollaborative.org/event/scrabble-17/2025-04-01/
LOCATION:Temple Beth-El\, 70 Orchard Avenue\, Providence\, RI\, United States
CATEGORIES:Courses
END:VEVENT
BEGIN:VEVENT
DTSTART;TZID=America/New_York:20250402T100000
DTEND;TZID=America/New_York:20250402T120000
DTSTAMP:20260421T221909
CREATED:20250121T135355Z
LAST-MODIFIED:20250121T145812Z
UID:10003059-1743588000-1743595200@www.lifelonglearningcollaborative.org
SUMMARY:Reading Plays: Families
DESCRIPTION:
URL:https://www.lifelonglearningcollaborative.org/event/reading-plays-families/2025-04-02/
LOCATION:Temple Beth-El\, 70 Orchard Avenue\, Providence\, RI\, United States
CATEGORIES:Courses
END:VEVENT
BEGIN:VEVENT
DTSTART;TZID=America/New_York:20250402T100000
DTEND;TZID=America/New_York:20250402T120000
DTSTAMP:20260421T221909
CREATED:20250121T135451Z
LAST-MODIFIED:20250121T145832Z
UID:10003078-1743588000-1743595200@www.lifelonglearningcollaborative.org
SUMMARY:Paint Like a Woman II
DESCRIPTION:
URL:https://www.lifelonglearningcollaborative.org/event/paint-like-a-woman-ii/2025-04-02/
LOCATION:Temple Beth-El\, 70 Orchard Avenue\, Providence\, RI\, United States
CATEGORIES:Courses
END:VEVENT
BEGIN:VEVENT
DTSTART;TZID=America/New_York:20250402T100000
DTEND;TZID=America/New_York:20250402T120000
DTSTAMP:20260421T221909
CREATED:20250121T135534Z
LAST-MODIFIED:20250121T135534Z
UID:10003095-1743588000-1743595200@www.lifelonglearningcollaborative.org
SUMMARY:Writing a Memoir (Zoom)
DESCRIPTION:
URL:https://www.lifelonglearningcollaborative.org/event/writing-a-memoir-zoom/2025-04-02/
LOCATION:ZOOM
CATEGORIES:Courses
END:VEVENT
BEGIN:VEVENT
DTSTART;TZID=America/New_York:20250402T130000
DTEND;TZID=America/New_York:20250402T150000
DTSTAMP:20260421T221909
CREATED:20250121T135612Z
LAST-MODIFIED:20250121T135612Z
UID:10003105-1743598800-1743606000@www.lifelonglearningcollaborative.org
SUMMARY:Hot Topics
DESCRIPTION:
URL:https://www.lifelonglearningcollaborative.org/event/hot-topics-3-7/2025-04-02/
LOCATION:ZOOM
CATEGORIES:Courses
END:VEVENT
BEGIN:VEVENT
DTSTART;TZID=America/New_York:20250402T130000
DTEND;TZID=America/New_York:20250402T150000
DTSTAMP:20260421T221909
CREATED:20250121T135707Z
LAST-MODIFIED:20250121T145647Z
UID:10003117-1743598800-1743606000@www.lifelonglearningcollaborative.org
SUMMARY:LLC Knits Hybrid
DESCRIPTION:Hybrid course held in-person at Temple Beth-El and on Zoom.
URL:https://www.lifelonglearningcollaborative.org/event/llc-knits-hybrid-2-2/2025-04-02/
LOCATION:RI
CATEGORIES:Courses
END:VEVENT
BEGIN:VEVENT
DTSTART;TZID=America/New_York:20250402T160000
DTEND;TZID=America/New_York:20250402T170000
DTSTAMP:20260421T221909
CREATED:20250219T185413Z
LAST-MODIFIED:20250219T185413Z
UID:10003220-1743609600-1743613200@www.lifelonglearningcollaborative.org
SUMMARY:Webinar Lecture w/ Senator Whitehouse
DESCRIPTION:Sheldon Whitehouse\, United States Senator for Rhode Island \nExciting news! Senator Whitehouse will be presenting at Lifelong Learning Collaborative’s Webinar Lecture Series on April 2\, 2025. \nHave questions for Senator Whitehouse? Submit them to Jane Adler\, Lecture Organizer and Host at Brownbaglearn@gmail.com by March 28\, as only pre-submitted questions will be addressed during the event. \nDon’t miss this opportunity. \nRepresenting the Ocean State since 2007\, Senator Whitehouse plays a key role in crafting policies addressing climate change and environmental protection. The senator has worked to enact bipartisan measures to reduce carbon pollution and boost America’s clean energy economy. He shaped major climate components of Senate Democrats’ historic Inflation Reduction Act.
URL:https://www.lifelonglearningcollaborative.org/event/webinar-lecture-w-senator-whitehouse/
LOCATION:ZOOM
CATEGORIES:Free Webinars
END:VEVENT
END:VCALENDAR