BEGIN:VCALENDAR
VERSION:2.0
PRODID:-//Lifelong Learning Collaborative - ECPv6.15.12.2//NONSGML v1.0//EN
CALSCALE:GREGORIAN
METHOD:PUBLISH
X-WR-CALNAME:Lifelong Learning Collaborative
X-ORIGINAL-URL:https://www.lifelonglearningcollaborative.org
X-WR-CALDESC:Events for Lifelong Learning Collaborative
REFRESH-INTERVAL;VALUE=DURATION:PT1H
X-Robots-Tag:noindex
X-PUBLISHED-TTL:PT1H
BEGIN:VTIMEZONE
TZID:America/New_York
BEGIN:DAYLIGHT
TZOFFSETFROM:-0500
TZOFFSETTO:-0400
TZNAME:EDT
DTSTART:20240310T070000
END:DAYLIGHT
BEGIN:STANDARD
TZOFFSETFROM:-0400
TZOFFSETTO:-0500
TZNAME:EST
DTSTART:20241103T060000
END:STANDARD
BEGIN:DAYLIGHT
TZOFFSETFROM:-0500
TZOFFSETTO:-0400
TZNAME:EDT
DTSTART:20250309T070000
END:DAYLIGHT
BEGIN:STANDARD
TZOFFSETFROM:-0400
TZOFFSETTO:-0500
TZNAME:EST
DTSTART:20251102T060000
END:STANDARD
BEGIN:DAYLIGHT
TZOFFSETFROM:-0500
TZOFFSETTO:-0400
TZNAME:EDT
DTSTART:20260308T070000
END:DAYLIGHT
BEGIN:STANDARD
TZOFFSETFROM:-0400
TZOFFSETTO:-0500
TZNAME:EST
DTSTART:20261101T060000
END:STANDARD
END:VTIMEZONE
BEGIN:VEVENT
DTSTART;TZID=America/New_York:20250919T100000
DTEND;TZID=America/New_York:20250919T230000
DTSTAMP:20260421T153237
CREATED:20250714T145833Z
LAST-MODIFIED:20251103T205822Z
UID:10003612-1758276000-1758322800@www.lifelonglearningcollaborative.org
SUMMARY:Get Fit
DESCRIPTION:
URL:https://www.lifelonglearningcollaborative.org/event/get-fit-2-2/2025-09-19/
LOCATION:ZOOM
CATEGORIES:Courses
END:VEVENT
BEGIN:VEVENT
DTSTART;TZID=America/New_York:20250919T100000
DTEND;TZID=America/New_York:20250919T120000
DTSTAMP:20260421T153237
CREATED:20250714T150033Z
LAST-MODIFIED:20250714T150033Z
UID:10003682-1758276000-1758283200@www.lifelonglearningcollaborative.org
SUMMARY:Anthropology/Movies
DESCRIPTION:
URL:https://www.lifelonglearningcollaborative.org/event/anthropology-movies/2025-09-19/
LOCATION:Shriners Center\, 1 Rhodes Place\, Cranston\, RI\, 02905\, United States
CATEGORIES:Courses
END:VEVENT
BEGIN:VEVENT
DTSTART;TZID=America/New_York:20250919T100000
DTEND;TZID=America/New_York:20250919T120000
DTSTAMP:20260421T153237
CREATED:20250714T145943Z
LAST-MODIFIED:20250714T145943Z
UID:10003671-1758276000-1758283200@www.lifelonglearningcollaborative.org
SUMMARY:1936 Olympics
DESCRIPTION:
URL:https://www.lifelonglearningcollaborative.org/event/1936-olympics/2025-09-19/
LOCATION:Shriners Center\, 1 Rhodes Place\, Cranston\, RI\, 02905\, United States
CATEGORIES:Courses
END:VEVENT
BEGIN:VEVENT
DTSTART;TZID=America/New_York:20250918T130000
DTEND;TZID=America/New_York:20250918T150000
DTSTAMP:20260421T153237
CREATED:20250714T145642Z
LAST-MODIFIED:20250714T145642Z
UID:10003596-1758200400-1758207600@www.lifelonglearningcollaborative.org
SUMMARY:Writing a Memoir (In-person)
DESCRIPTION:
URL:https://www.lifelonglearningcollaborative.org/event/writing-a-memoir-in-person/2025-09-18/
LOCATION:Shriners Center\, 1 Rhodes Place\, Cranston\, RI\, 02905\, United States
CATEGORIES:Courses
END:VEVENT
BEGIN:VEVENT
DTSTART;TZID=America/New_York:20250918T130000
DTEND;TZID=America/New_York:20250918T150000
DTSTAMP:20260421T153237
CREATED:20250714T145546Z
LAST-MODIFIED:20250714T145546Z
UID:10003586-1758200400-1758207600@www.lifelonglearningcollaborative.org
SUMMARY:Collage
DESCRIPTION:
URL:https://www.lifelonglearningcollaborative.org/event/collage/2025-09-18/
LOCATION:Shriners Center\, 1 Rhodes Place\, Cranston\, RI\, 02905\, United States
CATEGORIES:Courses
END:VEVENT
BEGIN:VEVENT
DTSTART;TZID=America/New_York:20250918T130000
DTEND;TZID=America/New_York:20250918T141500
DTSTAMP:20260421T153237
CREATED:20250714T145748Z
LAST-MODIFIED:20250714T145748Z
UID:10003605-1758200400-1758204900@www.lifelonglearningcollaborative.org
SUMMARY:Alexander Technique
DESCRIPTION:
URL:https://www.lifelonglearningcollaborative.org/event/alexander-technique-2-3/2025-09-18/
LOCATION:Shriners Center\, 1 Rhodes Place\, Cranston\, RI\, 02905\, United States
CATEGORIES:Courses
END:VEVENT
BEGIN:VEVENT
DTSTART;TZID=America/New_York:20250918T100000
DTEND;TZID=America/New_York:20250918T120000
DTSTAMP:20260421T153237
CREATED:20250714T145324Z
LAST-MODIFIED:20250714T145324Z
UID:10003566-1758189600-1758196800@www.lifelonglearningcollaborative.org
SUMMARY:You Should Hear This
DESCRIPTION:
URL:https://www.lifelonglearningcollaborative.org/event/you-should-hear-this/2025-09-18/
LOCATION:Shriners Center\, 1 Rhodes Place\, Cranston\, RI\, 02905\, United States
CATEGORIES:Courses
END:VEVENT
BEGIN:VEVENT
DTSTART;TZID=America/New_York:20250918T100000
DTEND;TZID=America/New_York:20250918T120000
DTSTAMP:20260421T153237
CREATED:20250714T145207Z
LAST-MODIFIED:20250714T145207Z
UID:10003556-1758189600-1758196800@www.lifelonglearningcollaborative.org
SUMMARY:End Time Corporations
DESCRIPTION:
URL:https://www.lifelonglearningcollaborative.org/event/end-time-corporations/2025-09-18/
LOCATION:Shriners Center\, 1 Rhodes Place\, Cranston\, RI\, 02905\, United States
CATEGORIES:Courses
END:VEVENT
BEGIN:VEVENT
DTSTART;TZID=America/New_York:20250917T130000
DTEND;TZID=America/New_York:20250917T150000
DTSTAMP:20260421T153237
CREATED:20250714T145106Z
LAST-MODIFIED:20250714T145106Z
UID:10003546-1758114000-1758121200@www.lifelonglearningcollaborative.org
SUMMARY:Luminous Things (Hybrid)
DESCRIPTION:
URL:https://www.lifelonglearningcollaborative.org/event/luminous-things-hybrid/2025-09-17/
LOCATION:Shriners Center\, 1 Rhodes Place\, Cranston\, RI\, 02905\, United States
CATEGORIES:Courses
END:VEVENT
BEGIN:VEVENT
DTSTART;TZID=America/New_York:20250917T130000
DTEND;TZID=America/New_York:20250917T150000
DTSTAMP:20260421T153237
CREATED:20250714T144934Z
LAST-MODIFIED:20250714T144934Z
UID:10003536-1758114000-1758121200@www.lifelonglearningcollaborative.org
SUMMARY:LLC Knits
DESCRIPTION:
URL:https://www.lifelonglearningcollaborative.org/event/llc-knits-3-6/2025-09-17/
LOCATION:Shriners Center\, 1 Rhodes Place\, Cranston\, RI\, 02905\, United States
CATEGORIES:Courses
END:VEVENT
BEGIN:VEVENT
DTSTART;TZID=America/New_York:20250917T130000
DTEND;TZID=America/New_York:20250917T150000
DTSTAMP:20260421T153237
CREATED:20250714T144838Z
LAST-MODIFIED:20250714T144838Z
UID:10003528-1758114000-1758121200@www.lifelonglearningcollaborative.org
SUMMARY:Jazz Dance
DESCRIPTION:
URL:https://www.lifelonglearningcollaborative.org/event/jazz-dance-2-2/2025-09-17/
LOCATION:Shriners Center\, 1 Rhodes Place\, Cranston\, RI\, 02905\, United States
CATEGORIES:Courses
END:VEVENT
BEGIN:VEVENT
DTSTART;TZID=America/New_York:20250917T130000
DTEND;TZID=America/New_York:20250917T150000
DTSTAMP:20260421T153237
CREATED:20250714T144722Z
LAST-MODIFIED:20250714T144722Z
UID:10003518-1758114000-1758121200@www.lifelonglearningcollaborative.org
SUMMARY:Hot Topics
DESCRIPTION:
URL:https://www.lifelonglearningcollaborative.org/event/hot-topics-3-8/2025-09-17/
LOCATION:ZOOM
CATEGORIES:Courses
END:VEVENT
BEGIN:VEVENT
DTSTART;TZID=America/New_York:20250917T100000
DTEND;TZID=America/New_York:20250917T120000
DTSTAMP:20260421T153237
CREATED:20250714T150301Z
LAST-MODIFIED:20250714T150301Z
UID:10003692-1758103200-1758110400@www.lifelonglearningcollaborative.org
SUMMARY:Creative Arts
DESCRIPTION:
URL:https://www.lifelonglearningcollaborative.org/event/creative-arts/2025-09-17/
LOCATION:Shriners Center\, 1 Rhodes Place\, Cranston\, RI\, 02905\, United States
CATEGORIES:Courses
END:VEVENT
BEGIN:VEVENT
DTSTART;TZID=America/New_York:20250917T100000
DTEND;TZID=America/New_York:20250917T120000
DTSTAMP:20260421T153237
CREATED:20250714T144630Z
LAST-MODIFIED:20250714T144630Z
UID:10003508-1758103200-1758110400@www.lifelonglearningcollaborative.org
SUMMARY:Ibsen Plays
DESCRIPTION:
URL:https://www.lifelonglearningcollaborative.org/event/ibsen-plays/2025-09-17/
LOCATION:Shriners Center\, 1 Rhodes Place\, Cranston\, RI\, 02905\, United States
CATEGORIES:Courses
END:VEVENT
BEGIN:VEVENT
DTSTART;TZID=America/New_York:20250916T130000
DTEND;TZID=America/New_York:20250916T150000
DTSTAMP:20260421T153237
CREATED:20250714T144217Z
LAST-MODIFIED:20250714T144217Z
UID:10003480-1758027600-1758034800@www.lifelonglearningcollaborative.org
SUMMARY:Cell Phone Photo
DESCRIPTION:
URL:https://www.lifelonglearningcollaborative.org/event/cell-phone-photo-3-3/2025-09-16/
LOCATION:Shriners Center\, 1 Rhodes Place\, Cranston\, RI\, 02905\, United States
CATEGORIES:Courses
END:VEVENT
BEGIN:VEVENT
DTSTART;TZID=America/New_York:20250916T130000
DTEND;TZID=America/New_York:20250916T150000
DTSTAMP:20260421T153237
CREATED:20250714T143952Z
LAST-MODIFIED:20250714T143952Z
UID:10003470-1758027600-1758034800@www.lifelonglearningcollaborative.org
SUMMARY:Burning World
DESCRIPTION:
URL:https://www.lifelonglearningcollaborative.org/event/burning-world/2025-09-16/
LOCATION:Shriners Center\, 1 Rhodes Place\, Cranston\, RI\, 02905\, United States
CATEGORIES:Courses
END:VEVENT
BEGIN:VEVENT
DTSTART;TZID=America/New_York:20250916T130000
DTEND;TZID=America/New_York:20250916T150000
DTSTAMP:20260421T153237
CREATED:20250714T143837Z
LAST-MODIFIED:20250714T143837Z
UID:10003465-1758027600-1758034800@www.lifelonglearningcollaborative.org
SUMMARY:Cornell Boxes
DESCRIPTION:
URL:https://www.lifelonglearningcollaborative.org/event/cornell-boxes/2025-09-16/
LOCATION:Shriners Center\, 1 Rhodes Place\, Cranston\, RI\, 02905\, United States
CATEGORIES:Courses
END:VEVENT
BEGIN:VEVENT
DTSTART;TZID=America/New_York:20250916T100000
DTEND;TZID=America/New_York:20250916T123000
DTSTAMP:20260421T153237
CREATED:20250714T143654Z
LAST-MODIFIED:20250714T143654Z
UID:10003455-1758016800-1758025800@www.lifelonglearningcollaborative.org
SUMMARY:Scrabble
DESCRIPTION:
URL:https://www.lifelonglearningcollaborative.org/event/scrabble-21/2025-09-16/
LOCATION:Shriners Center\, 1 Rhodes Place\, Cranston\, RI\, 02905\, United States
CATEGORIES:Courses
END:VEVENT
BEGIN:VEVENT
DTSTART;TZID=America/New_York:20250916T100000
DTEND;TZID=America/New_York:20250916T123000
DTSTAMP:20260421T153237
CREATED:20250714T143422Z
LAST-MODIFIED:20250714T143422Z
UID:10003445-1758016800-1758025800@www.lifelonglearningcollaborative.org
SUMMARY:Open Studio Art (In-person)
DESCRIPTION:
URL:https://www.lifelonglearningcollaborative.org/event/open-studio-art-in-person/2025-09-16/
LOCATION:Shriners Center\, 1 Rhodes Place\, Cranston\, RI\, 02905\, United States
CATEGORIES:Courses
END:VEVENT
BEGIN:VEVENT
DTSTART;TZID=America/New_York:20250916T100000
DTEND;TZID=America/New_York:20250916T120000
DTSTAMP:20260421T153237
CREATED:20250714T143035Z
LAST-MODIFIED:20250714T143035Z
UID:10003429-1758016800-1758024000@www.lifelonglearningcollaborative.org
SUMMARY:Short Stories Desai & Eisenberg
DESCRIPTION:
URL:https://www.lifelonglearningcollaborative.org/event/short-stories-desai-eisenberg/2025-09-16/
LOCATION:Shriners Center\, 1 Rhodes Place\, Cranston\, RI\, 02905\, United States
CATEGORIES:Courses
END:VEVENT
BEGIN:VEVENT
DTSTART;TZID=America/New_York:20250915T100000
DTEND;TZID=America/New_York:20250915T120000
DTSTAMP:20260421T153237
CREATED:20250714T134514Z
LAST-MODIFIED:20250714T134514Z
UID:10003369-1757930400-1757937600@www.lifelonglearningcollaborative.org
SUMMARY:Open Studio Art (Zoom)
DESCRIPTION:
URL:https://www.lifelonglearningcollaborative.org/event/open-studio-art-zoom-2-4/2025-09-15/
LOCATION:ZOOM
CATEGORIES:Courses
END:VEVENT
BEGIN:VEVENT
DTSTART;TZID=America/New_York:20250915T100000
DTEND;TZID=America/New_York:20250915T120000
DTSTAMP:20260421T153237
CREATED:20250526T233807Z
LAST-MODIFIED:20251103T210152Z
UID:10003237-1757930400-1757937600@www.lifelonglearningcollaborative.org
SUMMARY:Current Events
DESCRIPTION:
URL:https://www.lifelonglearningcollaborative.org/event/current-events/2025-09-15/
LOCATION:ZOOM
CATEGORIES:Courses
END:VEVENT
BEGIN:VEVENT
DTSTART;TZID=America/New_York:20250912T100000
DTEND;TZID=America/New_York:20250912T230000
DTSTAMP:20260421T153237
CREATED:20250714T145833Z
LAST-MODIFIED:20251103T205822Z
UID:10003611-1757671200-1757718000@www.lifelonglearningcollaborative.org
SUMMARY:Get Fit
DESCRIPTION:
URL:https://www.lifelonglearningcollaborative.org/event/get-fit-2-2/2025-09-12/
LOCATION:ZOOM
CATEGORIES:Courses
END:VEVENT
BEGIN:VEVENT
DTSTART;TZID=America/New_York:20250912T100000
DTEND;TZID=America/New_York:20250912T120000
DTSTAMP:20260421T153237
CREATED:20250714T150033Z
LAST-MODIFIED:20250714T150033Z
UID:10003681-1757671200-1757678400@www.lifelonglearningcollaborative.org
SUMMARY:Anthropology/Movies
DESCRIPTION:
URL:https://www.lifelonglearningcollaborative.org/event/anthropology-movies/2025-09-12/
LOCATION:Shriners Center\, 1 Rhodes Place\, Cranston\, RI\, 02905\, United States
CATEGORIES:Courses
END:VEVENT
BEGIN:VEVENT
DTSTART;TZID=America/New_York:20250911T160000
DTEND;TZID=America/New_York:20250911T170000
DTSTAMP:20260421T153238
CREATED:20250728T220207Z
LAST-MODIFIED:20250728T220958Z
UID:10003698-1757606400-1757610000@www.lifelonglearningcollaborative.org
SUMMARY:LLC Webinar Lecture Series presents Dr. Marschall Runge\, Author\, Executive Vice President for Medical Affairs at the University of Michigan and CEO of Michigan Medicine Great Healthcare Disruption: Big Tech\, Bold Policy\, and the Future of American Medicine
DESCRIPTION:
URL:https://www.lifelonglearningcollaborative.org/event/llc-webinar-lecture-w-dr-marschall-runge-author-executive-vice-president-for-medical-affairs-at-the-university-of-michigan-and-ceo-of-michigan-medicine-great-healthcare-disruption-big-tech-bold/
LOCATION:ZOOM
CATEGORIES:Free Webinars
END:VEVENT
BEGIN:VEVENT
DTSTART;TZID=America/New_York:20250911T130000
DTEND;TZID=America/New_York:20250911T150000
DTSTAMP:20260421T153238
CREATED:20250714T145642Z
LAST-MODIFIED:20250714T145642Z
UID:10003595-1757595600-1757602800@www.lifelonglearningcollaborative.org
SUMMARY:Writing a Memoir (In-person)
DESCRIPTION:
URL:https://www.lifelonglearningcollaborative.org/event/writing-a-memoir-in-person/2025-09-11/
LOCATION:Shriners Center\, 1 Rhodes Place\, Cranston\, RI\, 02905\, United States
CATEGORIES:Courses
END:VEVENT
BEGIN:VEVENT
DTSTART;TZID=America/New_York:20250911T130000
DTEND;TZID=America/New_York:20250911T150000
DTSTAMP:20260421T153238
CREATED:20250714T145546Z
LAST-MODIFIED:20250714T145546Z
UID:10003585-1757595600-1757602800@www.lifelonglearningcollaborative.org
SUMMARY:Collage
DESCRIPTION:
URL:https://www.lifelonglearningcollaborative.org/event/collage/2025-09-11/
LOCATION:Shriners Center\, 1 Rhodes Place\, Cranston\, RI\, 02905\, United States
CATEGORIES:Courses
END:VEVENT
BEGIN:VEVENT
DTSTART;TZID=America/New_York:20250911T100000
DTEND;TZID=America/New_York:20250911T120000
DTSTAMP:20260421T153238
CREATED:20250714T145324Z
LAST-MODIFIED:20250714T145324Z
UID:10003565-1757584800-1757592000@www.lifelonglearningcollaborative.org
SUMMARY:You Should Hear This
DESCRIPTION:
URL:https://www.lifelonglearningcollaborative.org/event/you-should-hear-this/2025-09-11/
LOCATION:Shriners Center\, 1 Rhodes Place\, Cranston\, RI\, 02905\, United States
CATEGORIES:Courses
END:VEVENT
BEGIN:VEVENT
DTSTART;TZID=America/New_York:20250911T100000
DTEND;TZID=America/New_York:20250911T120000
DTSTAMP:20260421T153238
CREATED:20250714T145207Z
LAST-MODIFIED:20250714T145207Z
UID:10003555-1757584800-1757592000@www.lifelonglearningcollaborative.org
SUMMARY:End Time Corporations
DESCRIPTION:
URL:https://www.lifelonglearningcollaborative.org/event/end-time-corporations/2025-09-11/
LOCATION:Shriners Center\, 1 Rhodes Place\, Cranston\, RI\, 02905\, United States
CATEGORIES:Courses
END:VEVENT
BEGIN:VEVENT
DTSTART;TZID=America/New_York:20250910T130000
DTEND;TZID=America/New_York:20250910T150000
DTSTAMP:20260421T153238
CREATED:20250714T145106Z
LAST-MODIFIED:20250714T145106Z
UID:10003545-1757509200-1757516400@www.lifelonglearningcollaborative.org
SUMMARY:Luminous Things (Hybrid)
DESCRIPTION:
URL:https://www.lifelonglearningcollaborative.org/event/luminous-things-hybrid/2025-09-10/
LOCATION:Shriners Center\, 1 Rhodes Place\, Cranston\, RI\, 02905\, United States
CATEGORIES:Courses
END:VEVENT
END:VCALENDAR