BEGIN:VCALENDAR
VERSION:2.0
PRODID:-//Lifelong Learning Collaborative - ECPv6.15.12.2//NONSGML v1.0//EN
CALSCALE:GREGORIAN
METHOD:PUBLISH
X-ORIGINAL-URL:https://www.lifelonglearningcollaborative.org
X-WR-CALDESC:Events for Lifelong Learning Collaborative
REFRESH-INTERVAL;VALUE=DURATION:PT1H
X-Robots-Tag:noindex
X-PUBLISHED-TTL:PT1H
BEGIN:VTIMEZONE
TZID:America/New_York
BEGIN:DAYLIGHT
TZOFFSETFROM:-0500
TZOFFSETTO:-0400
TZNAME:EDT
DTSTART:20230312T070000
END:DAYLIGHT
BEGIN:STANDARD
TZOFFSETFROM:-0400
TZOFFSETTO:-0500
TZNAME:EST
DTSTART:20231105T060000
END:STANDARD
BEGIN:DAYLIGHT
TZOFFSETFROM:-0500
TZOFFSETTO:-0400
TZNAME:EDT
DTSTART:20240310T070000
END:DAYLIGHT
BEGIN:STANDARD
TZOFFSETFROM:-0400
TZOFFSETTO:-0500
TZNAME:EST
DTSTART:20241103T060000
END:STANDARD
BEGIN:DAYLIGHT
TZOFFSETFROM:-0500
TZOFFSETTO:-0400
TZNAME:EDT
DTSTART:20250309T070000
END:DAYLIGHT
BEGIN:STANDARD
TZOFFSETFROM:-0400
TZOFFSETTO:-0500
TZNAME:EST
DTSTART:20251102T060000
END:STANDARD
END:VTIMEZONE
BEGIN:VEVENT
DTSTART;TZID=America/New_York:20240320T100000
DTEND;TZID=America/New_York:20240320T120000
DTSTAMP:20260421T192051
CREATED:20240129T131416Z
LAST-MODIFIED:20240129T131416Z
UID:10001664-1710928800-1710936000@www.lifelonglearningcollaborative.org
SUMMARY:Write On Workshop
DESCRIPTION:
URL:https://www.lifelonglearningcollaborative.org/event/write-on-workshop/2024-03-20/
LOCATION:Regency Plaza Apartments\, RI\, United States
CATEGORIES:Courses
END:VEVENT
BEGIN:VEVENT
DTSTART;TZID=America/New_York:20240320T100000
DTEND;TZID=America/New_York:20240320T120000
DTSTAMP:20260421T192051
CREATED:20240129T131520Z
LAST-MODIFIED:20240129T131520Z
UID:10001674-1710928800-1710936000@www.lifelonglearningcollaborative.org
SUMMARY:Paint Like a Woman
DESCRIPTION:
URL:https://www.lifelonglearningcollaborative.org/event/paint-like-a-woman/2024-03-20/
LOCATION:Temple Beth-El\, 70 Orchard Avenue\, Providence\, RI\, United States
CATEGORIES:Courses
END:VEVENT
BEGIN:VEVENT
DTSTART;TZID=America/New_York:20240320T120000
DTEND;TZID=America/New_York:20240320T150000
DTSTAMP:20260421T192051
CREATED:20240129T131817Z
LAST-MODIFIED:20240129T131817Z
UID:10001694-1710936000-1710946800@www.lifelonglearningcollaborative.org
SUMMARY:B&W Photography
DESCRIPTION:
URL:https://www.lifelonglearningcollaborative.org/event/bw-photography/2024-03-20/
LOCATION:Temple Beth-El\, 70 Orchard Avenue\, Providence\, RI\, United States
CATEGORIES:Courses
END:VEVENT
BEGIN:VEVENT
DTSTART;TZID=America/New_York:20240320T130000
DTEND;TZID=America/New_York:20240320T150000
DTSTAMP:20260421T192051
CREATED:20240129T131942Z
LAST-MODIFIED:20240129T131942Z
UID:10001704-1710939600-1710946800@www.lifelonglearningcollaborative.org
SUMMARY:Hot Topics
DESCRIPTION:
URL:https://www.lifelonglearningcollaborative.org/event/hot-topics-3-4/2024-03-20/
LOCATION:Temple Beth-El\, 70 Orchard Avenue\, Providence\, RI\, United States
CATEGORIES:Courses
END:VEVENT
BEGIN:VEVENT
DTSTART;TZID=America/New_York:20240320T130000
DTEND;TZID=America/New_York:20240320T150000
DTSTAMP:20260421T192051
CREATED:20240129T132041Z
LAST-MODIFIED:20240129T132041Z
UID:10001713-1710939600-1710946800@www.lifelonglearningcollaborative.org
SUMMARY:Wilson Plays
DESCRIPTION:
URL:https://www.lifelonglearningcollaborative.org/event/wilson-plays/2024-03-20/
LOCATION:Temple Beth-El\, 70 Orchard Avenue\, Providence\, RI\, United States
CATEGORIES:Courses
END:VEVENT
BEGIN:VEVENT
DTSTART;TZID=America/New_York:20240320T130000
DTEND;TZID=America/New_York:20240320T150000
DTSTAMP:20260421T192051
CREATED:20240129T132153Z
LAST-MODIFIED:20240129T132153Z
UID:10001723-1710939600-1710946800@www.lifelonglearningcollaborative.org
SUMMARY:LLC Knits
DESCRIPTION:
URL:https://www.lifelonglearningcollaborative.org/event/llc-knits-3-4/2024-03-20/
LOCATION:Temple Beth-El\, 70 Orchard Avenue\, Providence\, RI\, United States
CATEGORIES:Courses
END:VEVENT
BEGIN:VEVENT
DTSTART;TZID=America/New_York:20240320T160000
DTEND;TZID=America/New_York:20240320T170000
DTSTAMP:20260421T192051
CREATED:20240227T153030Z
LAST-MODIFIED:20240227T153030Z
UID:10001802-1710950400-1710954000@www.lifelonglearningcollaborative.org
SUMMARY:Brown Bag Webinar w/ Marjorie Turner Hollman\, Author
DESCRIPTION:“Do You Want to Take an Easy Walk?” \nInterested in an easy walk? Discover what an easy walk entails with the insight of Marjorie Turner Hollman. She describes it as a path with few obstacles like roots or rocks\, mostly flat terrain with stable footing and plenty of captivating sights. Join Marjorie on a virtual tour to various accessible and engaging walking spots in and around Providence. This presentation also covers disability and mobility access. \nMarjorie Turner Hollman is a freelance writer/developmental editor who loves the outdoors. Paralyzed after life-saving brain surgery\, she regained her ability to walk with support and now uses hiking poles to help maintain her balance on the trail. She has completed multiple books in the Easy Walks trail guide series. My Liturgy of Easy Walks is her memoir\, meditations of learning to live in a changed life. Media appearances include the ABC news show Chronicle; Boston’s CBS Channel 4 and the Boston Globe.
URL:https://www.lifelonglearningcollaborative.org/event/brown-bag-webinar-w-marjorie-turner-hollman-author/
LOCATION:ZOOM
CATEGORIES:Free Webinars
END:VEVENT
BEGIN:VEVENT
DTSTART;TZID=America/New_York:20240321T080000
DTEND;TZID=America/New_York:20240321T170000
DTSTAMP:20260421T192051
CREATED:20240129T132743Z
LAST-MODIFIED:20240129T132743Z
UID:10001764-1711008000-1711040400@www.lifelonglearningcollaborative.org
SUMMARY:Prov Libraries
DESCRIPTION:
URL:https://www.lifelonglearningcollaborative.org/event/prov-libraries/2024-03-21/
LOCATION:RI
CATEGORIES:Courses
END:VEVENT
BEGIN:VEVENT
DTSTART;TZID=America/New_York:20240321T100000
DTEND;TZID=America/New_York:20240321T120000
DTSTAMP:20260421T192051
CREATED:20240129T132337Z
LAST-MODIFIED:20240129T132337Z
UID:10001733-1711015200-1711022400@www.lifelonglearningcollaborative.org
SUMMARY:Elemental
DESCRIPTION:
URL:https://www.lifelonglearningcollaborative.org/event/elemental/
LOCATION:ZOOM
CATEGORIES:Courses
END:VEVENT
BEGIN:VEVENT
DTSTART;TZID=America/New_York:20240321T100000
DTEND;TZID=America/New_York:20240321T120000
DTSTAMP:20260421T192051
CREATED:20240129T132418Z
LAST-MODIFIED:20240129T132418Z
UID:10001734-1711015200-1711022400@www.lifelonglearningcollaborative.org
SUMMARY:Theater Conversations
DESCRIPTION:
URL:https://www.lifelonglearningcollaborative.org/event/theater-conversations-2/2024-03-21/
LOCATION:Temple Beth-El\, 70 Orchard Avenue\, Providence\, RI\, United States
CATEGORIES:Courses
END:VEVENT
BEGIN:VEVENT
DTSTART;TZID=America/New_York:20240321T100000
DTEND;TZID=America/New_York:20240321T120000
DTSTAMP:20260421T192051
CREATED:20240129T132516Z
LAST-MODIFIED:20240129T132516Z
UID:10001744-1711015200-1711022400@www.lifelonglearningcollaborative.org
SUMMARY:Connections TBE
DESCRIPTION:
URL:https://www.lifelonglearningcollaborative.org/event/connections-tbe/2024-03-21/
LOCATION:Temple Beth-El\, 70 Orchard Avenue\, Providence\, RI\, United States
CATEGORIES:Courses
END:VEVENT
BEGIN:VEVENT
DTSTART;TZID=America/New_York:20240321T130000
DTEND;TZID=America/New_York:20240321T150000
DTSTAMP:20260421T192051
CREATED:20240129T132650Z
LAST-MODIFIED:20240129T132650Z
UID:10001754-1711026000-1711033200@www.lifelonglearningcollaborative.org
SUMMARY:Writing a Memoir
DESCRIPTION:
URL:https://www.lifelonglearningcollaborative.org/event/writing-a-memoir-3-3/2024-03-21/
LOCATION:Temple Beth-El\, 70 Orchard Avenue\, Providence\, RI\, United States
CATEGORIES:Courses
END:VEVENT
BEGIN:VEVENT
DTSTART;TZID=America/New_York:20240322T100000
DTEND;TZID=America/New_York:20240322T120000
DTSTAMP:20260421T192052
CREATED:20240129T132937Z
LAST-MODIFIED:20240129T132937Z
UID:10001774-1711101600-1711108800@www.lifelonglearningcollaborative.org
SUMMARY:Being Human
DESCRIPTION:
URL:https://www.lifelonglearningcollaborative.org/event/being-human/
LOCATION:Temple Beth-El\, 70 Orchard Avenue\, Providence\, RI\, United States
CATEGORIES:Courses
END:VEVENT
BEGIN:VEVENT
DTSTART;TZID=America/New_York:20240322T100000
DTEND;TZID=America/New_York:20240322T230000
DTSTAMP:20260421T192052
CREATED:20240129T133040Z
LAST-MODIFIED:20240426T124858Z
UID:10001775-1711101600-1711148400@www.lifelonglearningcollaborative.org
SUMMARY:Get Fit at Home
DESCRIPTION:
URL:https://www.lifelonglearningcollaborative.org/event/get-fit-at-home-3-5/2024-03-22/
LOCATION:ZOOM
CATEGORIES:Courses
END:VEVENT
BEGIN:VEVENT
DTSTART;TZID=America/New_York:20240325T100000
DTEND;TZID=America/New_York:20240325T120000
DTSTAMP:20260421T192052
CREATED:20240129T130121Z
LAST-MODIFIED:20240129T130121Z
UID:10001577-1711360800-1711368000@www.lifelonglearningcollaborative.org
SUMMARY:Open Studio Art
DESCRIPTION:
URL:https://www.lifelonglearningcollaborative.org/event/open-studio-art-12/2024-03-25/
LOCATION:ZOOM
CATEGORIES:Courses
END:VEVENT
BEGIN:VEVENT
DTSTART;TZID=America/New_York:20240325T130000
DTEND;TZID=America/New_York:20240325T150000
DTSTAMP:20260421T192052
CREATED:20230717T130815Z
LAST-MODIFIED:20240715T142005Z
UID:10000858-1711371600-1711378800@www.lifelonglearningcollaborative.org
SUMMARY:Book Club
DESCRIPTION:
URL:https://www.lifelonglearningcollaborative.org/event/book-club/2024-03-25/
LOCATION:ZOOM
CATEGORIES:Courses
END:VEVENT
BEGIN:VEVENT
DTSTART;TZID=America/New_York:20240326T100000
DTEND;TZID=America/New_York:20240326T120000
DTSTAMP:20260421T192052
CREATED:20240129T130221Z
LAST-MODIFIED:20240129T130246Z
UID:10001587-1711447200-1711454400@www.lifelonglearningcollaborative.org
SUMMARY:Overlooked No More
DESCRIPTION:
URL:https://www.lifelonglearningcollaborative.org/event/overlooked-no-more/2024-03-26/
LOCATION:Temple Beth-El\, 70 Orchard Avenue\, Providence\, RI\, United States
CATEGORIES:Courses
END:VEVENT
BEGIN:VEVENT
DTSTART;TZID=America/New_York:20240326T100000
DTEND;TZID=America/New_York:20240326T120000
DTSTAMP:20260421T192052
CREATED:20240129T130504Z
LAST-MODIFIED:20240305T141052Z
UID:10001596-1711447200-1711454400@www.lifelonglearningcollaborative.org
SUMMARY:Opera Ensembles
DESCRIPTION:
URL:https://www.lifelonglearningcollaborative.org/event/opera-ensembles/2024-03-26/
LOCATION:Temple Beth-El\, 70 Orchard Avenue\, Providence\, RI\, United States
CATEGORIES:Courses
END:VEVENT
BEGIN:VEVENT
DTSTART;TZID=America/New_York:20240326T100000
DTEND;TZID=America/New_York:20240326T120000
DTSTAMP:20260421T192052
CREATED:20240129T130634Z
LAST-MODIFIED:20240305T141151Z
UID:10001605-1711447200-1711454400@www.lifelonglearningcollaborative.org
SUMMARY:A.I. Hybrid
DESCRIPTION:
URL:https://www.lifelonglearningcollaborative.org/event/a-i-hybrid/2024-03-26/
LOCATION:Temple Beth-El\, 70 Orchard Avenue\, Providence\, RI\, United States
CATEGORIES:Courses
END:VEVENT
BEGIN:VEVENT
DTSTART;TZID=America/New_York:20240326T100000
DTEND;TZID=America/New_York:20240326T120000
DTSTAMP:20260421T192052
CREATED:20240129T130805Z
LAST-MODIFIED:20240129T130805Z
UID:10001614-1711447200-1711454400@www.lifelonglearningcollaborative.org
SUMMARY:Connections (Zoom)
DESCRIPTION:
URL:https://www.lifelonglearningcollaborative.org/event/connections-zoom/2024-03-26/
LOCATION:ZOOM
CATEGORIES:Courses
END:VEVENT
BEGIN:VEVENT
DTSTART;TZID=America/New_York:20240326T130000
DTEND;TZID=America/New_York:20240326T150000
DTSTAMP:20260421T192052
CREATED:20240129T130911Z
LAST-MODIFIED:20240305T141222Z
UID:10001624-1711458000-1711465200@www.lifelonglearningcollaborative.org
SUMMARY:Cell Phone Photo
DESCRIPTION:
URL:https://www.lifelonglearningcollaborative.org/event/cell-phone-photo-2/2024-03-26/
LOCATION:Temple Beth-El\, 70 Orchard Avenue\, Providence\, RI\, United States
CATEGORIES:Courses
END:VEVENT
BEGIN:VEVENT
DTSTART;TZID=America/New_York:20240326T151500
DTEND;TZID=America/New_York:20240326T171500
DTSTAMP:20260421T192052
CREATED:20240129T131129Z
LAST-MODIFIED:20240305T141247Z
UID:10001635-1711466100-1711473300@www.lifelonglearningcollaborative.org
SUMMARY:Scrabble
DESCRIPTION:
URL:https://www.lifelonglearningcollaborative.org/event/scrabble-11/2024-03-26/
LOCATION:Temple Beth-El\, 70 Orchard Avenue\, Providence\, RI\, United States
CATEGORIES:Courses
END:VEVENT
BEGIN:VEVENT
DTSTART;TZID=America/New_York:20240327T100000
DTEND;TZID=America/New_York:20240327T120000
DTSTAMP:20260421T192052
CREATED:20240129T131213Z
LAST-MODIFIED:20240129T131213Z
UID:10001645-1711533600-1711540800@www.lifelonglearningcollaborative.org
SUMMARY:Contemporary Plays
DESCRIPTION:
URL:https://www.lifelonglearningcollaborative.org/event/contemporary-plays/2024-03-27/
LOCATION:Temple Beth-El\, 70 Orchard Avenue\, Providence\, RI\, United States
CATEGORIES:Courses
END:VEVENT
BEGIN:VEVENT
DTSTART;TZID=America/New_York:20240327T100000
DTEND;TZID=America/New_York:20240327T120000
DTSTAMP:20260421T192052
CREATED:20240129T131310Z
LAST-MODIFIED:20240129T131310Z
UID:10001655-1711533600-1711540800@www.lifelonglearningcollaborative.org
SUMMARY:Structures
DESCRIPTION:
URL:https://www.lifelonglearningcollaborative.org/event/structures/2024-03-27/
LOCATION:Temple Beth-El\, 70 Orchard Avenue\, Providence\, RI\, United States
CATEGORIES:Courses
END:VEVENT
BEGIN:VEVENT
DTSTART;TZID=America/New_York:20240327T100000
DTEND;TZID=America/New_York:20240327T120000
DTSTAMP:20260421T192052
CREATED:20240129T131416Z
LAST-MODIFIED:20240129T131416Z
UID:10001665-1711533600-1711540800@www.lifelonglearningcollaborative.org
SUMMARY:Write On Workshop
DESCRIPTION:
URL:https://www.lifelonglearningcollaborative.org/event/write-on-workshop/2024-03-27/
LOCATION:Regency Plaza Apartments\, RI\, United States
CATEGORIES:Courses
END:VEVENT
BEGIN:VEVENT
DTSTART;TZID=America/New_York:20240327T100000
DTEND;TZID=America/New_York:20240327T120000
DTSTAMP:20260421T192052
CREATED:20240129T131520Z
LAST-MODIFIED:20240129T131520Z
UID:10001675-1711533600-1711540800@www.lifelonglearningcollaborative.org
SUMMARY:Paint Like a Woman
DESCRIPTION:
URL:https://www.lifelonglearningcollaborative.org/event/paint-like-a-woman/2024-03-27/
LOCATION:Temple Beth-El\, 70 Orchard Avenue\, Providence\, RI\, United States
CATEGORIES:Courses
END:VEVENT
BEGIN:VEVENT
DTSTART;TZID=America/New_York:20240327T120000
DTEND;TZID=America/New_York:20240327T150000
DTSTAMP:20260421T192052
CREATED:20240129T131817Z
LAST-MODIFIED:20240129T131817Z
UID:10001695-1711540800-1711551600@www.lifelonglearningcollaborative.org
SUMMARY:B&W Photography
DESCRIPTION:
URL:https://www.lifelonglearningcollaborative.org/event/bw-photography/2024-03-27/
LOCATION:Temple Beth-El\, 70 Orchard Avenue\, Providence\, RI\, United States
CATEGORIES:Courses
END:VEVENT
BEGIN:VEVENT
DTSTART;TZID=America/New_York:20240327T130000
DTEND;TZID=America/New_York:20240327T150000
DTSTAMP:20260421T192052
CREATED:20240129T131942Z
LAST-MODIFIED:20240129T131942Z
UID:10001705-1711544400-1711551600@www.lifelonglearningcollaborative.org
SUMMARY:Hot Topics
DESCRIPTION:
URL:https://www.lifelonglearningcollaborative.org/event/hot-topics-3-4/2024-03-27/
LOCATION:Temple Beth-El\, 70 Orchard Avenue\, Providence\, RI\, United States
CATEGORIES:Courses
END:VEVENT
BEGIN:VEVENT
DTSTART;TZID=America/New_York:20240327T130000
DTEND;TZID=America/New_York:20240327T150000
DTSTAMP:20260421T192052
CREATED:20240129T132041Z
LAST-MODIFIED:20240129T132041Z
UID:10001714-1711544400-1711551600@www.lifelonglearningcollaborative.org
SUMMARY:Wilson Plays
DESCRIPTION:
URL:https://www.lifelonglearningcollaborative.org/event/wilson-plays/2024-03-27/
LOCATION:Temple Beth-El\, 70 Orchard Avenue\, Providence\, RI\, United States
CATEGORIES:Courses
END:VEVENT
BEGIN:VEVENT
DTSTART;TZID=America/New_York:20240327T130000
DTEND;TZID=America/New_York:20240327T150000
DTSTAMP:20260421T192052
CREATED:20240129T132153Z
LAST-MODIFIED:20240129T132153Z
UID:10001724-1711544400-1711551600@www.lifelonglearningcollaborative.org
SUMMARY:LLC Knits
DESCRIPTION:
URL:https://www.lifelonglearningcollaborative.org/event/llc-knits-3-4/2024-03-27/
LOCATION:Temple Beth-El\, 70 Orchard Avenue\, Providence\, RI\, United States
CATEGORIES:Courses
END:VEVENT
END:VCALENDAR