BEGIN:VCALENDAR
VERSION:2.0
PRODID:-//Lifelong Learning Collaborative - ECPv6.15.12.2//NONSGML v1.0//EN
CALSCALE:GREGORIAN
METHOD:PUBLISH
X-WR-CALNAME:Lifelong Learning Collaborative
X-ORIGINAL-URL:https://www.lifelonglearningcollaborative.org
X-WR-CALDESC:Events for Lifelong Learning Collaborative
REFRESH-INTERVAL;VALUE=DURATION:PT1H
X-Robots-Tag:noindex
X-PUBLISHED-TTL:PT1H
BEGIN:VTIMEZONE
TZID:America/New_York
BEGIN:DAYLIGHT
TZOFFSETFROM:-0500
TZOFFSETTO:-0400
TZNAME:EDT
DTSTART:20230312T070000
END:DAYLIGHT
BEGIN:STANDARD
TZOFFSETFROM:-0400
TZOFFSETTO:-0500
TZNAME:EST
DTSTART:20231105T060000
END:STANDARD
BEGIN:DAYLIGHT
TZOFFSETFROM:-0500
TZOFFSETTO:-0400
TZNAME:EDT
DTSTART:20240310T070000
END:DAYLIGHT
BEGIN:STANDARD
TZOFFSETFROM:-0400
TZOFFSETTO:-0500
TZNAME:EST
DTSTART:20241103T060000
END:STANDARD
BEGIN:DAYLIGHT
TZOFFSETFROM:-0500
TZOFFSETTO:-0400
TZNAME:EDT
DTSTART:20250309T070000
END:DAYLIGHT
BEGIN:STANDARD
TZOFFSETFROM:-0400
TZOFFSETTO:-0500
TZNAME:EST
DTSTART:20251102T060000
END:STANDARD
END:VTIMEZONE
BEGIN:VEVENT
DTSTART;TZID=America/New_York:20240424T120000
DTEND;TZID=America/New_York:20240424T150000
DTSTAMP:20260421T174219
CREATED:20240129T131817Z
LAST-MODIFIED:20240129T131817Z
UID:10001699-1713960000-1713970800@www.lifelonglearningcollaborative.org
SUMMARY:B&W Photography
DESCRIPTION:
URL:https://www.lifelonglearningcollaborative.org/event/bw-photography/2024-04-24/
LOCATION:Temple Beth-El\, 70 Orchard Avenue\, Providence\, RI\, United States
CATEGORIES:Courses
END:VEVENT
BEGIN:VEVENT
DTSTART;TZID=America/New_York:20240424T130000
DTEND;TZID=America/New_York:20240424T150000
DTSTAMP:20260421T174219
CREATED:20240129T131942Z
LAST-MODIFIED:20240129T131942Z
UID:10001709-1713963600-1713970800@www.lifelonglearningcollaborative.org
SUMMARY:Hot Topics
DESCRIPTION:
URL:https://www.lifelonglearningcollaborative.org/event/hot-topics-3-4/2024-04-24/
LOCATION:Temple Beth-El\, 70 Orchard Avenue\, Providence\, RI\, United States
CATEGORIES:Courses
END:VEVENT
BEGIN:VEVENT
DTSTART;TZID=America/New_York:20240424T130000
DTEND;TZID=America/New_York:20240424T150000
DTSTAMP:20260421T174219
CREATED:20240129T132041Z
LAST-MODIFIED:20240129T132041Z
UID:10001718-1713963600-1713970800@www.lifelonglearningcollaborative.org
SUMMARY:Wilson Plays
DESCRIPTION:
URL:https://www.lifelonglearningcollaborative.org/event/wilson-plays/2024-04-24/
LOCATION:Temple Beth-El\, 70 Orchard Avenue\, Providence\, RI\, United States
CATEGORIES:Courses
END:VEVENT
BEGIN:VEVENT
DTSTART;TZID=America/New_York:20240424T130000
DTEND;TZID=America/New_York:20240424T150000
DTSTAMP:20260421T174219
CREATED:20240129T132153Z
LAST-MODIFIED:20240129T132153Z
UID:10001728-1713963600-1713970800@www.lifelonglearningcollaborative.org
SUMMARY:LLC Knits
DESCRIPTION:
URL:https://www.lifelonglearningcollaborative.org/event/llc-knits-3-4/2024-04-24/
LOCATION:Temple Beth-El\, 70 Orchard Avenue\, Providence\, RI\, United States
CATEGORIES:Courses
END:VEVENT
BEGIN:VEVENT
DTSTART;TZID=America/New_York:20240425T080000
DTEND;TZID=America/New_York:20240425T170000
DTSTAMP:20260421T174219
CREATED:20240129T132743Z
LAST-MODIFIED:20240129T132743Z
UID:10001769-1714032000-1714064400@www.lifelonglearningcollaborative.org
SUMMARY:Prov Libraries
DESCRIPTION:
URL:https://www.lifelonglearningcollaborative.org/event/prov-libraries/2024-04-25/
LOCATION:RI
CATEGORIES:Courses
END:VEVENT
BEGIN:VEVENT
DTSTART;TZID=America/New_York:20240425T100000
DTEND;TZID=America/New_York:20240425T120000
DTSTAMP:20260421T174219
CREATED:20240129T132418Z
LAST-MODIFIED:20240129T132418Z
UID:10001739-1714039200-1714046400@www.lifelonglearningcollaborative.org
SUMMARY:Theater Conversations
DESCRIPTION:
URL:https://www.lifelonglearningcollaborative.org/event/theater-conversations-2/2024-04-25/
LOCATION:Temple Beth-El\, 70 Orchard Avenue\, Providence\, RI\, United States
CATEGORIES:Courses
END:VEVENT
BEGIN:VEVENT
DTSTART;TZID=America/New_York:20240425T100000
DTEND;TZID=America/New_York:20240425T120000
DTSTAMP:20260421T174219
CREATED:20240129T132516Z
LAST-MODIFIED:20240129T132516Z
UID:10001749-1714039200-1714046400@www.lifelonglearningcollaborative.org
SUMMARY:Connections TBE
DESCRIPTION:
URL:https://www.lifelonglearningcollaborative.org/event/connections-tbe/2024-04-25/
LOCATION:Temple Beth-El\, 70 Orchard Avenue\, Providence\, RI\, United States
CATEGORIES:Courses
END:VEVENT
BEGIN:VEVENT
DTSTART;TZID=America/New_York:20240425T130000
DTEND;TZID=America/New_York:20240425T150000
DTSTAMP:20260421T174219
CREATED:20240129T132650Z
LAST-MODIFIED:20240129T132650Z
UID:10001759-1714050000-1714057200@www.lifelonglearningcollaborative.org
SUMMARY:Writing a Memoir
DESCRIPTION:
URL:https://www.lifelonglearningcollaborative.org/event/writing-a-memoir-3-3/2024-04-25/
LOCATION:Temple Beth-El\, 70 Orchard Avenue\, Providence\, RI\, United States
CATEGORIES:Courses
END:VEVENT
BEGIN:VEVENT
DTSTART;TZID=America/New_York:20240426T100000
DTEND;TZID=America/New_York:20240426T110000
DTSTAMP:20260421T174219
CREATED:20240530T121606Z
LAST-MODIFIED:20240426T122616Z
UID:10001816-1714125600-1714129200@www.lifelonglearningcollaborative.org
SUMMARY:2024 Annual Meeting
DESCRIPTION:
URL:https://www.lifelonglearningcollaborative.org/event/2024-annual-meeting/
LOCATION:ZOOM
CATEGORIES:Annual Meetings
END:VEVENT
BEGIN:VEVENT
DTSTART;TZID=America/New_York:20240426T100000
DTEND;TZID=America/New_York:20240426T120000
DTSTAMP:20260421T174219
CREATED:20240129T133243Z
LAST-MODIFIED:20240129T133243Z
UID:10001786-1714125600-1714132800@www.lifelonglearningcollaborative.org
SUMMARY:Public Art & the City
DESCRIPTION:
URL:https://www.lifelonglearningcollaborative.org/event/public-art-the-city/2024-04-26/
LOCATION:Temple Beth-El\, 70 Orchard Avenue\, Providence\, RI\, United States
CATEGORIES:Courses
END:VEVENT
BEGIN:VEVENT
DTSTART;TZID=America/New_York:20240426T100000
DTEND;TZID=America/New_York:20240426T230000
DTSTAMP:20260421T174219
CREATED:20240129T133040Z
LAST-MODIFIED:20240426T124858Z
UID:10001780-1714125600-1714172400@www.lifelonglearningcollaborative.org
SUMMARY:Get Fit at Home
DESCRIPTION:
URL:https://www.lifelonglearningcollaborative.org/event/get-fit-at-home-3-5/2024-04-26/
LOCATION:ZOOM
CATEGORIES:Courses
END:VEVENT
BEGIN:VEVENT
DTSTART;TZID=America/New_York:20240429T100000
DTEND;TZID=America/New_York:20240429T120000
DTSTAMP:20260421T174219
CREATED:20240129T130121Z
LAST-MODIFIED:20240129T130121Z
UID:10001582-1714384800-1714392000@www.lifelonglearningcollaborative.org
SUMMARY:Open Studio Art
DESCRIPTION:
URL:https://www.lifelonglearningcollaborative.org/event/open-studio-art-12/2024-04-29/
LOCATION:ZOOM
CATEGORIES:Courses
END:VEVENT
BEGIN:VEVENT
DTSTART;TZID=America/New_York:20240429T160000
DTEND;TZID=America/New_York:20240429T170000
DTSTAMP:20260421T174219
CREATED:20240227T153441Z
LAST-MODIFIED:20240227T153441Z
UID:10001806-1714406400-1714410000@www.lifelonglearningcollaborative.org
SUMMARY:Brown Bag Webinar w/Steve Kidd
DESCRIPTION:Sigh/Omelas\nA live one man show – Written and Performed by Steve Kidd \nSteve Kidd drew inspiration for his play from the stories of the young individuals he encountered and guided at Camp AmeriKids\, a free summer camp in upstate NY for children living with AIDS/HIV. These stories\, filled with themes of love\, longing and loss\, are intertwined with a short story by renowned sci-fi writer Ursula K. LeGuin\, called “The Ones who Walk Away from Omelas.” \nSince his first performance of the show in 2001\, Steve Kidd has won the Lewis Hine Award in 2008 for dedicated work on behalf of children in need and performed it well over 1\,000 times for schools\, colleges\, friends\, interested citizens and anyone who wants to hear it. To him\, it is a joy to share these memories and stories of children whose lives were cut short by the HIV virus.
URL:https://www.lifelonglearningcollaborative.org/event/brown-bag-webinar-w-steve-kidd/
LOCATION:ZOOM
CATEGORIES:Free Webinars
END:VEVENT
BEGIN:VEVENT
DTSTART;TZID=America/New_York:20240430T100000
DTEND;TZID=America/New_York:20240430T120000
DTSTAMP:20260421T174219
CREATED:20240129T130221Z
LAST-MODIFIED:20240129T130246Z
UID:10001592-1714471200-1714478400@www.lifelonglearningcollaborative.org
SUMMARY:Overlooked No More
DESCRIPTION:
URL:https://www.lifelonglearningcollaborative.org/event/overlooked-no-more/2024-04-30/
LOCATION:Temple Beth-El\, 70 Orchard Avenue\, Providence\, RI\, United States
CATEGORIES:Courses
END:VEVENT
BEGIN:VEVENT
DTSTART;TZID=America/New_York:20240430T100000
DTEND;TZID=America/New_York:20240430T120000
DTSTAMP:20260421T174219
CREATED:20240129T130504Z
LAST-MODIFIED:20240305T141052Z
UID:10001601-1714471200-1714478400@www.lifelonglearningcollaborative.org
SUMMARY:Opera Ensembles
DESCRIPTION:
URL:https://www.lifelonglearningcollaborative.org/event/opera-ensembles/2024-04-30/
LOCATION:Temple Beth-El\, 70 Orchard Avenue\, Providence\, RI\, United States
CATEGORIES:Courses
END:VEVENT
BEGIN:VEVENT
DTSTART;TZID=America/New_York:20240430T100000
DTEND;TZID=America/New_York:20240430T120000
DTSTAMP:20260421T174219
CREATED:20240129T130634Z
LAST-MODIFIED:20240305T141151Z
UID:10001610-1714471200-1714478400@www.lifelonglearningcollaborative.org
SUMMARY:A.I. Hybrid
DESCRIPTION:
URL:https://www.lifelonglearningcollaborative.org/event/a-i-hybrid/2024-04-30/
LOCATION:Temple Beth-El\, 70 Orchard Avenue\, Providence\, RI\, United States
CATEGORIES:Courses
END:VEVENT
BEGIN:VEVENT
DTSTART;TZID=America/New_York:20240430T100000
DTEND;TZID=America/New_York:20240430T120000
DTSTAMP:20260421T174219
CREATED:20240129T130805Z
LAST-MODIFIED:20240129T130805Z
UID:10001619-1714471200-1714478400@www.lifelonglearningcollaborative.org
SUMMARY:Connections (Zoom)
DESCRIPTION:
URL:https://www.lifelonglearningcollaborative.org/event/connections-zoom/2024-04-30/
LOCATION:ZOOM
CATEGORIES:Courses
END:VEVENT
BEGIN:VEVENT
DTSTART;TZID=America/New_York:20240430T130000
DTEND;TZID=America/New_York:20240430T150000
DTSTAMP:20260421T174219
CREATED:20240129T130911Z
LAST-MODIFIED:20240305T141222Z
UID:10001629-1714482000-1714489200@www.lifelonglearningcollaborative.org
SUMMARY:Cell Phone Photo
DESCRIPTION:
URL:https://www.lifelonglearningcollaborative.org/event/cell-phone-photo-2/2024-04-30/
LOCATION:Temple Beth-El\, 70 Orchard Avenue\, Providence\, RI\, United States
CATEGORIES:Courses
END:VEVENT
BEGIN:VEVENT
DTSTART;TZID=America/New_York:20240430T151500
DTEND;TZID=America/New_York:20240430T171500
DTSTAMP:20260421T174219
CREATED:20240129T131129Z
LAST-MODIFIED:20240305T141247Z
UID:10001640-1714490100-1714497300@www.lifelonglearningcollaborative.org
SUMMARY:Scrabble
DESCRIPTION:
URL:https://www.lifelonglearningcollaborative.org/event/scrabble-11/2024-04-30/
LOCATION:Temple Beth-El\, 70 Orchard Avenue\, Providence\, RI\, United States
CATEGORIES:Courses
END:VEVENT
BEGIN:VEVENT
DTSTART;TZID=America/New_York:20240501T100000
DTEND;TZID=America/New_York:20240501T120000
DTSTAMP:20260421T174219
CREATED:20240129T131213Z
LAST-MODIFIED:20240129T131213Z
UID:10001650-1714557600-1714564800@www.lifelonglearningcollaborative.org
SUMMARY:Contemporary Plays
DESCRIPTION:
URL:https://www.lifelonglearningcollaborative.org/event/contemporary-plays/2024-05-01/
LOCATION:Temple Beth-El\, 70 Orchard Avenue\, Providence\, RI\, United States
CATEGORIES:Courses
END:VEVENT
BEGIN:VEVENT
DTSTART;TZID=America/New_York:20240501T100000
DTEND;TZID=America/New_York:20240501T120000
DTSTAMP:20260421T174219
CREATED:20240129T131310Z
LAST-MODIFIED:20240129T131310Z
UID:10001660-1714557600-1714564800@www.lifelonglearningcollaborative.org
SUMMARY:Structures
DESCRIPTION:
URL:https://www.lifelonglearningcollaborative.org/event/structures/2024-05-01/
LOCATION:Temple Beth-El\, 70 Orchard Avenue\, Providence\, RI\, United States
CATEGORIES:Courses
END:VEVENT
BEGIN:VEVENT
DTSTART;TZID=America/New_York:20240501T100000
DTEND;TZID=America/New_York:20240501T120000
DTSTAMP:20260421T174219
CREATED:20240129T131416Z
LAST-MODIFIED:20240129T131416Z
UID:10001670-1714557600-1714564800@www.lifelonglearningcollaborative.org
SUMMARY:Write On Workshop
DESCRIPTION:
URL:https://www.lifelonglearningcollaborative.org/event/write-on-workshop/2024-05-01/
LOCATION:Regency Plaza Apartments\, RI\, United States
CATEGORIES:Courses
END:VEVENT
BEGIN:VEVENT
DTSTART;TZID=America/New_York:20240501T100000
DTEND;TZID=America/New_York:20240501T120000
DTSTAMP:20260421T174219
CREATED:20240129T131520Z
LAST-MODIFIED:20240129T131520Z
UID:10001680-1714557600-1714564800@www.lifelonglearningcollaborative.org
SUMMARY:Paint Like a Woman
DESCRIPTION:
URL:https://www.lifelonglearningcollaborative.org/event/paint-like-a-woman/2024-05-01/
LOCATION:Temple Beth-El\, 70 Orchard Avenue\, Providence\, RI\, United States
CATEGORIES:Courses
END:VEVENT
BEGIN:VEVENT
DTSTART;TZID=America/New_York:20240501T120000
DTEND;TZID=America/New_York:20240501T150000
DTSTAMP:20260421T174219
CREATED:20240129T131817Z
LAST-MODIFIED:20240129T131817Z
UID:10001700-1714564800-1714575600@www.lifelonglearningcollaborative.org
SUMMARY:B&W Photography
DESCRIPTION:
URL:https://www.lifelonglearningcollaborative.org/event/bw-photography/2024-05-01/
LOCATION:Temple Beth-El\, 70 Orchard Avenue\, Providence\, RI\, United States
CATEGORIES:Courses
END:VEVENT
BEGIN:VEVENT
DTSTART;TZID=America/New_York:20240501T130000
DTEND;TZID=America/New_York:20240501T150000
DTSTAMP:20260421T174219
CREATED:20240129T131942Z
LAST-MODIFIED:20240129T131942Z
UID:10001710-1714568400-1714575600@www.lifelonglearningcollaborative.org
SUMMARY:Hot Topics
DESCRIPTION:
URL:https://www.lifelonglearningcollaborative.org/event/hot-topics-3-4/2024-05-01/
LOCATION:Temple Beth-El\, 70 Orchard Avenue\, Providence\, RI\, United States
CATEGORIES:Courses
END:VEVENT
BEGIN:VEVENT
DTSTART;TZID=America/New_York:20240501T130000
DTEND;TZID=America/New_York:20240501T150000
DTSTAMP:20260421T174219
CREATED:20240129T132041Z
LAST-MODIFIED:20240129T132041Z
UID:10001719-1714568400-1714575600@www.lifelonglearningcollaborative.org
SUMMARY:Wilson Plays
DESCRIPTION:
URL:https://www.lifelonglearningcollaborative.org/event/wilson-plays/2024-05-01/
LOCATION:Temple Beth-El\, 70 Orchard Avenue\, Providence\, RI\, United States
CATEGORIES:Courses
END:VEVENT
BEGIN:VEVENT
DTSTART;TZID=America/New_York:20240501T130000
DTEND;TZID=America/New_York:20240501T150000
DTSTAMP:20260421T174219
CREATED:20240129T132153Z
LAST-MODIFIED:20240129T132153Z
UID:10001729-1714568400-1714575600@www.lifelonglearningcollaborative.org
SUMMARY:LLC Knits
DESCRIPTION:
URL:https://www.lifelonglearningcollaborative.org/event/llc-knits-3-4/2024-05-01/
LOCATION:Temple Beth-El\, 70 Orchard Avenue\, Providence\, RI\, United States
CATEGORIES:Courses
END:VEVENT
BEGIN:VEVENT
DTSTART;TZID=America/New_York:20240502T080000
DTEND;TZID=America/New_York:20240502T170000
DTSTAMP:20260421T174219
CREATED:20240129T132743Z
LAST-MODIFIED:20240129T132743Z
UID:10001770-1714636800-1714669200@www.lifelonglearningcollaborative.org
SUMMARY:Prov Libraries
DESCRIPTION:
URL:https://www.lifelonglearningcollaborative.org/event/prov-libraries/2024-05-02/
LOCATION:RI
CATEGORIES:Courses
END:VEVENT
BEGIN:VEVENT
DTSTART;TZID=America/New_York:20240502T100000
DTEND;TZID=America/New_York:20240502T120000
DTSTAMP:20260421T174219
CREATED:20240129T132418Z
LAST-MODIFIED:20240129T132418Z
UID:10001740-1714644000-1714651200@www.lifelonglearningcollaborative.org
SUMMARY:Theater Conversations
DESCRIPTION:
URL:https://www.lifelonglearningcollaborative.org/event/theater-conversations-2/2024-05-02/
LOCATION:Temple Beth-El\, 70 Orchard Avenue\, Providence\, RI\, United States
CATEGORIES:Courses
END:VEVENT
BEGIN:VEVENT
DTSTART;TZID=America/New_York:20240502T100000
DTEND;TZID=America/New_York:20240502T120000
DTSTAMP:20260421T174219
CREATED:20240129T132516Z
LAST-MODIFIED:20240129T132516Z
UID:10001750-1714644000-1714651200@www.lifelonglearningcollaborative.org
SUMMARY:Connections TBE
DESCRIPTION:
URL:https://www.lifelonglearningcollaborative.org/event/connections-tbe/2024-05-02/
LOCATION:Temple Beth-El\, 70 Orchard Avenue\, Providence\, RI\, United States
CATEGORIES:Courses
END:VEVENT
END:VCALENDAR