BEGIN:VCALENDAR
VERSION:2.0
PRODID:-//Lifelong Learning Collaborative - ECPv6.15.12.2//NONSGML v1.0//EN
CALSCALE:GREGORIAN
METHOD:PUBLISH
X-WR-CALNAME:Lifelong Learning Collaborative
X-ORIGINAL-URL:https://www.lifelonglearningcollaborative.org
X-WR-CALDESC:Events for Lifelong Learning Collaborative
REFRESH-INTERVAL;VALUE=DURATION:PT1H
X-Robots-Tag:noindex
X-PUBLISHED-TTL:PT1H
BEGIN:VTIMEZONE
TZID:America/New_York
BEGIN:DAYLIGHT
TZOFFSETFROM:-0500
TZOFFSETTO:-0400
TZNAME:EDT
DTSTART:20250309T070000
END:DAYLIGHT
BEGIN:STANDARD
TZOFFSETFROM:-0400
TZOFFSETTO:-0500
TZNAME:EST
DTSTART:20251102T060000
END:STANDARD
BEGIN:DAYLIGHT
TZOFFSETFROM:-0500
TZOFFSETTO:-0400
TZNAME:EDT
DTSTART:20260308T070000
END:DAYLIGHT
BEGIN:STANDARD
TZOFFSETFROM:-0400
TZOFFSETTO:-0500
TZNAME:EST
DTSTART:20261101T060000
END:STANDARD
BEGIN:DAYLIGHT
TZOFFSETFROM:-0500
TZOFFSETTO:-0400
TZNAME:EDT
DTSTART:20270314T070000
END:DAYLIGHT
BEGIN:STANDARD
TZOFFSETFROM:-0400
TZOFFSETTO:-0500
TZNAME:EST
DTSTART:20271107T060000
END:STANDARD
END:VTIMEZONE
BEGIN:VEVENT
DTSTART;TZID=America/New_York:20260316T100000
DTEND;TZID=America/New_York:20260316T120000
DTSTAMP:20260419T220619
CREATED:20260119T140307Z
LAST-MODIFIED:20260119T140307Z
UID:10003910-1773655200-1773662400@www.lifelonglearningcollaborative.org
SUMMARY:Studio Art (Zoom)
DESCRIPTION:
URL:https://www.lifelonglearningcollaborative.org/event/studio-art-zoom/2026-03-16/
LOCATION:ZOOM
CATEGORIES:Courses
END:VEVENT
BEGIN:VEVENT
DTSTART;TZID=America/New_York:20260316T100000
DTEND;TZID=America/New_York:20260316T120000
DTSTAMP:20260419T220619
CREATED:20260119T140142Z
LAST-MODIFIED:20260119T140142Z
UID:10003900-1773655200-1773662400@www.lifelonglearningcollaborative.org
SUMMARY:Russian Short Stories
DESCRIPTION:Wingate Residences\, East Side of Providence
URL:https://www.lifelonglearningcollaborative.org/event/russian-short-stories/2026-03-16/
LOCATION:RI
CATEGORIES:Courses
END:VEVENT
BEGIN:VEVENT
DTSTART;TZID=America/New_York:20260314T090000
DTEND;TZID=America/New_York:20260314T110000
DTSTAMP:20260419T220619
CREATED:20260310T161512Z
LAST-MODIFIED:20260310T161512Z
UID:10004152-1773478800-1773486000@www.lifelonglearningcollaborative.org
SUMMARY:Breakfast Club: Prov & Warren
DESCRIPTION:
URL:https://www.lifelonglearningcollaborative.org/event/breakfast-club-prov-warren/2026-03-14/
LOCATION:RI
END:VEVENT
BEGIN:VEVENT
DTSTART;TZID=America/New_York:20260313T100000
DTEND;TZID=America/New_York:20260313T110000
DTSTAMP:20260419T220619
CREATED:20260309T125358Z
LAST-MODIFIED:20260309T125423Z
UID:10004149-1773396000-1773399600@www.lifelonglearningcollaborative.org
SUMMARY:New Member Orientation (Zoom)
DESCRIPTION:
URL:https://www.lifelonglearningcollaborative.org/event/new-member-orientation-zoom/
LOCATION:ZOOM
CATEGORIES:Courses
END:VEVENT
BEGIN:VEVENT
DTSTART;TZID=America/New_York:20260312T123000
DTEND;TZID=America/New_York:20260312T153000
DTSTAMP:20260419T220619
CREATED:20260309T125709Z
LAST-MODIFIED:20260309T125709Z
UID:10004150-1773318600-1773329400@www.lifelonglearningcollaborative.org
SUMMARY:Connections & Conversations
DESCRIPTION:
URL:https://www.lifelonglearningcollaborative.org/event/connections-conversations/
LOCATION:Scottish Rite Masonic Center\, 2115 Broad Street\, Cranston\, RI\, 02905\, United States
CATEGORIES:Social Events
END:VEVENT
BEGIN:VEVENT
DTSTART;TZID=America/New_York:20260310T130000
DTEND;TZID=America/New_York:20260310T150000
DTSTAMP:20260419T220619
CREATED:20251125T141919Z
LAST-MODIFIED:20251125T141919Z
UID:10003790-1773147600-1773154800@www.lifelonglearningcollaborative.org
SUMMARY:Jewish Baking
DESCRIPTION:Private Residence in Providence
URL:https://www.lifelonglearningcollaborative.org/event/jewish-baking/2026-03-10/
LOCATION:RI
CATEGORIES:Courses
END:VEVENT
BEGIN:VEVENT
DTSTART;TZID=America/New_York:20260309T130000
DTEND;TZID=America/New_York:20260309T150000
DTSTAMP:20260419T220619
CREATED:20250714T134926Z
LAST-MODIFIED:20250714T135145Z
UID:10003405-1773061200-1773068400@www.lifelonglearningcollaborative.org
SUMMARY:Detective Novel Book Club
DESCRIPTION:
URL:https://www.lifelonglearningcollaborative.org/event/detective-novel-book-club/2026-03-09/
LOCATION:Shriners Center\, 1 Rhodes Place\, Cranston\, RI\, 02905\, United States
CATEGORIES:Courses
END:VEVENT
BEGIN:VEVENT
DTSTART;TZID=America/New_York:20260303T130000
DTEND;TZID=America/New_York:20260303T150000
DTSTAMP:20260419T220619
CREATED:20251125T141919Z
LAST-MODIFIED:20251125T141919Z
UID:10003789-1772542800-1772550000@www.lifelonglearningcollaborative.org
SUMMARY:Jewish Baking
DESCRIPTION:Private Residence in Providence
URL:https://www.lifelonglearningcollaborative.org/event/jewish-baking/2026-03-03/
LOCATION:RI
CATEGORIES:Courses
END:VEVENT
BEGIN:VEVENT
DTSTART;TZID=America/New_York:20260302T100000
DTEND;TZID=America/New_York:20260302T120000
DTSTAMP:20260419T220619
CREATED:20251125T140258Z
LAST-MODIFIED:20251125T140258Z
UID:10003729-1772445600-1772452800@www.lifelonglearningcollaborative.org
SUMMARY:Great Decisions 2026
DESCRIPTION:
URL:https://www.lifelonglearningcollaborative.org/event/great-decisions-2026/2026-03-02/
LOCATION:ZOOM
CATEGORIES:Courses
END:VEVENT
BEGIN:VEVENT
DTSTART;TZID=America/New_York:20260302T100000
DTEND;TZID=America/New_York:20260302T120000
DTSTAMP:20260419T220619
CREATED:20251124T211018Z
LAST-MODIFIED:20251124T212538Z
UID:10003712-1772445600-1772452800@www.lifelonglearningcollaborative.org
SUMMARY:Jane Austen
DESCRIPTION:
URL:https://www.lifelonglearningcollaborative.org/event/jane-austen/2026-03-02/
LOCATION:Shriners Center\, 1 Rhodes Place\, Cranston\, RI\, 02905\, United States
CATEGORIES:Courses
END:VEVENT
BEGIN:VEVENT
DTSTART;TZID=America/New_York:20260227T100000
DTEND;TZID=America/New_York:20260227T110000
DTSTAMP:20260419T220619
CREATED:20251125T144132Z
LAST-MODIFIED:20251125T144132Z
UID:10003892-1772186400-1772190000@www.lifelonglearningcollaborative.org
SUMMARY:Personal Training at Home
DESCRIPTION:
URL:https://www.lifelonglearningcollaborative.org/event/personal-training-at-home/2026-02-27/
LOCATION:ZOOM
CATEGORIES:Courses
END:VEVENT
BEGIN:VEVENT
DTSTART;TZID=America/New_York:20260226T160000
DTEND;TZID=America/New_York:20260226T170000
DTSTAMP:20260419T220619
CREATED:20251209T143917Z
LAST-MODIFIED:20251209T143917Z
UID:10003898-1772121600-1772125200@www.lifelonglearningcollaborative.org
SUMMARY:Webinar Lecture feat. Genealogist Heather Pouliot Kisilywicz
DESCRIPTION:
URL:https://www.lifelonglearningcollaborative.org/event/webinar-lecture-feat-genealogist-heather-pouliot-kisilywicz/
LOCATION:ZOOM
CATEGORIES:Free Webinars
END:VEVENT
BEGIN:VEVENT
DTSTART;TZID=America/New_York:20260226T130000
DTEND;TZID=America/New_York:20260226T150000
DTSTAMP:20260419T220619
CREATED:20251125T144029Z
LAST-MODIFIED:20251125T144029Z
UID:10003884-1772110800-1772118000@www.lifelonglearningcollaborative.org
SUMMARY:Ukraine
DESCRIPTION:Shriners and on Zoom
URL:https://www.lifelonglearningcollaborative.org/event/ukraine-2-2/2026-02-26/
LOCATION:Shriners Center\, 1 Rhodes Place\, Cranston\, RI\, 02905\, United States
CATEGORIES:Courses
END:VEVENT
BEGIN:VEVENT
DTSTART;TZID=America/New_York:20260226T130000
DTEND;TZID=America/New_York:20260226T150000
DTSTAMP:20260419T220619
CREATED:20251125T143611Z
LAST-MODIFIED:20251125T143611Z
UID:10003867-1772110800-1772118000@www.lifelonglearningcollaborative.org
SUMMARY:Collage Making
DESCRIPTION:
URL:https://www.lifelonglearningcollaborative.org/event/collage-making/2026-02-26/
LOCATION:Shriners Center\, 1 Rhodes Place\, Cranston\, RI\, 02905\, United States
CATEGORIES:Courses
END:VEVENT
BEGIN:VEVENT
DTSTART;TZID=America/New_York:20260226T130000
DTEND;TZID=America/New_York:20260226T150000
DTSTAMP:20260419T220619
CREATED:20251125T143520Z
LAST-MODIFIED:20251125T143520Z
UID:10003859-1772110800-1772118000@www.lifelonglearningcollaborative.org
SUMMARY:Writing a Memoir (Shriners)
DESCRIPTION:
URL:https://www.lifelonglearningcollaborative.org/event/writing-a-memoir-shriners/2026-02-26/
LOCATION:Shriners Center\, 1 Rhodes Place\, Cranston\, RI\, 02905\, United States
CATEGORIES:Courses
END:VEVENT
BEGIN:VEVENT
DTSTART;TZID=America/New_York:20260226T100000
DTEND;TZID=America/New_York:20260226T120000
DTSTAMP:20260419T220619
CREATED:20251125T143348Z
LAST-MODIFIED:20251125T143348Z
UID:10003851-1772100000-1772107200@www.lifelonglearningcollaborative.org
SUMMARY:O.Henry Stories
DESCRIPTION:
URL:https://www.lifelonglearningcollaborative.org/event/o-henry-stories/2026-02-26/
LOCATION:Shriners Center\, 1 Rhodes Place\, Cranston\, RI\, 02905\, United States
CATEGORIES:Courses
END:VEVENT
BEGIN:VEVENT
DTSTART;TZID=America/New_York:20260226T100000
DTEND;TZID=America/New_York:20260226T120000
DTSTAMP:20260419T220619
CREATED:20251125T143211Z
LAST-MODIFIED:20251125T143211Z
UID:10003843-1772100000-1772107200@www.lifelonglearningcollaborative.org
SUMMARY:Science for Our Time HYBRID
DESCRIPTION:Shriners and on Zoom
URL:https://www.lifelonglearningcollaborative.org/event/science-for-our-time-hybrid/2026-02-26/
LOCATION:Shriners Center\, 1 Rhodes Place\, Cranston\, RI\, 02905\, United States
CATEGORIES:Courses
END:VEVENT
BEGIN:VEVENT
DTSTART;TZID=America/New_York:20260225T130000
DTEND;TZID=America/New_York:20260225T150000
DTSTAMP:20260419T220619
CREATED:20251125T142939Z
LAST-MODIFIED:20251125T142939Z
UID:10003835-1772024400-1772031600@www.lifelonglearningcollaborative.org
SUMMARY:LLC Knits
DESCRIPTION:
URL:https://www.lifelonglearningcollaborative.org/event/llc-knits-3-7/2026-02-25/
LOCATION:Shriners Center\, 1 Rhodes Place\, Cranston\, RI\, 02905\, United States
CATEGORIES:Courses
END:VEVENT
BEGIN:VEVENT
DTSTART;TZID=America/New_York:20260225T130000
DTEND;TZID=America/New_York:20260225T150000
DTSTAMP:20260419T220619
CREATED:20251125T142720Z
LAST-MODIFIED:20251125T142720Z
UID:10003827-1772024400-1772031600@www.lifelonglearningcollaborative.org
SUMMARY:Roman Empire
DESCRIPTION:
URL:https://www.lifelonglearningcollaborative.org/event/roman-empire/2026-02-25/
LOCATION:ZOOM
CATEGORIES:Courses
END:VEVENT
BEGIN:VEVENT
DTSTART;TZID=America/New_York:20260225T130000
DTEND;TZID=America/New_York:20260225T150000
DTSTAMP:20260419T220619
CREATED:20251125T142451Z
LAST-MODIFIED:20251125T142451Z
UID:10003819-1772024400-1772031600@www.lifelonglearningcollaborative.org
SUMMARY:Hot Topics
DESCRIPTION:
URL:https://www.lifelonglearningcollaborative.org/event/hot-topics-3-9/2026-02-25/
LOCATION:ZOOM
CATEGORIES:Courses
END:VEVENT
BEGIN:VEVENT
DTSTART;TZID=America/New_York:20260225T100000
DTEND;TZID=America/New_York:20260225T120000
DTSTAMP:20260419T220619
CREATED:20251125T142217Z
LAST-MODIFIED:20251125T142217Z
UID:10003811-1772013600-1772020800@www.lifelonglearningcollaborative.org
SUMMARY:America's Presidents
DESCRIPTION:
URL:https://www.lifelonglearningcollaborative.org/event/americas-presidents/2026-02-25/
LOCATION:ZOOM
CATEGORIES:Courses
END:VEVENT
BEGIN:VEVENT
DTSTART;TZID=America/New_York:20260225T100000
DTEND;TZID=America/New_York:20260225T120000
DTSTAMP:20260419T220619
CREATED:20251125T142038Z
LAST-MODIFIED:20251125T142038Z
UID:10003798-1772013600-1772020800@www.lifelonglearningcollaborative.org
SUMMARY:How Things Are Made HYBRID
DESCRIPTION:Shriners or Zoom
URL:https://www.lifelonglearningcollaborative.org/event/how-things-are-made-hybrid-2-2/2026-02-25/
LOCATION:Shriners Center\, 1 Rhodes Place\, Cranston\, RI\, 02905\, United States
CATEGORIES:Courses
END:VEVENT
BEGIN:VEVENT
DTSTART;TZID=America/New_York:20260224T130000
DTEND;TZID=America/New_York:20260224T150000
DTSTAMP:20260419T220619
CREATED:20251125T141919Z
LAST-MODIFIED:20251125T141919Z
UID:10003788-1771938000-1771945200@www.lifelonglearningcollaborative.org
SUMMARY:Jewish Baking
DESCRIPTION:Private Residence in Providence
URL:https://www.lifelonglearningcollaborative.org/event/jewish-baking/2026-02-24/
LOCATION:RI
CATEGORIES:Courses
END:VEVENT
BEGIN:VEVENT
DTSTART;TZID=America/New_York:20260224T100000
DTEND;TZID=America/New_York:20260224T123000
DTSTAMP:20260419T220619
CREATED:20251125T140731Z
LAST-MODIFIED:20251125T140731Z
UID:10003757-1771927200-1771936200@www.lifelonglearningcollaborative.org
SUMMARY:Scrabble
DESCRIPTION:
URL:https://www.lifelonglearningcollaborative.org/event/scrabble-23/2026-02-24/
LOCATION:Shriners Center\, 1 Rhodes Place\, Cranston\, RI\, 02905\, United States
CATEGORIES:Courses
END:VEVENT
BEGIN:VEVENT
DTSTART;TZID=America/New_York:20260224T100000
DTEND;TZID=America/New_York:20260224T123000
DTSTAMP:20260419T220619
CREATED:20251125T140626Z
LAST-MODIFIED:20251125T140626Z
UID:10003749-1771927200-1771936200@www.lifelonglearningcollaborative.org
SUMMARY:Open Studio Art @ Shriners
DESCRIPTION:
URL:https://www.lifelonglearningcollaborative.org/event/open-studio-art-shriners/2026-02-24/
LOCATION:Shriners Center\, 1 Rhodes Place\, Cranston\, RI\, 02905\, United States
CATEGORIES:Courses
END:VEVENT
BEGIN:VEVENT
DTSTART;TZID=America/New_York:20260224T100000
DTEND;TZID=America/New_York:20260224T120000
DTSTAMP:20260419T220619
CREATED:20251125T141124Z
LAST-MODIFIED:20251125T141124Z
UID:10003771-1771927200-1771934400@www.lifelonglearningcollaborative.org
SUMMARY:Writing a Memoir (Zoom)
DESCRIPTION:
URL:https://www.lifelonglearningcollaborative.org/event/writing-a-memoir-zoom-2-3/2026-02-24/
LOCATION:ZOOM
CATEGORIES:Courses
END:VEVENT
BEGIN:VEVENT
DTSTART;TZID=America/New_York:20260224T100000
DTEND;TZID=America/New_York:20260224T120000
DTSTAMP:20260419T220619
CREATED:20251125T140815Z
LAST-MODIFIED:20251125T140815Z
UID:10003765-1771927200-1771934400@www.lifelonglearningcollaborative.org
SUMMARY:Guys & Dolls
DESCRIPTION:
URL:https://www.lifelonglearningcollaborative.org/event/guys-dolls/2026-02-24/
LOCATION:ZOOM
CATEGORIES:Courses
END:VEVENT
BEGIN:VEVENT
DTSTART;TZID=America/New_York:20260223T130000
DTEND;TZID=America/New_York:20260223T150000
DTSTAMP:20260419T220619
CREATED:20251125T140356Z
LAST-MODIFIED:20251125T140356Z
UID:10003737-1771851600-1771858800@www.lifelonglearningcollaborative.org
SUMMARY:Literary Rx
DESCRIPTION:
URL:https://www.lifelonglearningcollaborative.org/event/literary-rx/2026-02-23/
LOCATION:international house of rhode island\, 8 Stimson Avenue\, Providence\, RI\, 02906\, United States
CATEGORIES:Courses
END:VEVENT
BEGIN:VEVENT
DTSTART;TZID=America/New_York:20260223T130000
DTEND;TZID=America/New_York:20260223T150000
DTSTAMP:20260419T220619
CREATED:20250714T135535Z
LAST-MODIFIED:20250714T135535Z
UID:10003414-1771851600-1771858800@www.lifelonglearningcollaborative.org
SUMMARY:Hist Novel Book Club 25-26
DESCRIPTION:
URL:https://www.lifelonglearningcollaborative.org/event/hist-novel-book-club-25-26/2026-02-23/
LOCATION:ZOOM
CATEGORIES:Courses
END:VEVENT
BEGIN:VEVENT
DTSTART;TZID=America/New_York:20260223T100000
DTEND;TZID=America/New_York:20260223T120000
DTSTAMP:20260419T220619
CREATED:20251125T140258Z
LAST-MODIFIED:20251125T140258Z
UID:10003728-1771840800-1771848000@www.lifelonglearningcollaborative.org
SUMMARY:Great Decisions 2026
DESCRIPTION:
URL:https://www.lifelonglearningcollaborative.org/event/great-decisions-2026/2026-02-23/
LOCATION:ZOOM
CATEGORIES:Courses
END:VEVENT
END:VCALENDAR