BEGIN:VCALENDAR
VERSION:2.0
PRODID:-//Lifelong Learning Collaborative - ECPv6.15.12.2//NONSGML v1.0//EN
CALSCALE:GREGORIAN
METHOD:PUBLISH
X-WR-CALNAME:Lifelong Learning Collaborative
X-ORIGINAL-URL:https://www.lifelonglearningcollaborative.org
X-WR-CALDESC:Events for Lifelong Learning Collaborative
REFRESH-INTERVAL;VALUE=DURATION:PT1H
X-Robots-Tag:noindex
X-PUBLISHED-TTL:PT1H
BEGIN:VTIMEZONE
TZID:America/New_York
BEGIN:DAYLIGHT
TZOFFSETFROM:-0500
TZOFFSETTO:-0400
TZNAME:EDT
DTSTART:20240310T070000
END:DAYLIGHT
BEGIN:STANDARD
TZOFFSETFROM:-0400
TZOFFSETTO:-0500
TZNAME:EST
DTSTART:20241103T060000
END:STANDARD
BEGIN:DAYLIGHT
TZOFFSETFROM:-0500
TZOFFSETTO:-0400
TZNAME:EDT
DTSTART:20250309T070000
END:DAYLIGHT
BEGIN:STANDARD
TZOFFSETFROM:-0400
TZOFFSETTO:-0500
TZNAME:EST
DTSTART:20251102T060000
END:STANDARD
BEGIN:DAYLIGHT
TZOFFSETFROM:-0500
TZOFFSETTO:-0400
TZNAME:EDT
DTSTART:20260308T070000
END:DAYLIGHT
BEGIN:STANDARD
TZOFFSETFROM:-0400
TZOFFSETTO:-0500
TZNAME:EST
DTSTART:20261101T060000
END:STANDARD
END:VTIMEZONE
BEGIN:VEVENT
DTSTART;TZID=America/New_York:20250219T130000
DTEND;TZID=America/New_York:20250219T150000
DTSTAMP:20260421T152721
CREATED:20241125T145714Z
LAST-MODIFIED:20241125T145714Z
UID:10002874-1739970000-1739977200@www.lifelonglearningcollaborative.org
SUMMARY:Jewish Style Baking
DESCRIPTION:Private kitchen of LLC member Eastside Providence\, RI – address provided upon registration
URL:https://www.lifelonglearningcollaborative.org/event/jewish-style-baking/2025-02-19/
LOCATION:RI
CATEGORIES:Courses
END:VEVENT
BEGIN:VEVENT
DTSTART;TZID=America/New_York:20250219T130000
DTEND;TZID=America/New_York:20250219T150000
DTSTAMP:20260421T152721
CREATED:20241125T145755Z
LAST-MODIFIED:20241125T145755Z
UID:10002882-1739970000-1739977200@www.lifelonglearningcollaborative.org
SUMMARY:Hot Topics
DESCRIPTION:
URL:https://www.lifelonglearningcollaborative.org/event/hot-topics-3-6/2025-02-19/
LOCATION:ZOOM
CATEGORIES:Courses
END:VEVENT
BEGIN:VEVENT
DTSTART;TZID=America/New_York:20250220T100000
DTEND;TZID=America/New_York:20250220T120000
DTSTAMP:20260421T152721
CREATED:20241125T145843Z
LAST-MODIFIED:20241125T145843Z
UID:10002890-1740045600-1740052800@www.lifelonglearningcollaborative.org
SUMMARY:World's Greatest Short Stories
DESCRIPTION:
URL:https://www.lifelonglearningcollaborative.org/event/worlds-greatest-short-stories/2025-02-20/
LOCATION:Temple Beth-El\, 70 Orchard Avenue\, Providence\, RI\, United States
CATEGORIES:Courses
END:VEVENT
BEGIN:VEVENT
DTSTART;TZID=America/New_York:20250220T100000
DTEND;TZID=America/New_York:20250220T120000
DTSTAMP:20260421T152721
CREATED:20241125T145944Z
LAST-MODIFIED:20241125T151200Z
UID:10002926-1740045600-1740052800@www.lifelonglearningcollaborative.org
SUMMARY:Pompeii (ZOOM)
DESCRIPTION:
URL:https://www.lifelonglearningcollaborative.org/event/pompeii-zoom/2025-02-20/
LOCATION:ZOOM
CATEGORIES:Courses
END:VEVENT
BEGIN:VEVENT
DTSTART;TZID=America/New_York:20250220T100000
DTEND;TZID=America/New_York:20250220T120000
DTSTAMP:20260421T152721
CREATED:20241125T150049Z
LAST-MODIFIED:20241125T150049Z
UID:10002899-1740045600-1740052800@www.lifelonglearningcollaborative.org
SUMMARY:Overlooked No More Hybrid
DESCRIPTION:This hybrid class is on Zoom and in-person at Temple Beth-El
URL:https://www.lifelonglearningcollaborative.org/event/overlooked-no-more-hybrid/2025-02-20/
LOCATION:RI
CATEGORIES:Courses
END:VEVENT
BEGIN:VEVENT
DTSTART;TZID=America/New_York:20250220T130000
DTEND;TZID=America/New_York:20250220T150000
DTSTAMP:20260421T152721
CREATED:20241125T150127Z
LAST-MODIFIED:20241125T150127Z
UID:10002907-1740056400-1740063600@www.lifelonglearningcollaborative.org
SUMMARY:Writing a Memoir
DESCRIPTION:
URL:https://www.lifelonglearningcollaborative.org/event/writing-a-memoir-3-5/2025-02-20/
LOCATION:Temple Beth-El\, 70 Orchard Avenue\, Providence\, RI\, United States
CATEGORIES:Courses
END:VEVENT
BEGIN:VEVENT
DTSTART;TZID=America/New_York:20250221T100000
DTEND;TZID=America/New_York:20250221T110000
DTSTAMP:20260421T152721
CREATED:20241125T150614Z
LAST-MODIFIED:20241125T150614Z
UID:10002915-1740132000-1740135600@www.lifelonglearningcollaborative.org
SUMMARY:Get Fit at Home (ZOOM)
DESCRIPTION:
URL:https://www.lifelonglearningcollaborative.org/event/get-fit-at-home-zoom/2025-02-21/
LOCATION:ZOOM
CATEGORIES:Courses
END:VEVENT
BEGIN:VEVENT
DTSTART;TZID=America/New_York:20250221T100000
DTEND;TZID=America/New_York:20250221T120000
DTSTAMP:20260421T152721
CREATED:20241125T150702Z
LAST-MODIFIED:20241125T150702Z
UID:10002919-1740132000-1740139200@www.lifelonglearningcollaborative.org
SUMMARY:King Philip's War
DESCRIPTION:
URL:https://www.lifelonglearningcollaborative.org/event/king-philips-war/2025-02-21/
LOCATION:Temple Beth-El\, 70 Orchard Avenue\, Providence\, RI\, United States
CATEGORIES:Courses
END:VEVENT
BEGIN:VEVENT
DTSTART;TZID=America/New_York:20250224T100000
DTEND;TZID=America/New_York:20250224T120000
DTSTAMP:20260421T152721
CREATED:20241125T143510Z
LAST-MODIFIED:20241125T145252Z
UID:10002257-1740391200-1740398400@www.lifelonglearningcollaborative.org
SUMMARY:Open Studio Art (ZOOM)
DESCRIPTION:
URL:https://www.lifelonglearningcollaborative.org/event/open-studio-art-zoom-2-2/2025-02-24/
LOCATION:ZOOM
CATEGORIES:Courses
END:VEVENT
BEGIN:VEVENT
DTSTART;TZID=America/New_York:20250224T100000
DTEND;TZID=America/New_York:20250224T120000
DTSTAMP:20260421T152721
CREATED:20241125T143556Z
LAST-MODIFIED:20241125T144925Z
UID:10002316-1740391200-1740398400@www.lifelonglearningcollaborative.org
SUMMARY:Great Decisions (ZOOM)
DESCRIPTION:
URL:https://www.lifelonglearningcollaborative.org/event/great-decisions-zoom-3/2025-02-24/
LOCATION:ZOOM
CATEGORIES:Courses
END:VEVENT
BEGIN:VEVENT
DTSTART;TZID=America/New_York:20250224T130000
DTEND;TZID=America/New_York:20250224T150000
DTSTAMP:20260421T152721
CREATED:20240715T131626Z
LAST-MODIFIED:20240715T131626Z
UID:10001918-1740402000-1740409200@www.lifelonglearningcollaborative.org
SUMMARY:Historical Novel Book Club 24-25
DESCRIPTION:
URL:https://www.lifelonglearningcollaborative.org/event/historical-novel-book-club-24-25/2025-02-24/
LOCATION:ZOOM
CATEGORIES:Courses
END:VEVENT
BEGIN:VEVENT
DTSTART;TZID=America/New_York:20250225T100000
DTEND;TZID=America/New_York:20250225T120000
DTSTAMP:20260421T152721
CREATED:20241125T144203Z
LAST-MODIFIED:20241125T145313Z
UID:10002436-1740477600-1740484800@www.lifelonglearningcollaborative.org
SUMMARY:Open Studio Art
DESCRIPTION:
URL:https://www.lifelonglearningcollaborative.org/event/open-studio-art-4/2025-02-25/
LOCATION:Temple Beth-El\, 70 Orchard Avenue\, Providence\, RI\, United States
CATEGORIES:Courses
END:VEVENT
BEGIN:VEVENT
DTSTART;TZID=America/New_York:20250225T100000
DTEND;TZID=America/New_York:20250225T120000
DTSTAMP:20260421T152721
CREATED:20241125T144253Z
LAST-MODIFIED:20241125T145332Z
UID:10002496-1740477600-1740484800@www.lifelonglearningcollaborative.org
SUMMARY:Huck's Friend James Reimagined (ZOOM)
DESCRIPTION:
URL:https://www.lifelonglearningcollaborative.org/event/hucks-friend-james-reimagined-zoom/2025-02-25/
LOCATION:ZOOM
CATEGORIES:Courses
END:VEVENT
BEGIN:VEVENT
DTSTART;TZID=America/New_York:20250225T130000
DTEND;TZID=America/New_York:20250225T150000
DTSTAMP:20260421T152721
CREATED:20241125T144600Z
LAST-MODIFIED:20241125T145146Z
UID:10002674-1740488400-1740495600@www.lifelonglearningcollaborative.org
SUMMARY:Cell Phone Photo
DESCRIPTION:
URL:https://www.lifelonglearningcollaborative.org/event/cell-phone-photo-3-2/2025-02-25/
LOCATION:Temple Beth-El\, 70 Orchard Avenue\, Providence\, RI\, United States
CATEGORIES:Courses
END:VEVENT
BEGIN:VEVENT
DTSTART;TZID=America/New_York:20250225T151500
DTEND;TZID=America/New_York:20250225T170000
DTSTAMP:20260421T152721
CREATED:20241125T144641Z
LAST-MODIFIED:20241125T145018Z
UID:10002734-1740496500-1740502800@www.lifelonglearningcollaborative.org
SUMMARY:Scrabble
DESCRIPTION:
URL:https://www.lifelonglearningcollaborative.org/event/scrabble-15/2025-02-25/
LOCATION:Temple Beth-El\, 70 Orchard Avenue\, Providence\, RI\, United States
CATEGORIES:Courses
END:VEVENT
BEGIN:VEVENT
DTSTART;TZID=America/New_York:20250226T100000
DTEND;TZID=America/New_York:20250226T120000
DTSTAMP:20260421T152721
CREATED:20241125T144745Z
LAST-MODIFIED:20241125T144958Z
UID:10002794-1740564000-1740571200@www.lifelonglearningcollaborative.org
SUMMARY:Structures Hybrid
DESCRIPTION:On Zoom and in-person at Temple Beth-El
URL:https://www.lifelonglearningcollaborative.org/event/structures-hybrid/2025-02-26/
LOCATION:RI
CATEGORIES:Courses
END:VEVENT
BEGIN:VEVENT
DTSTART;TZID=America/New_York:20250226T100000
DTEND;TZID=America/New_York:20250226T120000
DTSTAMP:20260421T152721
CREATED:20241125T144840Z
LAST-MODIFIED:20241125T144840Z
UID:10002854-1740564000-1740571200@www.lifelonglearningcollaborative.org
SUMMARY:The Media (ZOOM)
DESCRIPTION:
URL:https://www.lifelonglearningcollaborative.org/event/the-media-zoom/2025-02-26/
LOCATION:ZOOM
CATEGORIES:Courses
END:VEVENT
BEGIN:VEVENT
DTSTART;TZID=America/New_York:20250226T130000
DTEND;TZID=America/New_York:20250226T150000
DTSTAMP:20260421T152721
CREATED:20241125T145122Z
LAST-MODIFIED:20241125T145122Z
UID:10002862-1740574800-1740582000@www.lifelonglearningcollaborative.org
SUMMARY:LLC Knits Hybrid
DESCRIPTION:This hybrid class is on Zoom and in-person at Temple Beth-El
URL:https://www.lifelonglearningcollaborative.org/event/llc-knits-hybrid/2025-02-26/
LOCATION:RI
CATEGORIES:Courses
END:VEVENT
BEGIN:VEVENT
DTSTART;TZID=America/New_York:20250226T130000
DTEND;TZID=America/New_York:20250226T150000
DTSTAMP:20260421T152721
CREATED:20241125T145714Z
LAST-MODIFIED:20241125T145714Z
UID:10002875-1740574800-1740582000@www.lifelonglearningcollaborative.org
SUMMARY:Jewish Style Baking
DESCRIPTION:Private kitchen of LLC member Eastside Providence\, RI – address provided upon registration
URL:https://www.lifelonglearningcollaborative.org/event/jewish-style-baking/2025-02-26/
LOCATION:RI
CATEGORIES:Courses
END:VEVENT
BEGIN:VEVENT
DTSTART;TZID=America/New_York:20250226T130000
DTEND;TZID=America/New_York:20250226T150000
DTSTAMP:20260421T152721
CREATED:20241125T145755Z
LAST-MODIFIED:20241125T145755Z
UID:10002883-1740574800-1740582000@www.lifelonglearningcollaborative.org
SUMMARY:Hot Topics
DESCRIPTION:
URL:https://www.lifelonglearningcollaborative.org/event/hot-topics-3-6/2025-02-26/
LOCATION:ZOOM
CATEGORIES:Courses
END:VEVENT
BEGIN:VEVENT
DTSTART;TZID=America/New_York:20250227T100000
DTEND;TZID=America/New_York:20250227T120000
DTSTAMP:20260421T152721
CREATED:20241125T145843Z
LAST-MODIFIED:20241125T145843Z
UID:10002891-1740650400-1740657600@www.lifelonglearningcollaborative.org
SUMMARY:World's Greatest Short Stories
DESCRIPTION:
URL:https://www.lifelonglearningcollaborative.org/event/worlds-greatest-short-stories/2025-02-27/
LOCATION:Temple Beth-El\, 70 Orchard Avenue\, Providence\, RI\, United States
CATEGORIES:Courses
END:VEVENT
BEGIN:VEVENT
DTSTART;TZID=America/New_York:20250227T100000
DTEND;TZID=America/New_York:20250227T120000
DTSTAMP:20260421T152721
CREATED:20241125T145944Z
LAST-MODIFIED:20241125T151200Z
UID:10002927-1740650400-1740657600@www.lifelonglearningcollaborative.org
SUMMARY:Pompeii (ZOOM)
DESCRIPTION:
URL:https://www.lifelonglearningcollaborative.org/event/pompeii-zoom/2025-02-27/
LOCATION:ZOOM
CATEGORIES:Courses
END:VEVENT
BEGIN:VEVENT
DTSTART;TZID=America/New_York:20250227T100000
DTEND;TZID=America/New_York:20250227T120000
DTSTAMP:20260421T152721
CREATED:20241125T150049Z
LAST-MODIFIED:20241125T150049Z
UID:10002900-1740650400-1740657600@www.lifelonglearningcollaborative.org
SUMMARY:Overlooked No More Hybrid
DESCRIPTION:This hybrid class is on Zoom and in-person at Temple Beth-El
URL:https://www.lifelonglearningcollaborative.org/event/overlooked-no-more-hybrid/2025-02-27/
LOCATION:RI
CATEGORIES:Courses
END:VEVENT
BEGIN:VEVENT
DTSTART;TZID=America/New_York:20250227T130000
DTEND;TZID=America/New_York:20250227T150000
DTSTAMP:20260421T152721
CREATED:20241125T150127Z
LAST-MODIFIED:20241125T150127Z
UID:10002908-1740661200-1740668400@www.lifelonglearningcollaborative.org
SUMMARY:Writing a Memoir
DESCRIPTION:
URL:https://www.lifelonglearningcollaborative.org/event/writing-a-memoir-3-5/2025-02-27/
LOCATION:Temple Beth-El\, 70 Orchard Avenue\, Providence\, RI\, United States
CATEGORIES:Courses
END:VEVENT
BEGIN:VEVENT
DTSTART;TZID=America/New_York:20250228T100000
DTEND;TZID=America/New_York:20250228T110000
DTSTAMP:20260421T152721
CREATED:20241125T150614Z
LAST-MODIFIED:20241125T150614Z
UID:10002916-1740736800-1740740400@www.lifelonglearningcollaborative.org
SUMMARY:Get Fit at Home (ZOOM)
DESCRIPTION:
URL:https://www.lifelonglearningcollaborative.org/event/get-fit-at-home-zoom/2025-02-28/
LOCATION:ZOOM
CATEGORIES:Courses
END:VEVENT
BEGIN:VEVENT
DTSTART;TZID=America/New_York:20250228T100000
DTEND;TZID=America/New_York:20250228T120000
DTSTAMP:20260421T152721
CREATED:20241125T150702Z
LAST-MODIFIED:20241125T150702Z
UID:10002920-1740736800-1740744000@www.lifelonglearningcollaborative.org
SUMMARY:King Philip's War
DESCRIPTION:
URL:https://www.lifelonglearningcollaborative.org/event/king-philips-war/2025-02-28/
LOCATION:Temple Beth-El\, 70 Orchard Avenue\, Providence\, RI\, United States
CATEGORIES:Courses
END:VEVENT
BEGIN:VEVENT
DTSTART;TZID=America/New_York:20250303T100000
DTEND;TZID=America/New_York:20250303T120000
DTSTAMP:20260421T152721
CREATED:20241125T143556Z
LAST-MODIFIED:20241125T144925Z
UID:10002317-1740996000-1741003200@www.lifelonglearningcollaborative.org
SUMMARY:Great Decisions (ZOOM)
DESCRIPTION:
URL:https://www.lifelonglearningcollaborative.org/event/great-decisions-zoom-3/2025-03-03/
LOCATION:ZOOM
CATEGORIES:Courses
END:VEVENT
BEGIN:VEVENT
DTSTART;TZID=America/New_York:20250317T100000
DTEND;TZID=America/New_York:20250317T120000
DTSTAMP:20260421T152721
CREATED:20250121T134228Z
LAST-MODIFIED:20250121T134228Z
UID:10002930-1742205600-1742212800@www.lifelonglearningcollaborative.org
SUMMARY:Open Studio Art (Zoom)
DESCRIPTION:
URL:https://www.lifelonglearningcollaborative.org/event/open-studio-art-zoom-2-3/2025-03-17/
LOCATION:ZOOM
CATEGORIES:Courses
END:VEVENT
BEGIN:VEVENT
DTSTART;TZID=America/New_York:20250317T100000
DTEND;TZID=America/New_York:20250317T120000
DTSTAMP:20260421T152721
CREATED:20250121T134322Z
LAST-MODIFIED:20250121T134322Z
UID:10002940-1742205600-1742212800@www.lifelonglearningcollaborative.org
SUMMARY:Absurd Comedies\, II
DESCRIPTION:
URL:https://www.lifelonglearningcollaborative.org/event/absurd-comedies-ii/2025-03-17/
LOCATION:ZOOM
CATEGORIES:Courses
END:VEVENT
BEGIN:VEVENT
DTSTART;TZID=America/New_York:20250318T100000
DTEND;TZID=America/New_York:20250318T120000
DTSTAMP:20260421T152721
CREATED:20250121T134410Z
LAST-MODIFIED:20250121T134410Z
UID:10002950-1742292000-1742299200@www.lifelonglearningcollaborative.org
SUMMARY:Open Studio Art (TBE)
DESCRIPTION:
URL:https://www.lifelonglearningcollaborative.org/event/open-studio-art-tbe-2-2/2025-03-18/
LOCATION:Temple Beth-El\, 70 Orchard Avenue\, Providence\, RI\, United States
CATEGORIES:Courses
END:VEVENT
END:VCALENDAR