BEGIN:VCALENDAR
VERSION:2.0
PRODID:-//Lifelong Learning Collaborative - ECPv6.15.12.2//NONSGML v1.0//EN
CALSCALE:GREGORIAN
METHOD:PUBLISH
X-ORIGINAL-URL:https://www.lifelonglearningcollaborative.org
X-WR-CALDESC:Events for Lifelong Learning Collaborative
REFRESH-INTERVAL;VALUE=DURATION:PT1H
X-Robots-Tag:noindex
X-PUBLISHED-TTL:PT1H
BEGIN:VTIMEZONE
TZID:America/New_York
BEGIN:DAYLIGHT
TZOFFSETFROM:-0500
TZOFFSETTO:-0400
TZNAME:EDT
DTSTART:20230312T070000
END:DAYLIGHT
BEGIN:STANDARD
TZOFFSETFROM:-0400
TZOFFSETTO:-0500
TZNAME:EST
DTSTART:20231105T060000
END:STANDARD
BEGIN:DAYLIGHT
TZOFFSETFROM:-0500
TZOFFSETTO:-0400
TZNAME:EDT
DTSTART:20240310T070000
END:DAYLIGHT
BEGIN:STANDARD
TZOFFSETFROM:-0400
TZOFFSETTO:-0500
TZNAME:EST
DTSTART:20241103T060000
END:STANDARD
BEGIN:DAYLIGHT
TZOFFSETFROM:-0500
TZOFFSETTO:-0400
TZNAME:EDT
DTSTART:20250309T070000
END:DAYLIGHT
BEGIN:STANDARD
TZOFFSETFROM:-0400
TZOFFSETTO:-0500
TZNAME:EST
DTSTART:20251102T060000
END:STANDARD
END:VTIMEZONE
BEGIN:VEVENT
DTSTART;TZID=America/New_York:20241025T130000
DTEND;TZID=America/New_York:20241025T150000
DTSTAMP:20260421T014113
CREATED:20240715T140803Z
LAST-MODIFIED:20240715T140803Z
UID:10002213-1729861200-1729868400@www.lifelonglearningcollaborative.org
SUMMARY:Ancient Persia
DESCRIPTION:
URL:https://www.lifelonglearningcollaborative.org/event/ancient-persia/2024-10-25/
LOCATION:ZOOM
CATEGORIES:Courses
END:VEVENT
BEGIN:VEVENT
DTSTART;TZID=America/New_York:20241028T100000
DTEND;TZID=America/New_York:20241028T120000
DTSTAMP:20260421T014113
CREATED:20240715T131120Z
LAST-MODIFIED:20240715T131120Z
UID:10001901-1730109600-1730116800@www.lifelonglearningcollaborative.org
SUMMARY:Open Studio Art (Zoom)
DESCRIPTION:
URL:https://www.lifelonglearningcollaborative.org/event/open-studio-art-zoom/2024-10-28/
LOCATION:ZOOM
CATEGORIES:Courses
END:VEVENT
BEGIN:VEVENT
DTSTART;TZID=America/New_York:20241028T130000
DTEND;TZID=America/New_York:20241028T150000
DTSTAMP:20260421T014113
CREATED:20240715T131626Z
LAST-MODIFIED:20240715T131626Z
UID:10001914-1730120400-1730127600@www.lifelonglearningcollaborative.org
SUMMARY:Historical Novel Book Club 24-25
DESCRIPTION:
URL:https://www.lifelonglearningcollaborative.org/event/historical-novel-book-club-24-25/2024-10-28/
LOCATION:ZOOM
CATEGORIES:Courses
END:VEVENT
BEGIN:VEVENT
DTSTART;TZID=America/New_York:20241028T160000
DTEND;TZID=America/New_York:20241028T170000
DTSTAMP:20260421T014113
CREATED:20240813T115607Z
LAST-MODIFIED:20240813T120552Z
UID:10002233-1730131200-1730134800@www.lifelonglearningcollaborative.org
SUMMARY:Webinar Lecture feat. Linda Kushner\, Author\, The Fight That Saved the Libraries: A True Rhode Island Story
DESCRIPTION:The Fight that Saved Providence’s Neighborhood Libraries from Extinction \nHere is the inside story of how a small\, determined group of people\, drawing on their diverse skills\, managed to stop the Providence Public Library\, a 138-year-old institution\, from closing its branches libraries in 2009 by creating a separate new library system\, the Community Libraries of Providence (CLPVD) which now runs all nine neighborhood libraries for the city of Providence. The five-year fight to get the city contract was truly a David and Goliath story. David won again! \nLinda Kushner is a retired attorney who represented the East Side as a state legislator for twelve years\, from 1982 to 1994. In 2004\, she joined with a small group of reformers\, and using her legal and political skills\, launched a five-year battle to reform the library.
URL:https://www.lifelonglearningcollaborative.org/event/webinar-lecture-feat-linda-kushner-author-the-fight-that-saved-the-libraries-a-true-rhode-island-story/
LOCATION:ZOOM
CATEGORIES:Free Webinars
END:VEVENT
BEGIN:VEVENT
DTSTART;TZID=America/New_York:20241029T100000
DTEND;TZID=America/New_York:20241029T120000
DTSTAMP:20260421T014113
CREATED:20240715T131745Z
LAST-MODIFIED:20240715T131745Z
UID:10001932-1730196000-1730203200@www.lifelonglearningcollaborative.org
SUMMARY:Alexander von Humboldt
DESCRIPTION:
URL:https://www.lifelonglearningcollaborative.org/event/alexander-von-humboldt/2024-10-29/
LOCATION:ZOOM
CATEGORIES:Courses
END:VEVENT
BEGIN:VEVENT
DTSTART;TZID=America/New_York:20241029T100000
DTEND;TZID=America/New_York:20241029T120000
DTSTAMP:20260421T014113
CREATED:20240715T132013Z
LAST-MODIFIED:20240715T132013Z
UID:10001952-1730196000-1730203200@www.lifelonglearningcollaborative.org
SUMMARY:Open Studio Art (TBE)
DESCRIPTION:
URL:https://www.lifelonglearningcollaborative.org/event/open-studio-art-tbe/2024-10-29/
LOCATION:Temple Beth-El\, 70 Orchard Avenue\, Providence\, RI\, United States
CATEGORIES:Courses
END:VEVENT
BEGIN:VEVENT
DTSTART;TZID=America/New_York:20241029T100000
DTEND;TZID=America/New_York:20241029T120000
DTSTAMP:20260421T014113
CREATED:20240715T132123Z
LAST-MODIFIED:20240715T132123Z
UID:10001961-1730196000-1730203200@www.lifelonglearningcollaborative.org
SUMMARY:Absurd Comedies
DESCRIPTION:
URL:https://www.lifelonglearningcollaborative.org/event/absurd-comedies/2024-10-29/
LOCATION:ZOOM
CATEGORIES:Courses
END:VEVENT
BEGIN:VEVENT
DTSTART;TZID=America/New_York:20241029T100000
DTEND;TZID=America/New_York:20241029T120000
DTSTAMP:20260421T014113
CREATED:20240715T132223Z
LAST-MODIFIED:20240715T132223Z
UID:10001972-1730196000-1730203200@www.lifelonglearningcollaborative.org
SUMMARY:Palestine
DESCRIPTION:
URL:https://www.lifelonglearningcollaborative.org/event/palestine/2024-10-29/
LOCATION:Temple Beth-El\, 70 Orchard Avenue\, Providence\, RI\, United States
CATEGORIES:Courses
END:VEVENT
BEGIN:VEVENT
DTSTART;TZID=America/New_York:20241029T130000
DTEND;TZID=America/New_York:20241029T150000
DTSTAMP:20260421T014113
CREATED:20240715T132314Z
LAST-MODIFIED:20240715T140935Z
UID:10002226-1730206800-1730214000@www.lifelonglearningcollaborative.org
SUMMARY:Cell Phone Photo Club
DESCRIPTION:
URL:https://www.lifelonglearningcollaborative.org/event/cell-phone-photo-club-2-4/2024-10-29/
LOCATION:Temple Beth-El\, 70 Orchard Avenue\, Providence\, RI\, United States
CATEGORIES:Courses
END:VEVENT
BEGIN:VEVENT
DTSTART;TZID=America/New_York:20241029T130000
DTEND;TZID=America/New_York:20241029T150000
DTSTAMP:20260421T014113
CREATED:20240715T132449Z
LAST-MODIFIED:20240715T132449Z
UID:10002000-1730206800-1730214000@www.lifelonglearningcollaborative.org
SUMMARY:Unquiet Women: Voices in Classical Music
DESCRIPTION:
URL:https://www.lifelonglearningcollaborative.org/event/unquiet-women-voices-in-classical-music/2024-10-29/
LOCATION:Temple Beth-El\, 70 Orchard Avenue\, Providence\, RI\, United States
CATEGORIES:Courses
END:VEVENT
BEGIN:VEVENT
DTSTART;TZID=America/New_York:20241029T130000
DTEND;TZID=America/New_York:20241029T150000
DTSTAMP:20260421T014113
CREATED:20240715T132557Z
LAST-MODIFIED:20240715T132557Z
UID:10002010-1730206800-1730214000@www.lifelonglearningcollaborative.org
SUMMARY:Fashion on the Silver Screen
DESCRIPTION:
URL:https://www.lifelonglearningcollaborative.org/event/fashion-on-the-silver-screen/2024-10-29/
LOCATION:Temple Beth-El\, 70 Orchard Avenue\, Providence\, RI\, United States
CATEGORIES:Courses
END:VEVENT
BEGIN:VEVENT
DTSTART;TZID=America/New_York:20241029T151500
DTEND;TZID=America/New_York:20241029T170000
DTSTAMP:20260421T014113
CREATED:20240715T132735Z
LAST-MODIFIED:20240715T132735Z
UID:10002019-1730214900-1730221200@www.lifelonglearningcollaborative.org
SUMMARY:Scrabble Social Club
DESCRIPTION:
URL:https://www.lifelonglearningcollaborative.org/event/scrabble-social-club/2024-10-29/
LOCATION:Temple Beth-El\, 70 Orchard Avenue\, Providence\, RI\, United States
CATEGORIES:Courses
END:VEVENT
BEGIN:VEVENT
DTSTART;TZID=America/New_York:20241030T100000
DTEND;TZID=America/New_York:20241030T120000
DTSTAMP:20260421T014113
CREATED:20240715T133030Z
LAST-MODIFIED:20240715T133030Z
UID:10002029-1730282400-1730289600@www.lifelonglearningcollaborative.org
SUMMARY:Reading Plays Aloud
DESCRIPTION:
URL:https://www.lifelonglearningcollaborative.org/event/reading-plays-aloud/2024-10-30/
LOCATION:Temple Beth-El\, 70 Orchard Avenue\, Providence\, RI\, United States
CATEGORIES:Courses
END:VEVENT
BEGIN:VEVENT
DTSTART;TZID=America/New_York:20241030T100000
DTEND;TZID=America/New_York:20241030T120000
DTSTAMP:20260421T014113
CREATED:20240715T133428Z
LAST-MODIFIED:20240715T133428Z
UID:10002043-1730282400-1730289600@www.lifelonglearningcollaborative.org
SUMMARY:Read\, Listen\, Be Inspired\, Write
DESCRIPTION:
URL:https://www.lifelonglearningcollaborative.org/event/read-listen-be-inspired-write/2024-10-30/
LOCATION:Temple Beth-El\, 70 Orchard Avenue\, Providence\, RI\, United States
CATEGORIES:Courses
END:VEVENT
BEGIN:VEVENT
DTSTART;TZID=America/New_York:20241030T100000
DTEND;TZID=America/New_York:20241030T120000
DTSTAMP:20260421T014113
CREATED:20240715T133525Z
LAST-MODIFIED:20240715T133525Z
UID:10002056-1730282400-1730289600@www.lifelonglearningcollaborative.org
SUMMARY:Fact or Fiction
DESCRIPTION:
URL:https://www.lifelonglearningcollaborative.org/event/fact-or-fiction/2024-10-30/
LOCATION:Regency Plaza Apartments\, RI\, United States
CATEGORIES:Courses
END:VEVENT
BEGIN:VEVENT
DTSTART;TZID=America/New_York:20241030T130000
DTEND;TZID=America/New_York:20241030T150000
DTSTAMP:20260421T014113
CREATED:20240715T133809Z
LAST-MODIFIED:20240715T133809Z
UID:10002071-1730293200-1730300400@www.lifelonglearningcollaborative.org
SUMMARY:Dutch Golden Age
DESCRIPTION:
URL:https://www.lifelonglearningcollaborative.org/event/dutch-golden-age/2024-10-30/
LOCATION:Temple Beth-El\, 70 Orchard Avenue\, Providence\, RI\, United States
CATEGORIES:Courses
END:VEVENT
BEGIN:VEVENT
DTSTART;TZID=America/New_York:20241030T130000
DTEND;TZID=America/New_York:20241030T150000
DTSTAMP:20260421T014113
CREATED:20240715T133914Z
LAST-MODIFIED:20240715T133914Z
UID:10002082-1730293200-1730300400@www.lifelonglearningcollaborative.org
SUMMARY:LLC Knits
DESCRIPTION:
URL:https://www.lifelonglearningcollaborative.org/event/llc-knits-3-5/2024-10-30/
LOCATION:Temple Beth-El\, 70 Orchard Avenue\, Providence\, RI\, United States
CATEGORIES:Courses
END:VEVENT
BEGIN:VEVENT
DTSTART;TZID=America/New_York:20241030T130000
DTEND;TZID=America/New_York:20241030T150000
DTSTAMP:20260421T014113
CREATED:20240715T134033Z
LAST-MODIFIED:20240715T134033Z
UID:10002092-1730293200-1730300400@www.lifelonglearningcollaborative.org
SUMMARY:Hot Topics
DESCRIPTION:
URL:https://www.lifelonglearningcollaborative.org/event/hot-topics-3-5/2024-10-30/
LOCATION:ZOOM
CATEGORIES:Courses
END:VEVENT
BEGIN:VEVENT
DTSTART;TZID=America/New_York:20241031T100000
DTEND;TZID=America/New_York:20241031T120000
DTSTAMP:20260421T014113
CREATED:20240715T134721Z
LAST-MODIFIED:20240715T134813Z
UID:10002113-1730368800-1730376000@www.lifelonglearningcollaborative.org
SUMMARY:Theater Conversations
DESCRIPTION:
URL:https://www.lifelonglearningcollaborative.org/event/theater-conversations-3-2/2024-10-31/
LOCATION:Temple Beth-El\, 70 Orchard Avenue\, Providence\, RI\, United States
CATEGORIES:Courses
END:VEVENT
BEGIN:VEVENT
DTSTART;TZID=America/New_York:20241031T100000
DTEND;TZID=America/New_York:20241031T120000
DTSTAMP:20260421T014113
CREATED:20240715T134948Z
LAST-MODIFIED:20240715T135149Z
UID:10002122-1730368800-1730376000@www.lifelonglearningcollaborative.org
SUMMARY:Our Brains\, Memory\, Brain Health Hybrid (TBE)
DESCRIPTION:Class will be on Zoom Oct 24
URL:https://www.lifelonglearningcollaborative.org/event/our-brains-memory-brain-health-hybrid/2024-10-31/
LOCATION:Temple Beth-El\, 70 Orchard Avenue\, Providence\, RI\, United States
CATEGORIES:Courses
END:VEVENT
BEGIN:VEVENT
DTSTART;TZID=America/New_York:20241031T100000
DTEND;TZID=America/New_York:20241031T120000
DTSTAMP:20260421T014113
CREATED:20240715T135101Z
LAST-MODIFIED:20240715T135101Z
UID:10002132-1730368800-1730376000@www.lifelonglearningcollaborative.org
SUMMARY:Our Brains\, Memory\, Brain Health Hybrid (Zoom)
DESCRIPTION:Both classes will be on Zoom on Oct 24
URL:https://www.lifelonglearningcollaborative.org/event/our-brains-memory-brain-health-hybrid-zoom/2024-10-31/
LOCATION:ZOOM
CATEGORIES:Courses
END:VEVENT
BEGIN:VEVENT
DTSTART;TZID=America/New_York:20241031T100000
DTEND;TZID=America/New_York:20241031T120000
DTSTAMP:20260421T014113
CREATED:20240715T135513Z
LAST-MODIFIED:20241016T113748Z
UID:10002143-1730368800-1730376000@www.lifelonglearningcollaborative.org
SUMMARY:Dark Humor: Saunders & Vonnegut
DESCRIPTION:Oct 17 & Oct 24 classes will meet at Laurelmead
URL:https://www.lifelonglearningcollaborative.org/event/dark-humor-saunders-vonnegut/2024-10-31/
LOCATION:Temple Beth-El\, 70 Orchard Avenue\, Providence\, RI\, United States
CATEGORIES:Courses
END:VEVENT
BEGIN:VEVENT
DTSTART;TZID=America/New_York:20241031T130000
DTEND;TZID=America/New_York:20241031T150000
DTSTAMP:20260421T014113
CREATED:20240715T135955Z
LAST-MODIFIED:20241016T115655Z
UID:10002169-1730379600-1730386800@www.lifelonglearningcollaborative.org
SUMMARY:Words & Images
DESCRIPTION:Temple Beth-El & 1 local museum\nMeets at the Art Club on Dec 5 and back at the Temple Dec 12
URL:https://www.lifelonglearningcollaborative.org/event/words-images/2024-10-31/
LOCATION:Temple Beth-El\, 70 Orchard Avenue\, Providence\, RI\, United States
CATEGORIES:Courses
END:VEVENT
BEGIN:VEVENT
DTSTART;TZID=America/New_York:20241031T130000
DTEND;TZID=America/New_York:20241031T150000
DTSTAMP:20260421T014113
CREATED:20240715T140057Z
LAST-MODIFIED:20241016T113610Z
UID:10002179-1730379600-1730386800@www.lifelonglearningcollaborative.org
SUMMARY:Writing a Memoir
DESCRIPTION:Meets at Temple Beth-El with the exception of two Thursdays (Oct 17 & Oct 24) which will be on ZOOM
URL:https://www.lifelonglearningcollaborative.org/event/writing-a-memoir-3-4/2024-10-31/
LOCATION:Temple Beth-El\, 70 Orchard Avenue\, Providence\, RI\, United States
CATEGORIES:Courses
END:VEVENT
BEGIN:VEVENT
DTSTART;TZID=America/New_York:20241101T100000
DTEND;TZID=America/New_York:20241101T110000
DTSTAMP:20260421T014113
CREATED:20240715T140326Z
LAST-MODIFIED:20240715T140326Z
UID:10002188-1730455200-1730458800@www.lifelonglearningcollaborative.org
SUMMARY:Get Fit at Home
DESCRIPTION:
URL:https://www.lifelonglearningcollaborative.org/event/get-fit-at-home-3-7/2024-11-01/
LOCATION:ZOOM
CATEGORIES:Courses
END:VEVENT
BEGIN:VEVENT
DTSTART;TZID=America/New_York:20241101T100000
DTEND;TZID=America/New_York:20241101T120000
DTSTAMP:20260421T014113
CREATED:20240715T140447Z
LAST-MODIFIED:20240715T140447Z
UID:10002197-1730455200-1730462400@www.lifelonglearningcollaborative.org
SUMMARY:Anthropology of Time Hybrid (TBE)
DESCRIPTION:
URL:https://www.lifelonglearningcollaborative.org/event/anthropology-of-time-hybrid-tbe/2024-11-01/
LOCATION:Temple Beth-El\, 70 Orchard Avenue\, Providence\, RI\, United States
CATEGORIES:Courses
END:VEVENT
BEGIN:VEVENT
DTSTART;TZID=America/New_York:20241101T100000
DTEND;TZID=America/New_York:20241101T120000
DTSTAMP:20260421T014113
CREATED:20240715T140511Z
LAST-MODIFIED:20240715T140511Z
UID:10002206-1730455200-1730462400@www.lifelonglearningcollaborative.org
SUMMARY:Anthropology of Time Hybrid (Zoom)
DESCRIPTION:
URL:https://www.lifelonglearningcollaborative.org/event/anthropology-of-time-hybrid-zoom/2024-11-01/
LOCATION:ZOOM
CATEGORIES:Courses
END:VEVENT
BEGIN:VEVENT
DTSTART;TZID=America/New_York:20241101T130000
DTEND;TZID=America/New_York:20241101T150000
DTSTAMP:20260421T014113
CREATED:20240715T140803Z
LAST-MODIFIED:20240715T140803Z
UID:10002214-1730466000-1730473200@www.lifelonglearningcollaborative.org
SUMMARY:Ancient Persia
DESCRIPTION:
URL:https://www.lifelonglearningcollaborative.org/event/ancient-persia/2024-11-01/
LOCATION:ZOOM
CATEGORIES:Courses
END:VEVENT
BEGIN:VEVENT
DTSTART;TZID=America/New_York:20241104T100000
DTEND;TZID=America/New_York:20241104T120000
DTSTAMP:20260421T014113
CREATED:20240715T131120Z
LAST-MODIFIED:20240715T131120Z
UID:10001902-1730714400-1730721600@www.lifelonglearningcollaborative.org
SUMMARY:Open Studio Art (Zoom)
DESCRIPTION:
URL:https://www.lifelonglearningcollaborative.org/event/open-studio-art-zoom/2024-11-04/
LOCATION:ZOOM
CATEGORIES:Courses
END:VEVENT
BEGIN:VEVENT
DTSTART;TZID=America/New_York:20241105T100000
DTEND;TZID=America/New_York:20241105T120000
DTSTAMP:20260421T014113
CREATED:20240715T131745Z
LAST-MODIFIED:20240715T131745Z
UID:10001933-1730800800-1730808000@www.lifelonglearningcollaborative.org
SUMMARY:Alexander von Humboldt
DESCRIPTION:
URL:https://www.lifelonglearningcollaborative.org/event/alexander-von-humboldt/2024-11-05/
LOCATION:ZOOM
CATEGORIES:Courses
END:VEVENT
END:VCALENDAR