BEGIN:VCALENDAR
VERSION:2.0
PRODID:-//Lifelong Learning Collaborative - ECPv6.15.12.2//NONSGML v1.0//EN
CALSCALE:GREGORIAN
METHOD:PUBLISH
X-WR-CALNAME:Lifelong Learning Collaborative
X-ORIGINAL-URL:https://www.lifelonglearningcollaborative.org
X-WR-CALDESC:Events for Lifelong Learning Collaborative
REFRESH-INTERVAL;VALUE=DURATION:PT1H
X-Robots-Tag:noindex
X-PUBLISHED-TTL:PT1H
BEGIN:VTIMEZONE
TZID:America/New_York
BEGIN:DAYLIGHT
TZOFFSETFROM:-0500
TZOFFSETTO:-0400
TZNAME:EDT
DTSTART:20240310T070000
END:DAYLIGHT
BEGIN:STANDARD
TZOFFSETFROM:-0400
TZOFFSETTO:-0500
TZNAME:EST
DTSTART:20241103T060000
END:STANDARD
BEGIN:DAYLIGHT
TZOFFSETFROM:-0500
TZOFFSETTO:-0400
TZNAME:EDT
DTSTART:20250309T070000
END:DAYLIGHT
BEGIN:STANDARD
TZOFFSETFROM:-0400
TZOFFSETTO:-0500
TZNAME:EST
DTSTART:20251102T060000
END:STANDARD
BEGIN:DAYLIGHT
TZOFFSETFROM:-0500
TZOFFSETTO:-0400
TZNAME:EDT
DTSTART:20260308T070000
END:DAYLIGHT
BEGIN:STANDARD
TZOFFSETFROM:-0400
TZOFFSETTO:-0500
TZNAME:EST
DTSTART:20261101T060000
END:STANDARD
END:VTIMEZONE
BEGIN:VEVENT
DTSTART;TZID=America/New_York:20251021T100000
DTEND;TZID=America/New_York:20251021T123000
DTSTAMP:20260421T004018
CREATED:20250714T143654Z
LAST-MODIFIED:20250714T143654Z
UID:10003459-1761040800-1761049800@www.lifelonglearningcollaborative.org
SUMMARY:Scrabble
DESCRIPTION:
URL:https://www.lifelonglearningcollaborative.org/event/scrabble-21/2025-10-21/
LOCATION:Shriners Center\, 1 Rhodes Place\, Cranston\, RI\, 02905\, United States
CATEGORIES:Courses
END:VEVENT
BEGIN:VEVENT
DTSTART;TZID=America/New_York:20251021T100000
DTEND;TZID=America/New_York:20251021T123000
DTSTAMP:20260421T004018
CREATED:20250714T143422Z
LAST-MODIFIED:20250714T143422Z
UID:10003449-1761040800-1761049800@www.lifelonglearningcollaborative.org
SUMMARY:Open Studio Art (In-person)
DESCRIPTION:
URL:https://www.lifelonglearningcollaborative.org/event/open-studio-art-in-person/2025-10-21/
LOCATION:Shriners Center\, 1 Rhodes Place\, Cranston\, RI\, 02905\, United States
CATEGORIES:Courses
END:VEVENT
BEGIN:VEVENT
DTSTART;TZID=America/New_York:20251021T100000
DTEND;TZID=America/New_York:20251021T120000
DTSTAMP:20260421T004018
CREATED:20250714T143319Z
LAST-MODIFIED:20250714T143319Z
UID:10003441-1761040800-1761048000@www.lifelonglearningcollaborative.org
SUMMARY:Writing a Memoir (Zoom)
DESCRIPTION:
URL:https://www.lifelonglearningcollaborative.org/event/writing-a-memoir-zoom-2-2/2025-10-21/
LOCATION:ZOOM
CATEGORIES:Courses
END:VEVENT
BEGIN:VEVENT
DTSTART;TZID=America/New_York:20251021T100000
DTEND;TZID=America/New_York:20251021T120000
DTSTAMP:20260421T004018
CREATED:20250714T143035Z
LAST-MODIFIED:20250714T143035Z
UID:10003433-1761040800-1761048000@www.lifelonglearningcollaborative.org
SUMMARY:Short Stories Desai & Eisenberg
DESCRIPTION:
URL:https://www.lifelonglearningcollaborative.org/event/short-stories-desai-eisenberg/2025-10-21/
LOCATION:Shriners Center\, 1 Rhodes Place\, Cranston\, RI\, 02905\, United States
CATEGORIES:Courses
END:VEVENT
BEGIN:VEVENT
DTSTART;TZID=America/New_York:20251020T100000
DTEND;TZID=America/New_York:20251020T120000
DTSTAMP:20260421T004018
CREATED:20250714T134514Z
LAST-MODIFIED:20250714T134514Z
UID:10003374-1760954400-1760961600@www.lifelonglearningcollaborative.org
SUMMARY:Open Studio Art (Zoom)
DESCRIPTION:
URL:https://www.lifelonglearningcollaborative.org/event/open-studio-art-zoom-2-4/2025-10-20/
LOCATION:ZOOM
CATEGORIES:Courses
END:VEVENT
BEGIN:VEVENT
DTSTART;TZID=America/New_York:20251020T100000
DTEND;TZID=America/New_York:20251020T120000
DTSTAMP:20260421T004018
CREATED:20250526T233807Z
LAST-MODIFIED:20251103T210152Z
UID:10003242-1760954400-1760961600@www.lifelonglearningcollaborative.org
SUMMARY:Current Events
DESCRIPTION:
URL:https://www.lifelonglearningcollaborative.org/event/current-events/2025-10-20/
LOCATION:ZOOM
CATEGORIES:Courses
END:VEVENT
BEGIN:VEVENT
DTSTART;TZID=America/New_York:20251017T100000
DTEND;TZID=America/New_York:20251017T230000
DTSTAMP:20260421T004018
CREATED:20250714T145833Z
LAST-MODIFIED:20251103T205822Z
UID:10003616-1760695200-1760742000@www.lifelonglearningcollaborative.org
SUMMARY:Get Fit
DESCRIPTION:
URL:https://www.lifelonglearningcollaborative.org/event/get-fit-2-2/2025-10-17/
LOCATION:ZOOM
CATEGORIES:Courses
END:VEVENT
BEGIN:VEVENT
DTSTART;TZID=America/New_York:20251017T100000
DTEND;TZID=America/New_York:20251017T120000
DTSTAMP:20260421T004018
CREATED:20250714T150033Z
LAST-MODIFIED:20250714T150033Z
UID:10003686-1760695200-1760702400@www.lifelonglearningcollaborative.org
SUMMARY:Anthropology/Movies
DESCRIPTION:
URL:https://www.lifelonglearningcollaborative.org/event/anthropology-movies/2025-10-17/
LOCATION:Shriners Center\, 1 Rhodes Place\, Cranston\, RI\, 02905\, United States
CATEGORIES:Courses
END:VEVENT
BEGIN:VEVENT
DTSTART;TZID=America/New_York:20251017T100000
DTEND;TZID=America/New_York:20251017T120000
DTSTAMP:20260421T004018
CREATED:20250714T145943Z
LAST-MODIFIED:20250714T145943Z
UID:10003675-1760695200-1760702400@www.lifelonglearningcollaborative.org
SUMMARY:1936 Olympics
DESCRIPTION:
URL:https://www.lifelonglearningcollaborative.org/event/1936-olympics/2025-10-17/
LOCATION:Shriners Center\, 1 Rhodes Place\, Cranston\, RI\, 02905\, United States
CATEGORIES:Courses
END:VEVENT
BEGIN:VEVENT
DTSTART;TZID=America/New_York:20251016T130000
DTEND;TZID=America/New_York:20251016T150000
DTSTAMP:20260421T004018
CREATED:20250714T145642Z
LAST-MODIFIED:20250714T145642Z
UID:10003599-1760619600-1760626800@www.lifelonglearningcollaborative.org
SUMMARY:Writing a Memoir (In-person)
DESCRIPTION:
URL:https://www.lifelonglearningcollaborative.org/event/writing-a-memoir-in-person/2025-10-16/
LOCATION:Shriners Center\, 1 Rhodes Place\, Cranston\, RI\, 02905\, United States
CATEGORIES:Courses
END:VEVENT
BEGIN:VEVENT
DTSTART;TZID=America/New_York:20251016T130000
DTEND;TZID=America/New_York:20251016T150000
DTSTAMP:20260421T004018
CREATED:20250714T145546Z
LAST-MODIFIED:20250714T145546Z
UID:10003589-1760619600-1760626800@www.lifelonglearningcollaborative.org
SUMMARY:Collage
DESCRIPTION:
URL:https://www.lifelonglearningcollaborative.org/event/collage/2025-10-16/
LOCATION:Shriners Center\, 1 Rhodes Place\, Cranston\, RI\, 02905\, United States
CATEGORIES:Courses
END:VEVENT
BEGIN:VEVENT
DTSTART;TZID=America/New_York:20251016T130000
DTEND;TZID=America/New_York:20251016T141500
DTSTAMP:20260421T004018
CREATED:20250714T145748Z
LAST-MODIFIED:20250714T145748Z
UID:10003609-1760619600-1760624100@www.lifelonglearningcollaborative.org
SUMMARY:Alexander Technique
DESCRIPTION:
URL:https://www.lifelonglearningcollaborative.org/event/alexander-technique-2-3/2025-10-16/
LOCATION:Shriners Center\, 1 Rhodes Place\, Cranston\, RI\, 02905\, United States
CATEGORIES:Courses
END:VEVENT
BEGIN:VEVENT
DTSTART;TZID=America/New_York:20251016T100000
DTEND;TZID=America/New_York:20251016T120000
DTSTAMP:20260421T004018
CREATED:20250714T145438Z
LAST-MODIFIED:20250714T145438Z
UID:10003577-1760608800-1760616000@www.lifelonglearningcollaborative.org
SUMMARY:Theater Conversations
DESCRIPTION:
URL:https://www.lifelonglearningcollaborative.org/event/theater-conversations-3-4/2025-10-16/
LOCATION:Shriners Center\, 1 Rhodes Place\, Cranston\, RI\, 02905\, United States
CATEGORIES:Courses
END:VEVENT
BEGIN:VEVENT
DTSTART;TZID=America/New_York:20251016T100000
DTEND;TZID=America/New_York:20251016T120000
DTSTAMP:20260421T004018
CREATED:20250714T145324Z
LAST-MODIFIED:20250714T145324Z
UID:10003569-1760608800-1760616000@www.lifelonglearningcollaborative.org
SUMMARY:You Should Hear This
DESCRIPTION:
URL:https://www.lifelonglearningcollaborative.org/event/you-should-hear-this/2025-10-16/
LOCATION:Shriners Center\, 1 Rhodes Place\, Cranston\, RI\, 02905\, United States
CATEGORIES:Courses
END:VEVENT
BEGIN:VEVENT
DTSTART;TZID=America/New_York:20251016T100000
DTEND;TZID=America/New_York:20251016T120000
DTSTAMP:20260421T004018
CREATED:20250714T145207Z
LAST-MODIFIED:20250714T145207Z
UID:10003559-1760608800-1760616000@www.lifelonglearningcollaborative.org
SUMMARY:End Time Corporations
DESCRIPTION:
URL:https://www.lifelonglearningcollaborative.org/event/end-time-corporations/2025-10-16/
LOCATION:Shriners Center\, 1 Rhodes Place\, Cranston\, RI\, 02905\, United States
CATEGORIES:Courses
END:VEVENT
BEGIN:VEVENT
DTSTART;TZID=America/New_York:20251015T160000
DTEND;TZID=America/New_York:20251015T170000
DTSTAMP:20260421T004018
CREATED:20250728T220843Z
LAST-MODIFIED:20250728T220843Z
UID:10003701-1760544000-1760547600@www.lifelonglearningcollaborative.org
SUMMARY:LLC Webinar Lecture Series presents Tamara Lanier\, Author of From These Roots: My Fight with Harvard to Reclaim My Legacy\, "From These Roots: A Quest to Retrieve My Ancestors’ Daguerreotypes"
DESCRIPTION:
URL:https://www.lifelonglearningcollaborative.org/event/llc-webinar-lecture-series-presents-tamara-lanier-author-of-from-these-roots-my-fight-with-harvard-to-reclaim-my-legacy-from-these-roots-a-quest-to-retrieve-my-ancestors-daguerreotypes/
LOCATION:ZOOM
CATEGORIES:Free Webinars
END:VEVENT
BEGIN:VEVENT
DTSTART;TZID=America/New_York:20251015T130000
DTEND;TZID=America/New_York:20251015T150000
DTSTAMP:20260421T004018
CREATED:20250714T145106Z
LAST-MODIFIED:20250714T145106Z
UID:10003548-1760533200-1760540400@www.lifelonglearningcollaborative.org
SUMMARY:Luminous Things (Hybrid)
DESCRIPTION:
URL:https://www.lifelonglearningcollaborative.org/event/luminous-things-hybrid/2025-10-15/
LOCATION:Shriners Center\, 1 Rhodes Place\, Cranston\, RI\, 02905\, United States
CATEGORIES:Courses
END:VEVENT
BEGIN:VEVENT
DTSTART;TZID=America/New_York:20251015T130000
DTEND;TZID=America/New_York:20251015T150000
DTSTAMP:20260421T004018
CREATED:20250714T144934Z
LAST-MODIFIED:20250714T144934Z
UID:10003540-1760533200-1760540400@www.lifelonglearningcollaborative.org
SUMMARY:LLC Knits
DESCRIPTION:
URL:https://www.lifelonglearningcollaborative.org/event/llc-knits-3-6/2025-10-15/
LOCATION:Shriners Center\, 1 Rhodes Place\, Cranston\, RI\, 02905\, United States
CATEGORIES:Courses
END:VEVENT
BEGIN:VEVENT
DTSTART;TZID=America/New_York:20251015T130000
DTEND;TZID=America/New_York:20251015T150000
DTSTAMP:20260421T004018
CREATED:20250714T144838Z
LAST-MODIFIED:20250714T144838Z
UID:10003532-1760533200-1760540400@www.lifelonglearningcollaborative.org
SUMMARY:Jazz Dance
DESCRIPTION:
URL:https://www.lifelonglearningcollaborative.org/event/jazz-dance-2-2/2025-10-15/
LOCATION:Shriners Center\, 1 Rhodes Place\, Cranston\, RI\, 02905\, United States
CATEGORIES:Courses
END:VEVENT
BEGIN:VEVENT
DTSTART;TZID=America/New_York:20251015T130000
DTEND;TZID=America/New_York:20251015T150000
DTSTAMP:20260421T004018
CREATED:20250714T144722Z
LAST-MODIFIED:20250714T144722Z
UID:10003521-1760533200-1760540400@www.lifelonglearningcollaborative.org
SUMMARY:Hot Topics
DESCRIPTION:
URL:https://www.lifelonglearningcollaborative.org/event/hot-topics-3-8/2025-10-15/
LOCATION:ZOOM
CATEGORIES:Courses
END:VEVENT
BEGIN:VEVENT
DTSTART;TZID=America/New_York:20251015T100000
DTEND;TZID=America/New_York:20251015T120000
DTSTAMP:20260421T004018
CREATED:20250714T150301Z
LAST-MODIFIED:20250714T150301Z
UID:10003696-1760522400-1760529600@www.lifelonglearningcollaborative.org
SUMMARY:Creative Arts
DESCRIPTION:
URL:https://www.lifelonglearningcollaborative.org/event/creative-arts/2025-10-15/
LOCATION:Shriners Center\, 1 Rhodes Place\, Cranston\, RI\, 02905\, United States
CATEGORIES:Courses
END:VEVENT
BEGIN:VEVENT
DTSTART;TZID=America/New_York:20251015T100000
DTEND;TZID=America/New_York:20251015T120000
DTSTAMP:20260421T004018
CREATED:20250714T144630Z
LAST-MODIFIED:20250714T144630Z
UID:10003512-1760522400-1760529600@www.lifelonglearningcollaborative.org
SUMMARY:Ibsen Plays
DESCRIPTION:
URL:https://www.lifelonglearningcollaborative.org/event/ibsen-plays/2025-10-15/
LOCATION:Shriners Center\, 1 Rhodes Place\, Cranston\, RI\, 02905\, United States
CATEGORIES:Courses
END:VEVENT
BEGIN:VEVENT
DTSTART;TZID=America/New_York:20251014T130000
DTEND;TZID=America/New_York:20251014T150000
DTSTAMP:20260421T004018
CREATED:20250714T144217Z
LAST-MODIFIED:20250714T144217Z
UID:10003483-1760446800-1760454000@www.lifelonglearningcollaborative.org
SUMMARY:Cell Phone Photo
DESCRIPTION:
URL:https://www.lifelonglearningcollaborative.org/event/cell-phone-photo-3-3/2025-10-14/
LOCATION:Shriners Center\, 1 Rhodes Place\, Cranston\, RI\, 02905\, United States
CATEGORIES:Courses
END:VEVENT
BEGIN:VEVENT
DTSTART;TZID=America/New_York:20251014T130000
DTEND;TZID=America/New_York:20251014T150000
DTSTAMP:20260421T004018
CREATED:20250714T143952Z
LAST-MODIFIED:20250714T143952Z
UID:10003473-1760446800-1760454000@www.lifelonglearningcollaborative.org
SUMMARY:Burning World
DESCRIPTION:
URL:https://www.lifelonglearningcollaborative.org/event/burning-world/2025-10-14/
LOCATION:Shriners Center\, 1 Rhodes Place\, Cranston\, RI\, 02905\, United States
CATEGORIES:Courses
END:VEVENT
BEGIN:VEVENT
DTSTART;TZID=America/New_York:20251014T130000
DTEND;TZID=America/New_York:20251014T150000
DTSTAMP:20260421T004018
CREATED:20250714T143837Z
LAST-MODIFIED:20250714T143837Z
UID:10003468-1760446800-1760454000@www.lifelonglearningcollaborative.org
SUMMARY:Cornell Boxes
DESCRIPTION:
URL:https://www.lifelonglearningcollaborative.org/event/cornell-boxes/2025-10-14/
LOCATION:Shriners Center\, 1 Rhodes Place\, Cranston\, RI\, 02905\, United States
CATEGORIES:Courses
END:VEVENT
BEGIN:VEVENT
DTSTART;TZID=America/New_York:20251014T100000
DTEND;TZID=America/New_York:20251014T123000
DTSTAMP:20260421T004018
CREATED:20250714T143654Z
LAST-MODIFIED:20250714T143654Z
UID:10003458-1760436000-1760445000@www.lifelonglearningcollaborative.org
SUMMARY:Scrabble
DESCRIPTION:
URL:https://www.lifelonglearningcollaborative.org/event/scrabble-21/2025-10-14/
LOCATION:Shriners Center\, 1 Rhodes Place\, Cranston\, RI\, 02905\, United States
CATEGORIES:Courses
END:VEVENT
BEGIN:VEVENT
DTSTART;TZID=America/New_York:20251014T100000
DTEND;TZID=America/New_York:20251014T123000
DTSTAMP:20260421T004018
CREATED:20250714T143422Z
LAST-MODIFIED:20250714T143422Z
UID:10003448-1760436000-1760445000@www.lifelonglearningcollaborative.org
SUMMARY:Open Studio Art (In-person)
DESCRIPTION:
URL:https://www.lifelonglearningcollaborative.org/event/open-studio-art-in-person/2025-10-14/
LOCATION:Shriners Center\, 1 Rhodes Place\, Cranston\, RI\, 02905\, United States
CATEGORIES:Courses
END:VEVENT
BEGIN:VEVENT
DTSTART;TZID=America/New_York:20251014T100000
DTEND;TZID=America/New_York:20251014T120000
DTSTAMP:20260421T004018
CREATED:20250714T143035Z
LAST-MODIFIED:20250714T143035Z
UID:10003432-1760436000-1760443200@www.lifelonglearningcollaborative.org
SUMMARY:Short Stories Desai & Eisenberg
DESCRIPTION:
URL:https://www.lifelonglearningcollaborative.org/event/short-stories-desai-eisenberg/2025-10-14/
LOCATION:Shriners Center\, 1 Rhodes Place\, Cranston\, RI\, 02905\, United States
CATEGORIES:Courses
END:VEVENT
BEGIN:VEVENT
DTSTART;TZID=America/New_York:20251013T130000
DTEND;TZID=America/New_York:20251013T150000
DTSTAMP:20260421T004018
CREATED:20250714T134926Z
LAST-MODIFIED:20250714T135145Z
UID:10003400-1760360400-1760367600@www.lifelonglearningcollaborative.org
SUMMARY:Detective Novel Book Club
DESCRIPTION:
URL:https://www.lifelonglearningcollaborative.org/event/detective-novel-book-club/2025-10-13/
LOCATION:Shriners Center\, 1 Rhodes Place\, Cranston\, RI\, 02905\, United States
CATEGORIES:Courses
END:VEVENT
BEGIN:VEVENT
DTSTART;TZID=America/New_York:20251013T100000
DTEND;TZID=America/New_York:20251013T120000
DTSTAMP:20260421T004018
CREATED:20250714T134514Z
LAST-MODIFIED:20250714T134514Z
UID:10003373-1760349600-1760356800@www.lifelonglearningcollaborative.org
SUMMARY:Open Studio Art (Zoom)
DESCRIPTION:
URL:https://www.lifelonglearningcollaborative.org/event/open-studio-art-zoom-2-4/2025-10-13/
LOCATION:ZOOM
CATEGORIES:Courses
END:VEVENT
END:VCALENDAR