BEGIN:VCALENDAR
VERSION:2.0
PRODID:-//Lifelong Learning Collaborative - ECPv6.15.12.2//NONSGML v1.0//EN
CALSCALE:GREGORIAN
METHOD:PUBLISH
X-ORIGINAL-URL:https://www.lifelonglearningcollaborative.org
X-WR-CALDESC:Events for Lifelong Learning Collaborative
REFRESH-INTERVAL;VALUE=DURATION:PT1H
X-Robots-Tag:noindex
X-PUBLISHED-TTL:PT1H
BEGIN:VTIMEZONE
TZID:America/New_York
BEGIN:DAYLIGHT
TZOFFSETFROM:-0500
TZOFFSETTO:-0400
TZNAME:EDT
DTSTART:20250309T070000
END:DAYLIGHT
BEGIN:STANDARD
TZOFFSETFROM:-0400
TZOFFSETTO:-0500
TZNAME:EST
DTSTART:20251102T060000
END:STANDARD
BEGIN:DAYLIGHT
TZOFFSETFROM:-0500
TZOFFSETTO:-0400
TZNAME:EDT
DTSTART:20260308T070000
END:DAYLIGHT
BEGIN:STANDARD
TZOFFSETFROM:-0400
TZOFFSETTO:-0500
TZNAME:EST
DTSTART:20261101T060000
END:STANDARD
BEGIN:DAYLIGHT
TZOFFSETFROM:-0500
TZOFFSETTO:-0400
TZNAME:EDT
DTSTART:20270314T070000
END:DAYLIGHT
BEGIN:STANDARD
TZOFFSETFROM:-0400
TZOFFSETTO:-0500
TZNAME:EST
DTSTART:20271107T060000
END:STANDARD
BEGIN:DAYLIGHT
TZOFFSETFROM:-0500
TZOFFSETTO:-0400
TZNAME:EDT
DTSTART:20280312T070000
END:DAYLIGHT
BEGIN:STANDARD
TZOFFSETFROM:-0400
TZOFFSETTO:-0500
TZNAME:EST
DTSTART:20281105T060000
END:STANDARD
END:VTIMEZONE
BEGIN:VEVENT
DTSTART;TZID=America/New_York:20260525T100000
DTEND;TZID=America/New_York:20260525T120000
DTSTAMP:20260419T195254
CREATED:20260119T162123Z
LAST-MODIFIED:20260119T162123Z
UID:10004037-1779703200-1779710400@www.lifelonglearningcollaborative.org
SUMMARY:Paint Like a Woman
DESCRIPTION:
URL:https://www.lifelonglearningcollaborative.org/event/paint-like-a-woman-2-2/2026-05-25/
LOCATION:Shriners Center\, 1 Rhodes Place\, Cranston\, RI\, 02905\, United States
CATEGORIES:Courses
END:VEVENT
BEGIN:VEVENT
DTSTART;TZID=America/New_York:20260525T130000
DTEND;TZID=America/New_York:20260525T150000
DTSTAMP:20260419T195254
CREATED:20250714T135535Z
LAST-MODIFIED:20250714T135535Z
UID:10003417-1779714000-1779721200@www.lifelonglearningcollaborative.org
SUMMARY:Hist Novel Book Club 25-26
DESCRIPTION:
URL:https://www.lifelonglearningcollaborative.org/event/hist-novel-book-club-25-26/2026-05-25/
LOCATION:ZOOM
CATEGORIES:Courses
END:VEVENT
BEGIN:VEVENT
DTSTART;TZID=America/New_York:20260527T100000
DTEND;TZID=America/New_York:20260527T120000
DTSTAMP:20260419T195254
CREATED:20260119T161816Z
LAST-MODIFIED:20260119T161816Z
UID:10004017-1779876000-1779883200@www.lifelonglearningcollaborative.org
SUMMARY:Looking at Ourselves
DESCRIPTION:
URL:https://www.lifelonglearningcollaborative.org/event/looking-at-ourselves/2026-05-27/
LOCATION:Shriners Center\, 1 Rhodes Place\, Cranston\, RI\, 02905\, United States
CATEGORIES:Courses
END:VEVENT
BEGIN:VEVENT
DTSTART;TZID=America/New_York:20260527T100000
DTEND;TZID=America/New_York:20260527T120000
DTSTAMP:20260419T195254
CREATED:20260119T162123Z
LAST-MODIFIED:20260119T162123Z
UID:10004038-1779876000-1779883200@www.lifelonglearningcollaborative.org
SUMMARY:Paint Like a Woman
DESCRIPTION:
URL:https://www.lifelonglearningcollaborative.org/event/paint-like-a-woman-2-2/2026-05-27/
LOCATION:Shriners Center\, 1 Rhodes Place\, Cranston\, RI\, 02905\, United States
CATEGORIES:Courses
END:VEVENT
BEGIN:VEVENT
DTSTART;TZID=America/New_York:20260527T130000
DTEND;TZID=America/New_York:20260527T150000
DTSTAMP:20260419T195254
CREATED:20260119T162638Z
LAST-MODIFIED:20260119T162638Z
UID:10004058-1779886800-1779894000@www.lifelonglearningcollaborative.org
SUMMARY:Hot Topics
DESCRIPTION:
URL:https://www.lifelonglearningcollaborative.org/event/hot-topics-3-10/2026-05-27/
LOCATION:ZOOM
CATEGORIES:Courses
END:VEVENT
BEGIN:VEVENT
DTSTART;TZID=America/New_York:20260527T130000
DTEND;TZID=America/New_York:20260527T150000
DTSTAMP:20260419T195254
CREATED:20260119T162913Z
LAST-MODIFIED:20260316T150634Z
UID:10004222-1779886800-1779894000@www.lifelonglearningcollaborative.org
SUMMARY:Improv Theater
DESCRIPTION:
URL:https://www.lifelonglearningcollaborative.org/event/improv-theater/2026-05-27/
LOCATION:Shriners Center\, 1 Rhodes Place\, Cranston\, RI\, 02905\, United States
CATEGORIES:Courses
END:VEVENT
BEGIN:VEVENT
DTSTART;TZID=America/New_York:20260527T160000
DTEND;TZID=America/New_York:20260527T170000
DTSTAMP:20260419T195254
CREATED:20260224T151800Z
LAST-MODIFIED:20260316T150559Z
UID:10004148-1779897600-1779901200@www.lifelonglearningcollaborative.org
SUMMARY:Annual Meeting (ZOOM)
DESCRIPTION:
URL:https://www.lifelonglearningcollaborative.org/event/annual-meeting-2/
CATEGORIES:Annual Meetings
END:VEVENT
BEGIN:VEVENT
DTSTART;TZID=America/New_York:20260528T160000
DTEND;TZID=America/New_York:20260528T180000
DTSTAMP:20260419T195254
CREATED:20260406T134322Z
LAST-MODIFIED:20260406T134322Z
UID:10004245-1779984000-1779991200@www.lifelonglearningcollaborative.org
SUMMARY:Coord Appreciation
DESCRIPTION:Winter and Spring LLC coordinators are invited Thursday\, May 28 at 4 PM at the Regency Apartments or a Coordinator Appreciation Night.
URL:https://www.lifelonglearningcollaborative.org/event/coord-appreciation/
LOCATION:Regency Plaza Apartments\, RI\, United States
CATEGORIES:Courses
END:VEVENT
BEGIN:VEVENT
DTSTART;TZID=America/New_York:20260608T130000
DTEND;TZID=America/New_York:20260608T150000
DTSTAMP:20260419T195254
CREATED:20250714T134926Z
LAST-MODIFIED:20250714T135145Z
UID:10003408-1780923600-1780930800@www.lifelonglearningcollaborative.org
SUMMARY:Detective Novel Book Club
DESCRIPTION:
URL:https://www.lifelonglearningcollaborative.org/event/detective-novel-book-club/2026-06-08/
LOCATION:Shriners Center\, 1 Rhodes Place\, Cranston\, RI\, 02905\, United States
CATEGORIES:Courses
END:VEVENT
BEGIN:VEVENT
DTSTART;TZID=America/New_York:20260613T090000
DTEND;TZID=America/New_York:20260613T110000
DTSTAMP:20260419T195254
CREATED:20260310T161512Z
LAST-MODIFIED:20260310T161512Z
UID:10004155-1781341200-1781348400@www.lifelonglearningcollaborative.org
SUMMARY:Breakfast Club: Prov & Warren
DESCRIPTION:
URL:https://www.lifelonglearningcollaborative.org/event/breakfast-club-prov-warren/2026-06-13/
END:VEVENT
BEGIN:VEVENT
DTSTART;VALUE=DATE:20260615
DTEND;VALUE=DATE:20260620
DTSTAMP:20260419T195254
CREATED:20260310T151808Z
LAST-MODIFIED:20260310T151954Z
UID:10004151-1781481600-1781913599@www.lifelonglearningcollaborative.org
SUMMARY:Summersession Starts
DESCRIPTION:
URL:https://www.lifelonglearningcollaborative.org/event/summersession-starts/
CATEGORIES:Semester Announcements
END:VEVENT
BEGIN:VEVENT
DTSTART;TZID=America/New_York:20260629T130000
DTEND;TZID=America/New_York:20260629T150000
DTSTAMP:20260419T195254
CREATED:20250714T135535Z
LAST-MODIFIED:20250714T135535Z
UID:10003418-1782738000-1782745200@www.lifelonglearningcollaborative.org
SUMMARY:Hist Novel Book Club 25-26
DESCRIPTION:
URL:https://www.lifelonglearningcollaborative.org/event/hist-novel-book-club-25-26/2026-06-29/
LOCATION:ZOOM
CATEGORIES:Courses
END:VEVENT
BEGIN:VEVENT
DTSTART;TZID=America/New_York:20260711T090000
DTEND;TZID=America/New_York:20260711T110000
DTSTAMP:20260419T195254
CREATED:20260310T161512Z
LAST-MODIFIED:20260310T161512Z
UID:10004156-1783760400-1783767600@www.lifelonglearningcollaborative.org
SUMMARY:Breakfast Club: Prov & Warren
DESCRIPTION:
URL:https://www.lifelonglearningcollaborative.org/event/breakfast-club-prov-warren/2026-07-11/
END:VEVENT
BEGIN:VEVENT
DTSTART;VALUE=DATE:20260720
DTEND;VALUE=DATE:20260721
DTSTAMP:20260419T195254
CREATED:20260406T134406Z
LAST-MODIFIED:20260406T134406Z
UID:10004246-1784505600-1784591999@www.lifelonglearningcollaborative.org
SUMMARY:Fall catalog announcement
DESCRIPTION:
URL:https://www.lifelonglearningcollaborative.org/event/fall-catalog-announcement-3/
CATEGORIES:Semester Announcements
END:VEVENT
BEGIN:VEVENT
DTSTART;TZID=America/New_York:20260727T090000
DTEND;TZID=America/New_York:20260727T235900
DTSTAMP:20260419T195254
CREATED:20260406T134441Z
LAST-MODIFIED:20260406T134441Z
UID:10004247-1785142800-1785196740@www.lifelonglearningcollaborative.org
SUMMARY:Fall Reg Opens @ 9 AM
DESCRIPTION:
URL:https://www.lifelonglearningcollaborative.org/event/fall-reg-opens-9-am/
CATEGORIES:Semester Announcements
END:VEVENT
BEGIN:VEVENT
DTSTART;TZID=America/New_York:20260727T130000
DTEND;TZID=America/New_York:20260727T150000
DTSTAMP:20260419T195254
CREATED:20250714T135535Z
LAST-MODIFIED:20250714T135535Z
UID:10003419-1785157200-1785164400@www.lifelonglearningcollaborative.org
SUMMARY:Hist Novel Book Club 25-26
DESCRIPTION:
URL:https://www.lifelonglearningcollaborative.org/event/hist-novel-book-club-25-26/2026-07-27/
LOCATION:ZOOM
CATEGORIES:Courses
END:VEVENT
BEGIN:VEVENT
DTSTART;TZID=America/New_York:20260808T090000
DTEND;TZID=America/New_York:20260808T110000
DTSTAMP:20260419T195254
CREATED:20260310T161512Z
LAST-MODIFIED:20260310T161512Z
UID:10004157-1786179600-1786186800@www.lifelonglearningcollaborative.org
SUMMARY:Breakfast Club: Prov & Warren
DESCRIPTION:
URL:https://www.lifelonglearningcollaborative.org/event/breakfast-club-prov-warren/2026-08-08/
END:VEVENT
BEGIN:VEVENT
DTSTART;TZID=America/New_York:20260831T130000
DTEND;TZID=America/New_York:20260831T150000
DTSTAMP:20260419T195254
CREATED:20250714T135535Z
LAST-MODIFIED:20250714T135535Z
UID:10003420-1788181200-1788188400@www.lifelonglearningcollaborative.org
SUMMARY:Hist Novel Book Club 25-26
DESCRIPTION:
URL:https://www.lifelonglearningcollaborative.org/event/hist-novel-book-club-25-26/2026-08-31/
LOCATION:ZOOM
CATEGORIES:Courses
END:VEVENT
BEGIN:VEVENT
DTSTART;TZID=America/New_York:20260912T090000
DTEND;TZID=America/New_York:20260912T110000
DTSTAMP:20260419T195254
CREATED:20260310T161512Z
LAST-MODIFIED:20260310T161512Z
UID:10004158-1789203600-1789210800@www.lifelonglearningcollaborative.org
SUMMARY:Breakfast Club: Prov & Warren
DESCRIPTION:
URL:https://www.lifelonglearningcollaborative.org/event/breakfast-club-prov-warren/2026-09-12/
END:VEVENT
BEGIN:VEVENT
DTSTART;TZID=America/New_York:20261010T090000
DTEND;TZID=America/New_York:20261010T110000
DTSTAMP:20260419T195254
CREATED:20260310T161512Z
LAST-MODIFIED:20260310T161512Z
UID:10004159-1791622800-1791630000@www.lifelonglearningcollaborative.org
SUMMARY:Breakfast Club: Prov & Warren
DESCRIPTION:
URL:https://www.lifelonglearningcollaborative.org/event/breakfast-club-prov-warren/2026-10-10/
END:VEVENT
BEGIN:VEVENT
DTSTART;TZID=America/New_York:20261114T090000
DTEND;TZID=America/New_York:20261114T110000
DTSTAMP:20260419T195254
CREATED:20260310T161512Z
LAST-MODIFIED:20260310T161512Z
UID:10004160-1794646800-1794654000@www.lifelonglearningcollaborative.org
SUMMARY:Breakfast Club: Prov & Warren
DESCRIPTION:
URL:https://www.lifelonglearningcollaborative.org/event/breakfast-club-prov-warren/2026-11-14/
END:VEVENT
BEGIN:VEVENT
DTSTART;TZID=America/New_York:20261212T090000
DTEND;TZID=America/New_York:20261212T110000
DTSTAMP:20260419T195254
CREATED:20260310T161512Z
LAST-MODIFIED:20260310T161512Z
UID:10004161-1797066000-1797073200@www.lifelonglearningcollaborative.org
SUMMARY:Breakfast Club: Prov & Warren
DESCRIPTION:
URL:https://www.lifelonglearningcollaborative.org/event/breakfast-club-prov-warren/2026-12-12/
END:VEVENT
BEGIN:VEVENT
DTSTART;TZID=America/New_York:20270109T090000
DTEND;TZID=America/New_York:20270109T110000
DTSTAMP:20260419T195254
CREATED:20260310T161512Z
LAST-MODIFIED:20260310T161512Z
UID:10004162-1799485200-1799492400@www.lifelonglearningcollaborative.org
SUMMARY:Breakfast Club: Prov & Warren
DESCRIPTION:
URL:https://www.lifelonglearningcollaborative.org/event/breakfast-club-prov-warren/2027-01-09/
END:VEVENT
BEGIN:VEVENT
DTSTART;TZID=America/New_York:20270213T090000
DTEND;TZID=America/New_York:20270213T110000
DTSTAMP:20260419T195254
CREATED:20260310T161512Z
LAST-MODIFIED:20260310T161512Z
UID:10004163-1802509200-1802516400@www.lifelonglearningcollaborative.org
SUMMARY:Breakfast Club: Prov & Warren
DESCRIPTION:
URL:https://www.lifelonglearningcollaborative.org/event/breakfast-club-prov-warren/2027-02-13/
END:VEVENT
BEGIN:VEVENT
DTSTART;TZID=America/New_York:20270313T090000
DTEND;TZID=America/New_York:20270313T110000
DTSTAMP:20260419T195254
CREATED:20260310T161512Z
LAST-MODIFIED:20260310T161512Z
UID:10004164-1804928400-1804935600@www.lifelonglearningcollaborative.org
SUMMARY:Breakfast Club: Prov & Warren
DESCRIPTION:
URL:https://www.lifelonglearningcollaborative.org/event/breakfast-club-prov-warren/2027-03-13/
END:VEVENT
BEGIN:VEVENT
DTSTART;TZID=America/New_York:20270410T090000
DTEND;TZID=America/New_York:20270410T110000
DTSTAMP:20260419T195254
CREATED:20260310T161512Z
LAST-MODIFIED:20260310T161512Z
UID:10004165-1807347600-1807354800@www.lifelonglearningcollaborative.org
SUMMARY:Breakfast Club: Prov & Warren
DESCRIPTION:
URL:https://www.lifelonglearningcollaborative.org/event/breakfast-club-prov-warren/2027-04-10/
END:VEVENT
BEGIN:VEVENT
DTSTART;TZID=America/New_York:20270508T090000
DTEND;TZID=America/New_York:20270508T110000
DTSTAMP:20260419T195254
CREATED:20260310T161512Z
LAST-MODIFIED:20260310T161512Z
UID:10004166-1809766800-1809774000@www.lifelonglearningcollaborative.org
SUMMARY:Breakfast Club: Prov & Warren
DESCRIPTION:
URL:https://www.lifelonglearningcollaborative.org/event/breakfast-club-prov-warren/2027-05-08/
END:VEVENT
BEGIN:VEVENT
DTSTART;TZID=America/New_York:20270612T090000
DTEND;TZID=America/New_York:20270612T110000
DTSTAMP:20260419T195254
CREATED:20260310T161512Z
LAST-MODIFIED:20260310T161512Z
UID:10004167-1812790800-1812798000@www.lifelonglearningcollaborative.org
SUMMARY:Breakfast Club: Prov & Warren
DESCRIPTION:
URL:https://www.lifelonglearningcollaborative.org/event/breakfast-club-prov-warren/2027-06-12/
END:VEVENT
BEGIN:VEVENT
DTSTART;TZID=America/New_York:20270710T090000
DTEND;TZID=America/New_York:20270710T110000
DTSTAMP:20260419T195254
CREATED:20260310T161512Z
LAST-MODIFIED:20260310T161512Z
UID:10004168-1815210000-1815217200@www.lifelonglearningcollaborative.org
SUMMARY:Breakfast Club: Prov & Warren
DESCRIPTION:
URL:https://www.lifelonglearningcollaborative.org/event/breakfast-club-prov-warren/2027-07-10/
END:VEVENT
BEGIN:VEVENT
DTSTART;TZID=America/New_York:20270814T090000
DTEND;TZID=America/New_York:20270814T110000
DTSTAMP:20260419T195254
CREATED:20260310T161512Z
LAST-MODIFIED:20260310T161512Z
UID:10004169-1818234000-1818241200@www.lifelonglearningcollaborative.org
SUMMARY:Breakfast Club: Prov & Warren
DESCRIPTION:
URL:https://www.lifelonglearningcollaborative.org/event/breakfast-club-prov-warren/2027-08-14/
END:VEVENT
END:VCALENDAR