BEGIN:VCALENDAR
VERSION:2.0
PRODID:-//Lifelong Learning Collaborative - ECPv6.15.12.2//NONSGML v1.0//EN
CALSCALE:GREGORIAN
METHOD:PUBLISH
X-ORIGINAL-URL:https://www.lifelonglearningcollaborative.org
X-WR-CALDESC:Events for Lifelong Learning Collaborative
REFRESH-INTERVAL;VALUE=DURATION:PT1H
X-Robots-Tag:noindex
X-PUBLISHED-TTL:PT1H
BEGIN:VTIMEZONE
TZID:America/New_York
BEGIN:DAYLIGHT
TZOFFSETFROM:-0500
TZOFFSETTO:-0400
TZNAME:EDT
DTSTART:20240310T070000
END:DAYLIGHT
BEGIN:STANDARD
TZOFFSETFROM:-0400
TZOFFSETTO:-0500
TZNAME:EST
DTSTART:20241103T060000
END:STANDARD
BEGIN:DAYLIGHT
TZOFFSETFROM:-0500
TZOFFSETTO:-0400
TZNAME:EDT
DTSTART:20250309T070000
END:DAYLIGHT
BEGIN:STANDARD
TZOFFSETFROM:-0400
TZOFFSETTO:-0500
TZNAME:EST
DTSTART:20251102T060000
END:STANDARD
BEGIN:DAYLIGHT
TZOFFSETFROM:-0500
TZOFFSETTO:-0400
TZNAME:EDT
DTSTART:20260308T070000
END:DAYLIGHT
BEGIN:STANDARD
TZOFFSETFROM:-0400
TZOFFSETTO:-0500
TZNAME:EST
DTSTART:20261101T060000
END:STANDARD
BEGIN:DAYLIGHT
TZOFFSETFROM:-0500
TZOFFSETTO:-0400
TZNAME:EDT
DTSTART:20270314T070000
END:DAYLIGHT
BEGIN:STANDARD
TZOFFSETFROM:-0400
TZOFFSETTO:-0500
TZNAME:EST
DTSTART:20271107T060000
END:STANDARD
END:VTIMEZONE
BEGIN:VEVENT
DTSTART;TZID=America/New_York:20251208T130000
DTEND;TZID=America/New_York:20251208T150000
DTSTAMP:20260420T001942
CREATED:20250714T134926Z
LAST-MODIFIED:20250714T135145Z
UID:10003402-1765198800-1765206000@www.lifelonglearningcollaborative.org
SUMMARY:Detective Novel Book Club
DESCRIPTION:
URL:https://www.lifelonglearningcollaborative.org/event/detective-novel-book-club/2025-12-08/
LOCATION:Shriners Center\, 1 Rhodes Place\, Cranston\, RI\, 02905\, United States
CATEGORIES:Courses
END:VEVENT
BEGIN:VEVENT
DTSTART;TZID=America/New_York:20251210T130000
DTEND;TZID=America/New_York:20251210T150000
DTSTAMP:20260420T001942
CREATED:20250714T145106Z
LAST-MODIFIED:20250714T145106Z
UID:10003554-1765371600-1765378800@www.lifelonglearningcollaborative.org
SUMMARY:Luminous Things (Hybrid)
DESCRIPTION:
URL:https://www.lifelonglearningcollaborative.org/event/luminous-things-hybrid/2025-12-10/
LOCATION:Shriners Center\, 1 Rhodes Place\, Cranston\, RI\, 02905\, United States
CATEGORIES:Courses
END:VEVENT
BEGIN:VEVENT
DTSTART;TZID=America/New_York:20251211T100000
DTEND;TZID=America/New_York:20251211T120000
DTSTAMP:20260420T001942
CREATED:20250714T145438Z
LAST-MODIFIED:20250714T145438Z
UID:10003584-1765447200-1765454400@www.lifelonglearningcollaborative.org
SUMMARY:Theater Conversations
DESCRIPTION:
URL:https://www.lifelonglearningcollaborative.org/event/theater-conversations-3-4/2025-12-11/
LOCATION:Shriners Center\, 1 Rhodes Place\, Cranston\, RI\, 02905\, United States
CATEGORIES:Courses
END:VEVENT
BEGIN:VEVENT
DTSTART;TZID=America/New_York:20251212T090000
DTEND;TZID=America/New_York:20251212T110000
DTSTAMP:20260420T001942
CREATED:20251129T135433Z
LAST-MODIFIED:20251129T135433Z
UID:10003895-1765530000-1765537200@www.lifelonglearningcollaborative.org
SUMMARY:LLC Breakfast Club
DESCRIPTION:Second Friday of Oct\, Nov\, Dec \nThe Butcher’s Shop and Deli﻿\n157 Elmgrove Street﻿\n﻿Providence\, RI 02906
URL:https://www.lifelonglearningcollaborative.org/event/llc-breakfast-club/2025-12-12/
CATEGORIES:Social Events
END:VEVENT
BEGIN:VEVENT
DTSTART;TZID=America/New_York:20251229T130000
DTEND;TZID=America/New_York:20251229T150000
DTSTAMP:20260420T001942
CREATED:20250714T135535Z
LAST-MODIFIED:20250714T135535Z
UID:10003412-1767013200-1767020400@www.lifelonglearningcollaborative.org
SUMMARY:Hist Novel Book Club 25-26
DESCRIPTION:
URL:https://www.lifelonglearningcollaborative.org/event/hist-novel-book-club-25-26/2025-12-29/
LOCATION:ZOOM
CATEGORIES:Courses
END:VEVENT
BEGIN:VEVENT
DTSTART;TZID=America/New_York:20260105T100000
DTEND;TZID=America/New_York:20260105T120000
DTSTAMP:20260420T001942
CREATED:20251124T211018Z
LAST-MODIFIED:20251124T212538Z
UID:10003704-1767607200-1767614400@www.lifelonglearningcollaborative.org
SUMMARY:Jane Austen
DESCRIPTION:
URL:https://www.lifelonglearningcollaborative.org/event/jane-austen/2026-01-05/
LOCATION:Shriners Center\, 1 Rhodes Place\, Cranston\, RI\, 02905\, United States
CATEGORIES:Courses
END:VEVENT
BEGIN:VEVENT
DTSTART;TZID=America/New_York:20260105T100000
DTEND;TZID=America/New_York:20260105T120000
DTSTAMP:20260420T001942
CREATED:20251124T212145Z
LAST-MODIFIED:20251124T212658Z
UID:10003714-1767607200-1767614400@www.lifelonglearningcollaborative.org
SUMMARY:Open Studio Art (Zoom)
DESCRIPTION:
URL:https://www.lifelonglearningcollaborative.org/event/open-studio-art-zoom-2-5/2026-01-05/
LOCATION:ZOOM
CATEGORIES:Courses
END:VEVENT
BEGIN:VEVENT
DTSTART;TZID=America/New_York:20260105T130000
DTEND;TZID=America/New_York:20260105T150000
DTSTAMP:20260420T001942
CREATED:20251125T140356Z
LAST-MODIFIED:20251125T140356Z
UID:10003730-1767618000-1767625200@www.lifelonglearningcollaborative.org
SUMMARY:Literary Rx
DESCRIPTION:
URL:https://www.lifelonglearningcollaborative.org/event/literary-rx/2026-01-05/
LOCATION:international house of rhode island\, 8 Stimson Avenue\, Providence\, RI\, 02906\, United States
CATEGORIES:Courses
END:VEVENT
BEGIN:VEVENT
DTSTART;TZID=America/New_York:20260106T100000
DTEND;TZID=America/New_York:20260106T120000
DTSTAMP:20260420T001942
CREATED:20251125T140457Z
LAST-MODIFIED:20251125T140524Z
UID:10003738-1767693600-1767700800@www.lifelonglearningcollaborative.org
SUMMARY:iPhone Photo Basics
DESCRIPTION:
URL:https://www.lifelonglearningcollaborative.org/event/iphone-photo-basics/2026-01-06/
LOCATION:Shriners Center\, 1 Rhodes Place\, Cranston\, RI\, 02905\, United States
CATEGORIES:Courses
END:VEVENT
BEGIN:VEVENT
DTSTART;TZID=America/New_York:20260106T100000
DTEND;TZID=America/New_York:20260106T120000
DTSTAMP:20260420T001942
CREATED:20251125T140815Z
LAST-MODIFIED:20251125T140815Z
UID:10003758-1767693600-1767700800@www.lifelonglearningcollaborative.org
SUMMARY:Guys & Dolls
DESCRIPTION:
URL:https://www.lifelonglearningcollaborative.org/event/guys-dolls/2026-01-06/
LOCATION:ZOOM
CATEGORIES:Courses
END:VEVENT
BEGIN:VEVENT
DTSTART;TZID=America/New_York:20260106T100000
DTEND;TZID=America/New_York:20260106T120000
DTSTAMP:20260420T001942
CREATED:20251125T141124Z
LAST-MODIFIED:20251125T141124Z
UID:10003766-1767693600-1767700800@www.lifelonglearningcollaborative.org
SUMMARY:Writing a Memoir (Zoom)
DESCRIPTION:
URL:https://www.lifelonglearningcollaborative.org/event/writing-a-memoir-zoom-2-3/2026-01-06/
LOCATION:ZOOM
CATEGORIES:Courses
END:VEVENT
BEGIN:VEVENT
DTSTART;TZID=America/New_York:20260106T100000
DTEND;TZID=America/New_York:20260106T123000
DTSTAMP:20260420T001942
CREATED:20251125T140626Z
LAST-MODIFIED:20251125T140626Z
UID:10003742-1767693600-1767702600@www.lifelonglearningcollaborative.org
SUMMARY:Open Studio Art @ Shriners
DESCRIPTION:
URL:https://www.lifelonglearningcollaborative.org/event/open-studio-art-shriners/2026-01-06/
LOCATION:Shriners Center\, 1 Rhodes Place\, Cranston\, RI\, 02905\, United States
CATEGORIES:Courses
END:VEVENT
BEGIN:VEVENT
DTSTART;TZID=America/New_York:20260106T100000
DTEND;TZID=America/New_York:20260106T123000
DTSTAMP:20260420T001942
CREATED:20251125T140731Z
LAST-MODIFIED:20251125T140731Z
UID:10003750-1767693600-1767702600@www.lifelonglearningcollaborative.org
SUMMARY:Scrabble
DESCRIPTION:
URL:https://www.lifelonglearningcollaborative.org/event/scrabble-23/2026-01-06/
LOCATION:Shriners Center\, 1 Rhodes Place\, Cranston\, RI\, 02905\, United States
CATEGORIES:Courses
END:VEVENT
BEGIN:VEVENT
DTSTART;TZID=America/New_York:20260106T130000
DTEND;TZID=America/New_York:20260106T150000
DTSTAMP:20260420T001942
CREATED:20251125T141308Z
LAST-MODIFIED:20251125T141621Z
UID:10003772-1767704400-1767711600@www.lifelonglearningcollaborative.org
SUMMARY:Cell Phone Photo Club
DESCRIPTION:
URL:https://www.lifelonglearningcollaborative.org/event/cell-phone-photo-club-2-7/
LOCATION:Shriners Center\, 1 Rhodes Place\, Cranston\, RI\, 02905\, United States
CATEGORIES:Courses
END:VEVENT
BEGIN:VEVENT
DTSTART;TZID=America/New_York:20260107T100000
DTEND;TZID=America/New_York:20260107T120000
DTSTAMP:20260420T001942
CREATED:20251125T142038Z
LAST-MODIFIED:20251125T142038Z
UID:10003791-1767780000-1767787200@www.lifelonglearningcollaborative.org
SUMMARY:How Things Are Made HYBRID
DESCRIPTION:Shriners or Zoom
URL:https://www.lifelonglearningcollaborative.org/event/how-things-are-made-hybrid-2-2/2026-01-07/
LOCATION:Shriners Center\, 1 Rhodes Place\, Cranston\, RI\, 02905\, United States
CATEGORIES:Courses
END:VEVENT
BEGIN:VEVENT
DTSTART;TZID=America/New_York:20260107T100000
DTEND;TZID=America/New_York:20260107T120000
DTSTAMP:20260420T001942
CREATED:20251125T142217Z
LAST-MODIFIED:20251125T142217Z
UID:10003804-1767780000-1767787200@www.lifelonglearningcollaborative.org
SUMMARY:America's Presidents
DESCRIPTION:
URL:https://www.lifelonglearningcollaborative.org/event/americas-presidents/2026-01-07/
LOCATION:ZOOM
CATEGORIES:Courses
END:VEVENT
BEGIN:VEVENT
DTSTART;TZID=America/New_York:20260107T130000
DTEND;TZID=America/New_York:20260107T150000
DTSTAMP:20260420T001942
CREATED:20251125T142451Z
LAST-MODIFIED:20251125T142451Z
UID:10003812-1767790800-1767798000@www.lifelonglearningcollaborative.org
SUMMARY:Hot Topics
DESCRIPTION:
URL:https://www.lifelonglearningcollaborative.org/event/hot-topics-3-9/2026-01-07/
LOCATION:ZOOM
CATEGORIES:Courses
END:VEVENT
BEGIN:VEVENT
DTSTART;TZID=America/New_York:20260107T130000
DTEND;TZID=America/New_York:20260107T150000
DTSTAMP:20260420T001942
CREATED:20251125T142720Z
LAST-MODIFIED:20251125T142720Z
UID:10003820-1767790800-1767798000@www.lifelonglearningcollaborative.org
SUMMARY:Roman Empire
DESCRIPTION:
URL:https://www.lifelonglearningcollaborative.org/event/roman-empire/2026-01-07/
LOCATION:ZOOM
CATEGORIES:Courses
END:VEVENT
BEGIN:VEVENT
DTSTART;TZID=America/New_York:20260107T130000
DTEND;TZID=America/New_York:20260107T150000
DTSTAMP:20260420T001942
CREATED:20251125T142939Z
LAST-MODIFIED:20251125T142939Z
UID:10003828-1767790800-1767798000@www.lifelonglearningcollaborative.org
SUMMARY:LLC Knits
DESCRIPTION:
URL:https://www.lifelonglearningcollaborative.org/event/llc-knits-3-7/2026-01-07/
LOCATION:Shriners Center\, 1 Rhodes Place\, Cranston\, RI\, 02905\, United States
CATEGORIES:Courses
END:VEVENT
BEGIN:VEVENT
DTSTART;TZID=America/New_York:20260108T100000
DTEND;TZID=America/New_York:20260108T120000
DTSTAMP:20260420T001942
CREATED:20251125T143211Z
LAST-MODIFIED:20251125T143211Z
UID:10003836-1767866400-1767873600@www.lifelonglearningcollaborative.org
SUMMARY:Science for Our Time HYBRID
DESCRIPTION:Shriners and on Zoom
URL:https://www.lifelonglearningcollaborative.org/event/science-for-our-time-hybrid/2026-01-08/
LOCATION:Shriners Center\, 1 Rhodes Place\, Cranston\, RI\, 02905\, United States
CATEGORIES:Courses
END:VEVENT
BEGIN:VEVENT
DTSTART;TZID=America/New_York:20260108T100000
DTEND;TZID=America/New_York:20260108T120000
DTSTAMP:20260420T001942
CREATED:20251125T143348Z
LAST-MODIFIED:20251125T143348Z
UID:10003844-1767866400-1767873600@www.lifelonglearningcollaborative.org
SUMMARY:O.Henry Stories
DESCRIPTION:
URL:https://www.lifelonglearningcollaborative.org/event/o-henry-stories/2026-01-08/
LOCATION:Shriners Center\, 1 Rhodes Place\, Cranston\, RI\, 02905\, United States
CATEGORIES:Courses
END:VEVENT
BEGIN:VEVENT
DTSTART;TZID=America/New_York:20260108T130000
DTEND;TZID=America/New_York:20260108T150000
DTSTAMP:20260420T001942
CREATED:20251125T143520Z
LAST-MODIFIED:20251125T143520Z
UID:10003852-1767877200-1767884400@www.lifelonglearningcollaborative.org
SUMMARY:Writing a Memoir (Shriners)
DESCRIPTION:
URL:https://www.lifelonglearningcollaborative.org/event/writing-a-memoir-shriners/2026-01-08/
LOCATION:Shriners Center\, 1 Rhodes Place\, Cranston\, RI\, 02905\, United States
CATEGORIES:Courses
END:VEVENT
BEGIN:VEVENT
DTSTART;TZID=America/New_York:20260108T130000
DTEND;TZID=America/New_York:20260108T150000
DTSTAMP:20260420T001942
CREATED:20251125T143611Z
LAST-MODIFIED:20251125T143611Z
UID:10003860-1767877200-1767884400@www.lifelonglearningcollaborative.org
SUMMARY:Collage Making
DESCRIPTION:
URL:https://www.lifelonglearningcollaborative.org/event/collage-making/2026-01-08/
LOCATION:Shriners Center\, 1 Rhodes Place\, Cranston\, RI\, 02905\, United States
CATEGORIES:Courses
END:VEVENT
BEGIN:VEVENT
DTSTART;TZID=America/New_York:20260108T130000
DTEND;TZID=America/New_York:20260108T150000
DTSTAMP:20260420T001942
CREATED:20251125T144029Z
LAST-MODIFIED:20251125T144029Z
UID:10003877-1767877200-1767884400@www.lifelonglearningcollaborative.org
SUMMARY:Ukraine
DESCRIPTION:Shriners and on Zoom
URL:https://www.lifelonglearningcollaborative.org/event/ukraine-2-2/2026-01-08/
LOCATION:Shriners Center\, 1 Rhodes Place\, Cranston\, RI\, 02905\, United States
CATEGORIES:Courses
END:VEVENT
BEGIN:VEVENT
DTSTART;TZID=America/New_York:20260109T100000
DTEND;TZID=America/New_York:20260109T110000
DTSTAMP:20260420T001942
CREATED:20251125T144132Z
LAST-MODIFIED:20251125T144132Z
UID:10003885-1767952800-1767956400@www.lifelonglearningcollaborative.org
SUMMARY:Personal Training at Home
DESCRIPTION:
URL:https://www.lifelonglearningcollaborative.org/event/personal-training-at-home/2026-01-09/
LOCATION:ZOOM
CATEGORIES:Courses
END:VEVENT
BEGIN:VEVENT
DTSTART;TZID=America/New_York:20260112T100000
DTEND;TZID=America/New_York:20260112T120000
DTSTAMP:20260420T001942
CREATED:20251124T211018Z
LAST-MODIFIED:20251124T212538Z
UID:10003705-1768212000-1768219200@www.lifelonglearningcollaborative.org
SUMMARY:Jane Austen
DESCRIPTION:
URL:https://www.lifelonglearningcollaborative.org/event/jane-austen/2026-01-12/
LOCATION:Shriners Center\, 1 Rhodes Place\, Cranston\, RI\, 02905\, United States
CATEGORIES:Courses
END:VEVENT
BEGIN:VEVENT
DTSTART;TZID=America/New_York:20260112T100000
DTEND;TZID=America/New_York:20260112T120000
DTSTAMP:20260420T001942
CREATED:20251124T212145Z
LAST-MODIFIED:20251124T212658Z
UID:10003715-1768212000-1768219200@www.lifelonglearningcollaborative.org
SUMMARY:Open Studio Art (Zoom)
DESCRIPTION:
URL:https://www.lifelonglearningcollaborative.org/event/open-studio-art-zoom-2-5/2026-01-12/
LOCATION:ZOOM
CATEGORIES:Courses
END:VEVENT
BEGIN:VEVENT
DTSTART;TZID=America/New_York:20260112T100000
DTEND;TZID=America/New_York:20260112T120000
DTSTAMP:20260420T001942
CREATED:20251125T140258Z
LAST-MODIFIED:20251125T140258Z
UID:10003722-1768212000-1768219200@www.lifelonglearningcollaborative.org
SUMMARY:Great Decisions 2026
DESCRIPTION:
URL:https://www.lifelonglearningcollaborative.org/event/great-decisions-2026/2026-01-12/
LOCATION:ZOOM
CATEGORIES:Courses
END:VEVENT
BEGIN:VEVENT
DTSTART;TZID=America/New_York:20260112T130000
DTEND;TZID=America/New_York:20260112T150000
DTSTAMP:20260420T001942
CREATED:20250714T134926Z
LAST-MODIFIED:20250714T135145Z
UID:10003403-1768222800-1768230000@www.lifelonglearningcollaborative.org
SUMMARY:Detective Novel Book Club
DESCRIPTION:
URL:https://www.lifelonglearningcollaborative.org/event/detective-novel-book-club/2026-01-12/
LOCATION:Shriners Center\, 1 Rhodes Place\, Cranston\, RI\, 02905\, United States
CATEGORIES:Courses
END:VEVENT
BEGIN:VEVENT
DTSTART;TZID=America/New_York:20260112T130000
DTEND;TZID=America/New_York:20260112T150000
DTSTAMP:20260420T001942
CREATED:20251125T140356Z
LAST-MODIFIED:20251125T140356Z
UID:10003731-1768222800-1768230000@www.lifelonglearningcollaborative.org
SUMMARY:Literary Rx
DESCRIPTION:
URL:https://www.lifelonglearningcollaborative.org/event/literary-rx/2026-01-12/
LOCATION:international house of rhode island\, 8 Stimson Avenue\, Providence\, RI\, 02906\, United States
CATEGORIES:Courses
END:VEVENT
END:VCALENDAR