BEGIN:VCALENDAR
VERSION:2.0
PRODID:-//Lifelong Learning Collaborative - ECPv6.15.12.2//NONSGML v1.0//EN
CALSCALE:GREGORIAN
METHOD:PUBLISH
X-ORIGINAL-URL:https://www.lifelonglearningcollaborative.org
X-WR-CALDESC:Events for Lifelong Learning Collaborative
REFRESH-INTERVAL;VALUE=DURATION:PT1H
X-Robots-Tag:noindex
X-PUBLISHED-TTL:PT1H
BEGIN:VTIMEZONE
TZID:America/New_York
BEGIN:DAYLIGHT
TZOFFSETFROM:-0500
TZOFFSETTO:-0400
TZNAME:EDT
DTSTART:20230312T070000
END:DAYLIGHT
BEGIN:STANDARD
TZOFFSETFROM:-0400
TZOFFSETTO:-0500
TZNAME:EST
DTSTART:20231105T060000
END:STANDARD
BEGIN:DAYLIGHT
TZOFFSETFROM:-0500
TZOFFSETTO:-0400
TZNAME:EDT
DTSTART:20240310T070000
END:DAYLIGHT
BEGIN:STANDARD
TZOFFSETFROM:-0400
TZOFFSETTO:-0500
TZNAME:EST
DTSTART:20241103T060000
END:STANDARD
BEGIN:DAYLIGHT
TZOFFSETFROM:-0500
TZOFFSETTO:-0400
TZNAME:EDT
DTSTART:20250309T070000
END:DAYLIGHT
BEGIN:STANDARD
TZOFFSETFROM:-0400
TZOFFSETTO:-0500
TZNAME:EST
DTSTART:20251102T060000
END:STANDARD
END:VTIMEZONE
BEGIN:VEVENT
DTSTART;TZID=America/New_York:20240226T100000
DTEND;TZID=America/New_York:20240226T120000
DTSTAMP:20260421T210343
CREATED:20231127T153729Z
LAST-MODIFIED:20231127T153729Z
UID:10001431-1708941600-1708948800@www.lifelonglearningcollaborative.org
SUMMARY:Open Studio Art
DESCRIPTION:
URL:https://www.lifelonglearningcollaborative.org/event/open-studio-art-10/2024-02-26/
LOCATION:ZOOM
CATEGORIES:Courses
END:VEVENT
BEGIN:VEVENT
DTSTART;TZID=America/New_York:20240226T130000
DTEND;TZID=America/New_York:20240226T150000
DTSTAMP:20260421T210343
CREATED:20230717T130815Z
LAST-MODIFIED:20240715T142005Z
UID:10000857-1708952400-1708959600@www.lifelonglearningcollaborative.org
SUMMARY:Book Club
DESCRIPTION:
URL:https://www.lifelonglearningcollaborative.org/event/book-club/2024-02-26/
LOCATION:ZOOM
CATEGORIES:Courses
END:VEVENT
BEGIN:VEVENT
DTSTART;TZID=America/New_York:20240227T080000
DTEND;TZID=America/New_York:20240227T170000
DTSTAMP:20260421T210343
CREATED:20231127T154706Z
LAST-MODIFIED:20231127T154706Z
UID:10001475-1709020800-1709053200@www.lifelonglearningcollaborative.org
SUMMARY:Scrabble
DESCRIPTION:
URL:https://www.lifelonglearningcollaborative.org/event/scrabble-9/2024-02-27/
LOCATION:Temple Beth-El\, 70 Orchard Avenue\, Providence\, RI\, United States
CATEGORIES:Courses
END:VEVENT
BEGIN:VEVENT
DTSTART;TZID=America/New_York:20240227T100000
DTEND;TZID=America/New_York:20240227T120000
DTSTAMP:20260421T210343
CREATED:20231127T154046Z
LAST-MODIFIED:20231127T154046Z
UID:10001443-1709028000-1709035200@www.lifelonglearningcollaborative.org
SUMMARY:Great Decisions
DESCRIPTION:
URL:https://www.lifelonglearningcollaborative.org/event/great-decisions-2-2/2024-02-27/
LOCATION:ZOOM
CATEGORIES:Courses
END:VEVENT
BEGIN:VEVENT
DTSTART;TZID=America/New_York:20240227T130000
DTEND;TZID=America/New_York:20240227T150000
DTSTAMP:20260421T210343
CREATED:20231127T154439Z
LAST-MODIFIED:20231127T154439Z
UID:10001459-1709038800-1709046000@www.lifelonglearningcollaborative.org
SUMMARY:Cell Phone Camera Club February
DESCRIPTION:
URL:https://www.lifelonglearningcollaborative.org/event/cell-phone-camera-club-february/2024-02-27/
LOCATION:Temple Beth-El\, 70 Orchard Avenue\, Providence\, RI\, United States
CATEGORIES:Courses
END:VEVENT
BEGIN:VEVENT
DTSTART;TZID=America/New_York:20240228T100000
DTEND;TZID=America/New_York:20240228T120000
DTSTAMP:20260421T210343
CREATED:20231127T155105Z
LAST-MODIFIED:20231127T155105Z
UID:10001490-1709114400-1709121600@www.lifelonglearningcollaborative.org
SUMMARY:Ancient Sicily
DESCRIPTION:
URL:https://www.lifelonglearningcollaborative.org/event/ancient-sicily/2024-02-28/
LOCATION:ZOOM
CATEGORIES:Courses
END:VEVENT
BEGIN:VEVENT
DTSTART;TZID=America/New_York:20240228T100000
DTEND;TZID=America/New_York:20240228T120000
DTSTAMP:20260421T210343
CREATED:20231127T155154Z
LAST-MODIFIED:20231127T155154Z
UID:10001500-1709114400-1709121600@www.lifelonglearningcollaborative.org
SUMMARY:Darwin
DESCRIPTION:
URL:https://www.lifelonglearningcollaborative.org/event/darwin/2024-02-28/
LOCATION:ZOOM
CATEGORIES:Courses
END:VEVENT
BEGIN:VEVENT
DTSTART;TZID=America/New_York:20240228T130000
DTEND;TZID=America/New_York:20240228T150000
DTSTAMP:20260421T210343
CREATED:20231127T155343Z
LAST-MODIFIED:20231127T160050Z
UID:10001507-1709125200-1709132400@www.lifelonglearningcollaborative.org
SUMMARY:Jewish Style Breads
DESCRIPTION:
URL:https://www.lifelonglearningcollaborative.org/event/jewish-style-breads/2024-02-28/
CATEGORIES:Courses
END:VEVENT
BEGIN:VEVENT
DTSTART;TZID=America/New_York:20240228T130000
DTEND;TZID=America/New_York:20240228T150000
DTSTAMP:20260421T210343
CREATED:20231127T160038Z
LAST-MODIFIED:20231127T160038Z
UID:10001517-1709125200-1709132400@www.lifelonglearningcollaborative.org
SUMMARY:LLC Knits
DESCRIPTION:
URL:https://www.lifelonglearningcollaborative.org/event/llc-knits-3-3/2024-02-28/
LOCATION:Temple Beth-El\, 70 Orchard Avenue\, Providence\, RI\, United States
CATEGORIES:Courses
END:VEVENT
BEGIN:VEVENT
DTSTART;TZID=America/New_York:20240228T130000
DTEND;TZID=America/New_York:20240228T150000
DTSTAMP:20260421T210343
CREATED:20231127T160223Z
LAST-MODIFIED:20231127T160223Z
UID:10001525-1709125200-1709132400@www.lifelonglearningcollaborative.org
SUMMARY:Hot Topics
DESCRIPTION:
URL:https://www.lifelonglearningcollaborative.org/event/hot-topics-3-3/2024-02-28/
LOCATION:ZOOM
CATEGORIES:Courses
END:VEVENT
BEGIN:VEVENT
DTSTART;TZID=America/New_York:20240229T100000
DTEND;TZID=America/New_York:20240229T120000
DTSTAMP:20260421T210343
CREATED:20231127T160329Z
LAST-MODIFIED:20231127T160329Z
UID:10001533-1709200800-1709208000@www.lifelonglearningcollaborative.org
SUMMARY:Laughter
DESCRIPTION:
URL:https://www.lifelonglearningcollaborative.org/event/laughter/2024-02-29/
LOCATION:ZOOM
CATEGORIES:Courses
END:VEVENT
BEGIN:VEVENT
DTSTART;TZID=America/New_York:20240229T130000
DTEND;TZID=America/New_York:20240229T150000
DTSTAMP:20260421T210343
CREATED:20231127T160540Z
LAST-MODIFIED:20231127T160540Z
UID:10001547-1709211600-1709218800@www.lifelonglearningcollaborative.org
SUMMARY:Fascist Italy
DESCRIPTION:
URL:https://www.lifelonglearningcollaborative.org/event/fascist-italy/2024-02-29/
LOCATION:Temple Beth-El\, 70 Orchard Avenue\, Providence\, RI\, United States
CATEGORIES:Courses
END:VEVENT
BEGIN:VEVENT
DTSTART;TZID=America/New_York:20240229T130000
DTEND;TZID=America/New_York:20240229T150000
DTSTAMP:20260421T210343
CREATED:20231127T160626Z
LAST-MODIFIED:20231127T160626Z
UID:10001555-1709211600-1709218800@www.lifelonglearningcollaborative.org
SUMMARY:Writing a Memoir
DESCRIPTION:
URL:https://www.lifelonglearningcollaborative.org/event/writing-a-memoir-3-2/2024-02-29/
LOCATION:Temple Beth-El\, 70 Orchard Avenue\, Providence\, RI\, United States
CATEGORIES:Courses
END:VEVENT
BEGIN:VEVENT
DTSTART;TZID=America/New_York:20240229T130000
DTEND;TZID=America/New_York:20240229T150000
DTSTAMP:20260421T210343
CREATED:20231127T160729Z
LAST-MODIFIED:20231127T160729Z
UID:10001563-1709211600-1709218800@www.lifelonglearningcollaborative.org
SUMMARY:O.Henry Prize Stories
DESCRIPTION:
URL:https://www.lifelonglearningcollaborative.org/event/o-henry-prize-stories/2024-02-29/
LOCATION:Temple Beth-El\, 70 Orchard Avenue\, Providence\, RI\, United States
CATEGORIES:Courses
END:VEVENT
BEGIN:VEVENT
DTSTART;TZID=America/New_York:20240301T100000
DTEND;TZID=America/New_York:20240301T110000
DTSTAMP:20260421T210343
CREATED:20231127T160846Z
LAST-MODIFIED:20231127T160846Z
UID:10001571-1709287200-1709290800@www.lifelonglearningcollaborative.org
SUMMARY:Get Fit at Home
DESCRIPTION:
URL:https://www.lifelonglearningcollaborative.org/event/get-fit-at-home-3-4/2024-03-01/
LOCATION:ZOOM
CATEGORIES:Courses
END:VEVENT
BEGIN:VEVENT
DTSTART;TZID=America/New_York:20240306T100000
DTEND;TZID=America/New_York:20240306T120000
DTSTAMP:20260421T210343
CREATED:20231127T155105Z
LAST-MODIFIED:20231127T155105Z
UID:10001491-1709719200-1709726400@www.lifelonglearningcollaborative.org
SUMMARY:Ancient Sicily
DESCRIPTION:
URL:https://www.lifelonglearningcollaborative.org/event/ancient-sicily/2024-03-06/
LOCATION:ZOOM
CATEGORIES:Courses
END:VEVENT
BEGIN:VEVENT
DTSTART;TZID=America/New_York:20240306T130000
DTEND;TZID=America/New_York:20240306T150000
DTSTAMP:20260421T210343
CREATED:20231127T155343Z
LAST-MODIFIED:20231127T160050Z
UID:10001508-1709730000-1709737200@www.lifelonglearningcollaborative.org
SUMMARY:Jewish Style Breads
DESCRIPTION:
URL:https://www.lifelonglearningcollaborative.org/event/jewish-style-breads/2024-03-06/
CATEGORIES:Courses
END:VEVENT
BEGIN:VEVENT
DTSTART;TZID=America/New_York:20240312T153000
DTEND;TZID=America/New_York:20240312T163000
DTSTAMP:20260421T210343
CREATED:20231106T123004Z
LAST-MODIFIED:20231106T123005Z
UID:10001422-1710257400-1710261000@www.lifelonglearningcollaborative.org
SUMMARY:Board Meeting
DESCRIPTION:Board Meetings are usually held the second Tuesday of the month. Board Members receive their Zoom link via email.
URL:https://www.lifelonglearningcollaborative.org/event/board-meeting-2-2/2024-03-12/
LOCATION:ZOOM
CATEGORIES:Board Meetings
END:VEVENT
BEGIN:VEVENT
DTSTART;TZID=America/New_York:20240313T100000
DTEND;TZID=America/New_York:20240313T120000
DTSTAMP:20260421T210343
CREATED:20231127T155105Z
LAST-MODIFIED:20231127T155105Z
UID:10001492-1710324000-1710331200@www.lifelonglearningcollaborative.org
SUMMARY:Ancient Sicily
DESCRIPTION:
URL:https://www.lifelonglearningcollaborative.org/event/ancient-sicily/2024-03-13/
LOCATION:ZOOM
CATEGORIES:Courses
END:VEVENT
BEGIN:VEVENT
DTSTART;TZID=America/New_York:20240313T130000
DTEND;TZID=America/New_York:20240313T150000
DTSTAMP:20260421T210343
CREATED:20231127T155343Z
LAST-MODIFIED:20231127T160050Z
UID:10001509-1710334800-1710342000@www.lifelonglearningcollaborative.org
SUMMARY:Jewish Style Breads
DESCRIPTION:
URL:https://www.lifelonglearningcollaborative.org/event/jewish-style-breads/2024-03-13/
CATEGORIES:Courses
END:VEVENT
BEGIN:VEVENT
DTSTART;TZID=America/New_York:20240314T100000
DTEND;TZID=America/New_York:20240314T130000
DTSTAMP:20260421T210343
CREATED:20240123T174724Z
LAST-MODIFIED:20240123T174843Z
UID:10001575-1710410400-1710421200@www.lifelonglearningcollaborative.org
SUMMARY:Spring 2024 Convocation TBE & Zoom
DESCRIPTION:Coordinators’ Open House: 10-11 AM\nConvocation: 11 AM-1 PM  \nIn-person at Temple Beth-El (the speaking portion of the Convocation can also be viewed via Zoom)
URL:https://www.lifelonglearningcollaborative.org/event/spring-2024-convocation-tbe-zoom/
LOCATION:Temple Beth-El\, 70 Orchard Avenue\, Providence\, RI\, United States
CATEGORIES:Convocations
END:VEVENT
BEGIN:VEVENT
DTSTART;TZID=America/New_York:20240318T100000
DTEND;TZID=America/New_York:20240318T120000
DTSTAMP:20260421T210343
CREATED:20240129T130121Z
LAST-MODIFIED:20240129T130121Z
UID:10001576-1710756000-1710763200@www.lifelonglearningcollaborative.org
SUMMARY:Open Studio Art
DESCRIPTION:
URL:https://www.lifelonglearningcollaborative.org/event/open-studio-art-12/2024-03-18/
LOCATION:ZOOM
CATEGORIES:Courses
END:VEVENT
BEGIN:VEVENT
DTSTART;TZID=America/New_York:20240319T100000
DTEND;TZID=America/New_York:20240319T120000
DTSTAMP:20260421T210343
CREATED:20240129T130221Z
LAST-MODIFIED:20240129T130246Z
UID:10001586-1710842400-1710849600@www.lifelonglearningcollaborative.org
SUMMARY:Overlooked No More
DESCRIPTION:
URL:https://www.lifelonglearningcollaborative.org/event/overlooked-no-more/2024-03-19/
LOCATION:Temple Beth-El\, 70 Orchard Avenue\, Providence\, RI\, United States
CATEGORIES:Courses
END:VEVENT
BEGIN:VEVENT
DTSTART;TZID=America/New_York:20240319T100000
DTEND;TZID=America/New_York:20240319T120000
DTSTAMP:20260421T210343
CREATED:20240129T130504Z
LAST-MODIFIED:20240305T141052Z
UID:10001595-1710842400-1710849600@www.lifelonglearningcollaborative.org
SUMMARY:Opera Ensembles
DESCRIPTION:
URL:https://www.lifelonglearningcollaborative.org/event/opera-ensembles/2024-03-19/
LOCATION:Temple Beth-El\, 70 Orchard Avenue\, Providence\, RI\, United States
CATEGORIES:Courses
END:VEVENT
BEGIN:VEVENT
DTSTART;TZID=America/New_York:20240319T100000
DTEND;TZID=America/New_York:20240319T120000
DTSTAMP:20260421T210343
CREATED:20240129T130634Z
LAST-MODIFIED:20240305T141151Z
UID:10001604-1710842400-1710849600@www.lifelonglearningcollaborative.org
SUMMARY:A.I. Hybrid
DESCRIPTION:
URL:https://www.lifelonglearningcollaborative.org/event/a-i-hybrid/2024-03-19/
LOCATION:Temple Beth-El\, 70 Orchard Avenue\, Providence\, RI\, United States
CATEGORIES:Courses
END:VEVENT
BEGIN:VEVENT
DTSTART;TZID=America/New_York:20240319T100000
DTEND;TZID=America/New_York:20240319T120000
DTSTAMP:20260421T210343
CREATED:20240129T130805Z
LAST-MODIFIED:20240129T130805Z
UID:10001613-1710842400-1710849600@www.lifelonglearningcollaborative.org
SUMMARY:Connections (Zoom)
DESCRIPTION:
URL:https://www.lifelonglearningcollaborative.org/event/connections-zoom/2024-03-19/
LOCATION:ZOOM
CATEGORIES:Courses
END:VEVENT
BEGIN:VEVENT
DTSTART;TZID=America/New_York:20240319T130000
DTEND;TZID=America/New_York:20240319T150000
DTSTAMP:20260421T210343
CREATED:20240129T130911Z
LAST-MODIFIED:20240305T141222Z
UID:10001623-1710853200-1710860400@www.lifelonglearningcollaborative.org
SUMMARY:Cell Phone Photo
DESCRIPTION:
URL:https://www.lifelonglearningcollaborative.org/event/cell-phone-photo-2/2024-03-19/
LOCATION:Temple Beth-El\, 70 Orchard Avenue\, Providence\, RI\, United States
CATEGORIES:Courses
END:VEVENT
BEGIN:VEVENT
DTSTART;TZID=America/New_York:20240319T130000
DTEND;TZID=America/New_York:20240319T150000
DTSTAMP:20260421T210343
CREATED:20240129T131019Z
LAST-MODIFIED:20240129T131019Z
UID:10001633-1710853200-1710860400@www.lifelonglearningcollaborative.org
SUMMARY:World Music
DESCRIPTION:
URL:https://www.lifelonglearningcollaborative.org/event/world-music/
LOCATION:Temple Beth-El\, 70 Orchard Avenue\, Providence\, RI\, United States
CATEGORIES:Courses
END:VEVENT
BEGIN:VEVENT
DTSTART;TZID=America/New_York:20240319T151500
DTEND;TZID=America/New_York:20240319T171500
DTSTAMP:20260421T210343
CREATED:20240129T131129Z
LAST-MODIFIED:20240305T141247Z
UID:10001634-1710861300-1710868500@www.lifelonglearningcollaborative.org
SUMMARY:Scrabble
DESCRIPTION:
URL:https://www.lifelonglearningcollaborative.org/event/scrabble-11/2024-03-19/
LOCATION:Temple Beth-El\, 70 Orchard Avenue\, Providence\, RI\, United States
CATEGORIES:Courses
END:VEVENT
BEGIN:VEVENT
DTSTART;TZID=America/New_York:20240320T100000
DTEND;TZID=America/New_York:20240320T120000
DTSTAMP:20260421T210343
CREATED:20240129T131213Z
LAST-MODIFIED:20240129T131213Z
UID:10001644-1710928800-1710936000@www.lifelonglearningcollaborative.org
SUMMARY:Contemporary Plays
DESCRIPTION:
URL:https://www.lifelonglearningcollaborative.org/event/contemporary-plays/2024-03-20/
LOCATION:Temple Beth-El\, 70 Orchard Avenue\, Providence\, RI\, United States
CATEGORIES:Courses
END:VEVENT
END:VCALENDAR