BEGIN:VCALENDAR
VERSION:2.0
PRODID:-//Lifelong Learning Collaborative - ECPv6.15.12.2//NONSGML v1.0//EN
CALSCALE:GREGORIAN
METHOD:PUBLISH
X-ORIGINAL-URL:https://www.lifelonglearningcollaborative.org
X-WR-CALDESC:Events for Lifelong Learning Collaborative
REFRESH-INTERVAL;VALUE=DURATION:PT1H
X-Robots-Tag:noindex
X-PUBLISHED-TTL:PT1H
BEGIN:VTIMEZONE
TZID:America/New_York
BEGIN:DAYLIGHT
TZOFFSETFROM:-0500
TZOFFSETTO:-0400
TZNAME:EDT
DTSTART:20230312T070000
END:DAYLIGHT
BEGIN:STANDARD
TZOFFSETFROM:-0400
TZOFFSETTO:-0500
TZNAME:EST
DTSTART:20231105T060000
END:STANDARD
BEGIN:DAYLIGHT
TZOFFSETFROM:-0500
TZOFFSETTO:-0400
TZNAME:EDT
DTSTART:20240310T070000
END:DAYLIGHT
BEGIN:STANDARD
TZOFFSETFROM:-0400
TZOFFSETTO:-0500
TZNAME:EST
DTSTART:20241103T060000
END:STANDARD
BEGIN:DAYLIGHT
TZOFFSETFROM:-0500
TZOFFSETTO:-0400
TZNAME:EDT
DTSTART:20250309T070000
END:DAYLIGHT
BEGIN:STANDARD
TZOFFSETFROM:-0400
TZOFFSETTO:-0500
TZNAME:EST
DTSTART:20251102T060000
END:STANDARD
END:VTIMEZONE
BEGIN:VEVENT
DTSTART;VALUE=DATE:20240108
DTEND;VALUE=DATE:20240113
DTSTAMP:20260421T215555
CREATED:20231024T203305Z
LAST-MODIFIED:20231024T203305Z
UID:10001418-1704672000-1705103999@www.lifelonglearningcollaborative.org
SUMMARY:Wintersession classes begin
DESCRIPTION:
URL:https://www.lifelonglearningcollaborative.org/event/wintersession-classes-begin/
CATEGORIES:Semester Announcements
END:VEVENT
BEGIN:VEVENT
DTSTART;TZID=America/New_York:20240110T100000
DTEND;TZID=America/New_York:20240110T120000
DTSTAMP:20260421T215555
CREATED:20231127T155016Z
LAST-MODIFIED:20231127T155016Z
UID:10001476-1704880800-1704888000@www.lifelonglearningcollaborative.org
SUMMARY:Fine Art Photography
DESCRIPTION:
URL:https://www.lifelonglearningcollaborative.org/event/fine-art-photography/2024-01-10/
LOCATION:Temple Beth-El\, 70 Orchard Avenue\, Providence\, RI\, United States
CATEGORIES:Courses
END:VEVENT
BEGIN:VEVENT
DTSTART;TZID=America/New_York:20240110T100000
DTEND;TZID=America/New_York:20240110T120000
DTSTAMP:20260421T215555
CREATED:20231127T155105Z
LAST-MODIFIED:20231127T155105Z
UID:10001483-1704880800-1704888000@www.lifelonglearningcollaborative.org
SUMMARY:Ancient Sicily
DESCRIPTION:
URL:https://www.lifelonglearningcollaborative.org/event/ancient-sicily/2024-01-10/
LOCATION:ZOOM
CATEGORIES:Courses
END:VEVENT
BEGIN:VEVENT
DTSTART;TZID=America/New_York:20240110T100000
DTEND;TZID=America/New_York:20240110T120000
DTSTAMP:20260421T215555
CREATED:20231127T155154Z
LAST-MODIFIED:20231127T155154Z
UID:10001493-1704880800-1704888000@www.lifelonglearningcollaborative.org
SUMMARY:Darwin
DESCRIPTION:
URL:https://www.lifelonglearningcollaborative.org/event/darwin/2024-01-10/
LOCATION:ZOOM
CATEGORIES:Courses
END:VEVENT
BEGIN:VEVENT
DTSTART;TZID=America/New_York:20240110T130000
DTEND;TZID=America/New_York:20240110T150000
DTSTAMP:20260421T215555
CREATED:20231127T155343Z
LAST-MODIFIED:20231127T160050Z
UID:10001501-1704891600-1704898800@www.lifelonglearningcollaborative.org
SUMMARY:Jewish Style Breads
DESCRIPTION:
URL:https://www.lifelonglearningcollaborative.org/event/jewish-style-breads/2024-01-10/
CATEGORIES:Courses
END:VEVENT
BEGIN:VEVENT
DTSTART;TZID=America/New_York:20240110T130000
DTEND;TZID=America/New_York:20240110T150000
DTSTAMP:20260421T215555
CREATED:20231127T160038Z
LAST-MODIFIED:20231127T160038Z
UID:10001510-1704891600-1704898800@www.lifelonglearningcollaborative.org
SUMMARY:LLC Knits
DESCRIPTION:
URL:https://www.lifelonglearningcollaborative.org/event/llc-knits-3-3/2024-01-10/
LOCATION:Temple Beth-El\, 70 Orchard Avenue\, Providence\, RI\, United States
CATEGORIES:Courses
END:VEVENT
BEGIN:VEVENT
DTSTART;TZID=America/New_York:20240110T130000
DTEND;TZID=America/New_York:20240110T150000
DTSTAMP:20260421T215555
CREATED:20231127T160223Z
LAST-MODIFIED:20231127T160223Z
UID:10001518-1704891600-1704898800@www.lifelonglearningcollaborative.org
SUMMARY:Hot Topics
DESCRIPTION:
URL:https://www.lifelonglearningcollaborative.org/event/hot-topics-3-3/2024-01-10/
LOCATION:ZOOM
CATEGORIES:Courses
END:VEVENT
BEGIN:VEVENT
DTSTART;TZID=America/New_York:20240111T100000
DTEND;TZID=America/New_York:20240111T120000
DTSTAMP:20260421T215555
CREATED:20231127T160329Z
LAST-MODIFIED:20231127T160329Z
UID:10001526-1704967200-1704974400@www.lifelonglearningcollaborative.org
SUMMARY:Laughter
DESCRIPTION:
URL:https://www.lifelonglearningcollaborative.org/event/laughter/2024-01-11/
LOCATION:ZOOM
CATEGORIES:Courses
END:VEVENT
BEGIN:VEVENT
DTSTART;TZID=America/New_York:20240111T100000
DTEND;TZID=America/New_York:20240111T120000
DTSTAMP:20260421T215555
CREATED:20231127T160453Z
LAST-MODIFIED:20231127T160453Z
UID:10001534-1704967200-1704974400@www.lifelonglearningcollaborative.org
SUMMARY:Design Your Own LLC Course
DESCRIPTION:
URL:https://www.lifelonglearningcollaborative.org/event/design-your-own-llc-course/2024-01-11/
LOCATION:Temple Beth-El\, 70 Orchard Avenue\, Providence\, RI\, United States
CATEGORIES:Courses
END:VEVENT
BEGIN:VEVENT
DTSTART;TZID=America/New_York:20240111T130000
DTEND;TZID=America/New_York:20240111T150000
DTSTAMP:20260421T215555
CREATED:20231127T160540Z
LAST-MODIFIED:20231127T160540Z
UID:10001540-1704978000-1704985200@www.lifelonglearningcollaborative.org
SUMMARY:Fascist Italy
DESCRIPTION:
URL:https://www.lifelonglearningcollaborative.org/event/fascist-italy/2024-01-11/
LOCATION:Temple Beth-El\, 70 Orchard Avenue\, Providence\, RI\, United States
CATEGORIES:Courses
END:VEVENT
BEGIN:VEVENT
DTSTART;TZID=America/New_York:20240111T130000
DTEND;TZID=America/New_York:20240111T150000
DTSTAMP:20260421T215555
CREATED:20231127T160626Z
LAST-MODIFIED:20231127T160626Z
UID:10001548-1704978000-1704985200@www.lifelonglearningcollaborative.org
SUMMARY:Writing a Memoir
DESCRIPTION:
URL:https://www.lifelonglearningcollaborative.org/event/writing-a-memoir-3-2/2024-01-11/
LOCATION:Temple Beth-El\, 70 Orchard Avenue\, Providence\, RI\, United States
CATEGORIES:Courses
END:VEVENT
BEGIN:VEVENT
DTSTART;TZID=America/New_York:20240111T130000
DTEND;TZID=America/New_York:20240111T150000
DTSTAMP:20260421T215555
CREATED:20231127T160729Z
LAST-MODIFIED:20231127T160729Z
UID:10001556-1704978000-1704985200@www.lifelonglearningcollaborative.org
SUMMARY:O.Henry Prize Stories
DESCRIPTION:
URL:https://www.lifelonglearningcollaborative.org/event/o-henry-prize-stories/2024-01-11/
LOCATION:Temple Beth-El\, 70 Orchard Avenue\, Providence\, RI\, United States
CATEGORIES:Courses
END:VEVENT
BEGIN:VEVENT
DTSTART;TZID=America/New_York:20240112T100000
DTEND;TZID=America/New_York:20240112T110000
DTSTAMP:20260421T215555
CREATED:20231127T160846Z
LAST-MODIFIED:20231127T160846Z
UID:10001564-1705053600-1705057200@www.lifelonglearningcollaborative.org
SUMMARY:Get Fit at Home
DESCRIPTION:
URL:https://www.lifelonglearningcollaborative.org/event/get-fit-at-home-3-4/2024-01-12/
LOCATION:ZOOM
CATEGORIES:Courses
END:VEVENT
BEGIN:VEVENT
DTSTART;TZID=America/New_York:20240115T100000
DTEND;TZID=America/New_York:20240115T120000
DTSTAMP:20260421T215555
CREATED:20231127T153729Z
LAST-MODIFIED:20231127T153729Z
UID:10001425-1705312800-1705320000@www.lifelonglearningcollaborative.org
SUMMARY:Open Studio Art
DESCRIPTION:
URL:https://www.lifelonglearningcollaborative.org/event/open-studio-art-10/2024-01-15/
LOCATION:ZOOM
CATEGORIES:Courses
END:VEVENT
BEGIN:VEVENT
DTSTART;TZID=America/New_York:20240116T080000
DTEND;TZID=America/New_York:20240116T170000
DTSTAMP:20260421T215555
CREATED:20231127T154706Z
LAST-MODIFIED:20231127T154706Z
UID:10001469-1705392000-1705424400@www.lifelonglearningcollaborative.org
SUMMARY:Scrabble
DESCRIPTION:
URL:https://www.lifelonglearningcollaborative.org/event/scrabble-9/2024-01-16/
LOCATION:Temple Beth-El\, 70 Orchard Avenue\, Providence\, RI\, United States
CATEGORIES:Courses
END:VEVENT
BEGIN:VEVENT
DTSTART;TZID=America/New_York:20240116T100000
DTEND;TZID=America/New_York:20240116T120000
DTSTAMP:20260421T215555
CREATED:20231127T153923Z
LAST-MODIFIED:20231127T153923Z
UID:10001433-1705399200-1705406400@www.lifelonglearningcollaborative.org
SUMMARY:Armchair Travelers
DESCRIPTION:
URL:https://www.lifelonglearningcollaborative.org/event/armchair-travelers/2024-01-16/
LOCATION:Temple Beth-El\, 70 Orchard Avenue\, Providence\, RI\, United States
CATEGORIES:Courses
END:VEVENT
BEGIN:VEVENT
DTSTART;TZID=America/New_York:20240116T100000
DTEND;TZID=America/New_York:20240116T120000
DTSTAMP:20260421T215555
CREATED:20231127T154046Z
LAST-MODIFIED:20231127T154046Z
UID:10001437-1705399200-1705406400@www.lifelonglearningcollaborative.org
SUMMARY:Great Decisions
DESCRIPTION:
URL:https://www.lifelonglearningcollaborative.org/event/great-decisions-2-2/2024-01-16/
LOCATION:ZOOM
CATEGORIES:Courses
END:VEVENT
BEGIN:VEVENT
DTSTART;TZID=America/New_York:20240116T130000
DTEND;TZID=America/New_York:20240116T150000
DTSTAMP:20260421T215555
CREATED:20231127T154309Z
LAST-MODIFIED:20231127T154309Z
UID:10001453-1705410000-1705417200@www.lifelonglearningcollaborative.org
SUMMARY:Cell Phone Camera Club January
DESCRIPTION:
URL:https://www.lifelonglearningcollaborative.org/event/cell-phone-camera-club-january/2024-01-16/
LOCATION:Temple Beth-El\, 70 Orchard Avenue\, Providence\, RI\, United States
CATEGORIES:Courses
END:VEVENT
BEGIN:VEVENT
DTSTART;TZID=America/New_York:20240117T100000
DTEND;TZID=America/New_York:20240117T120000
DTSTAMP:20260421T215555
CREATED:20231127T155016Z
LAST-MODIFIED:20231127T155016Z
UID:10001477-1705485600-1705492800@www.lifelonglearningcollaborative.org
SUMMARY:Fine Art Photography
DESCRIPTION:
URL:https://www.lifelonglearningcollaborative.org/event/fine-art-photography/2024-01-17/
LOCATION:Temple Beth-El\, 70 Orchard Avenue\, Providence\, RI\, United States
CATEGORIES:Courses
END:VEVENT
BEGIN:VEVENT
DTSTART;TZID=America/New_York:20240117T100000
DTEND;TZID=America/New_York:20240117T120000
DTSTAMP:20260421T215555
CREATED:20231127T155105Z
LAST-MODIFIED:20231127T155105Z
UID:10001484-1705485600-1705492800@www.lifelonglearningcollaborative.org
SUMMARY:Ancient Sicily
DESCRIPTION:
URL:https://www.lifelonglearningcollaborative.org/event/ancient-sicily/2024-01-17/
LOCATION:ZOOM
CATEGORIES:Courses
END:VEVENT
BEGIN:VEVENT
DTSTART;TZID=America/New_York:20240117T100000
DTEND;TZID=America/New_York:20240117T120000
DTSTAMP:20260421T215555
CREATED:20231127T155154Z
LAST-MODIFIED:20231127T155154Z
UID:10001494-1705485600-1705492800@www.lifelonglearningcollaborative.org
SUMMARY:Darwin
DESCRIPTION:
URL:https://www.lifelonglearningcollaborative.org/event/darwin/2024-01-17/
LOCATION:ZOOM
CATEGORIES:Courses
END:VEVENT
BEGIN:VEVENT
DTSTART;TZID=America/New_York:20240117T130000
DTEND;TZID=America/New_York:20240117T150000
DTSTAMP:20260421T215555
CREATED:20231127T155343Z
LAST-MODIFIED:20231127T160050Z
UID:10001502-1705496400-1705503600@www.lifelonglearningcollaborative.org
SUMMARY:Jewish Style Breads
DESCRIPTION:
URL:https://www.lifelonglearningcollaborative.org/event/jewish-style-breads/2024-01-17/
CATEGORIES:Courses
END:VEVENT
BEGIN:VEVENT
DTSTART;TZID=America/New_York:20240117T130000
DTEND;TZID=America/New_York:20240117T150000
DTSTAMP:20260421T215555
CREATED:20231127T160038Z
LAST-MODIFIED:20231127T160038Z
UID:10001511-1705496400-1705503600@www.lifelonglearningcollaborative.org
SUMMARY:LLC Knits
DESCRIPTION:
URL:https://www.lifelonglearningcollaborative.org/event/llc-knits-3-3/2024-01-17/
LOCATION:Temple Beth-El\, 70 Orchard Avenue\, Providence\, RI\, United States
CATEGORIES:Courses
END:VEVENT
BEGIN:VEVENT
DTSTART;TZID=America/New_York:20240117T130000
DTEND;TZID=America/New_York:20240117T150000
DTSTAMP:20260421T215555
CREATED:20231127T160223Z
LAST-MODIFIED:20231127T160223Z
UID:10001519-1705496400-1705503600@www.lifelonglearningcollaborative.org
SUMMARY:Hot Topics
DESCRIPTION:
URL:https://www.lifelonglearningcollaborative.org/event/hot-topics-3-3/2024-01-17/
LOCATION:ZOOM
CATEGORIES:Courses
END:VEVENT
BEGIN:VEVENT
DTSTART;TZID=America/New_York:20240118T100000
DTEND;TZID=America/New_York:20240118T120000
DTSTAMP:20260421T215555
CREATED:20231127T160329Z
LAST-MODIFIED:20231127T160329Z
UID:10001527-1705572000-1705579200@www.lifelonglearningcollaborative.org
SUMMARY:Laughter
DESCRIPTION:
URL:https://www.lifelonglearningcollaborative.org/event/laughter/2024-01-18/
LOCATION:ZOOM
CATEGORIES:Courses
END:VEVENT
BEGIN:VEVENT
DTSTART;TZID=America/New_York:20240118T100000
DTEND;TZID=America/New_York:20240118T120000
DTSTAMP:20260421T215556
CREATED:20231127T160453Z
LAST-MODIFIED:20231127T160453Z
UID:10001535-1705572000-1705579200@www.lifelonglearningcollaborative.org
SUMMARY:Design Your Own LLC Course
DESCRIPTION:
URL:https://www.lifelonglearningcollaborative.org/event/design-your-own-llc-course/2024-01-18/
LOCATION:Temple Beth-El\, 70 Orchard Avenue\, Providence\, RI\, United States
CATEGORIES:Courses
END:VEVENT
BEGIN:VEVENT
DTSTART;TZID=America/New_York:20240118T130000
DTEND;TZID=America/New_York:20240118T150000
DTSTAMP:20260421T215556
CREATED:20231127T160540Z
LAST-MODIFIED:20231127T160540Z
UID:10001541-1705582800-1705590000@www.lifelonglearningcollaborative.org
SUMMARY:Fascist Italy
DESCRIPTION:
URL:https://www.lifelonglearningcollaborative.org/event/fascist-italy/2024-01-18/
LOCATION:Temple Beth-El\, 70 Orchard Avenue\, Providence\, RI\, United States
CATEGORIES:Courses
END:VEVENT
BEGIN:VEVENT
DTSTART;TZID=America/New_York:20240118T130000
DTEND;TZID=America/New_York:20240118T150000
DTSTAMP:20260421T215556
CREATED:20231127T160626Z
LAST-MODIFIED:20231127T160626Z
UID:10001549-1705582800-1705590000@www.lifelonglearningcollaborative.org
SUMMARY:Writing a Memoir
DESCRIPTION:
URL:https://www.lifelonglearningcollaborative.org/event/writing-a-memoir-3-2/2024-01-18/
LOCATION:Temple Beth-El\, 70 Orchard Avenue\, Providence\, RI\, United States
CATEGORIES:Courses
END:VEVENT
BEGIN:VEVENT
DTSTART;TZID=America/New_York:20240118T130000
DTEND;TZID=America/New_York:20240118T150000
DTSTAMP:20260421T215556
CREATED:20231127T160729Z
LAST-MODIFIED:20231127T160729Z
UID:10001557-1705582800-1705590000@www.lifelonglearningcollaborative.org
SUMMARY:O.Henry Prize Stories
DESCRIPTION:
URL:https://www.lifelonglearningcollaborative.org/event/o-henry-prize-stories/2024-01-18/
LOCATION:Temple Beth-El\, 70 Orchard Avenue\, Providence\, RI\, United States
CATEGORIES:Courses
END:VEVENT
BEGIN:VEVENT
DTSTART;TZID=America/New_York:20240119T100000
DTEND;TZID=America/New_York:20240119T110000
DTSTAMP:20260421T215556
CREATED:20231127T160846Z
LAST-MODIFIED:20231127T160846Z
UID:10001565-1705658400-1705662000@www.lifelonglearningcollaborative.org
SUMMARY:Get Fit at Home
DESCRIPTION:
URL:https://www.lifelonglearningcollaborative.org/event/get-fit-at-home-3-4/2024-01-19/
LOCATION:ZOOM
CATEGORIES:Courses
END:VEVENT
END:VCALENDAR