BEGIN:VCALENDAR
VERSION:2.0
PRODID:-//Lifelong Learning Collaborative - ECPv6.15.12.2//NONSGML v1.0//EN
CALSCALE:GREGORIAN
METHOD:PUBLISH
X-ORIGINAL-URL:https://www.lifelonglearningcollaborative.org
X-WR-CALDESC:Events for Lifelong Learning Collaborative
REFRESH-INTERVAL;VALUE=DURATION:PT1H
X-Robots-Tag:noindex
X-PUBLISHED-TTL:PT1H
BEGIN:VTIMEZONE
TZID:America/New_York
BEGIN:DAYLIGHT
TZOFFSETFROM:-0500
TZOFFSETTO:-0400
TZNAME:EDT
DTSTART:20220313T070000
END:DAYLIGHT
BEGIN:STANDARD
TZOFFSETFROM:-0400
TZOFFSETTO:-0500
TZNAME:EST
DTSTART:20221106T060000
END:STANDARD
BEGIN:DAYLIGHT
TZOFFSETFROM:-0500
TZOFFSETTO:-0400
TZNAME:EDT
DTSTART:20230312T070000
END:DAYLIGHT
BEGIN:STANDARD
TZOFFSETFROM:-0400
TZOFFSETTO:-0500
TZNAME:EST
DTSTART:20231105T060000
END:STANDARD
BEGIN:DAYLIGHT
TZOFFSETFROM:-0500
TZOFFSETTO:-0400
TZNAME:EDT
DTSTART:20240310T070000
END:DAYLIGHT
BEGIN:STANDARD
TZOFFSETFROM:-0400
TZOFFSETTO:-0500
TZNAME:EST
DTSTART:20241103T060000
END:STANDARD
END:VTIMEZONE
BEGIN:VEVENT
DTSTART;TZID=America/New_York:20230919T100000
DTEND;TZID=America/New_York:20230919T120000
DTSTAMP:20260421T063134
CREATED:20230717T131409Z
LAST-MODIFIED:20230717T131409Z
UID:10000948-1695117600-1695124800@www.lifelonglearningcollaborative.org
SUMMARY:Luminous Things: Big Six
DESCRIPTION:Hybrid: Temple Beth-El and Zoom
URL:https://www.lifelonglearningcollaborative.org/event/luminous-things-big-six/2023-09-19/
LOCATION:Temple Beth-El\, 70 Orchard Avenue\, Providence\, RI\, United States
CATEGORIES:Courses
END:VEVENT
BEGIN:VEVENT
DTSTART;TZID=America/New_York:20230919T100000
DTEND;TZID=America/New_York:20230919T120000
DTSTAMP:20260421T063134
CREATED:20230717T131734Z
LAST-MODIFIED:20230717T132146Z
UID:10001029-1695117600-1695124800@www.lifelonglearningcollaborative.org
SUMMARY:Düsseldorf
DESCRIPTION:
URL:https://www.lifelonglearningcollaborative.org/event/dusseldorf/2023-09-19/
LOCATION:Temple Beth-El\, 70 Orchard Avenue\, Providence\, RI\, United States
CATEGORIES:Courses
END:VEVENT
BEGIN:VEVENT
DTSTART;TZID=America/New_York:20230919T130000
DTEND;TZID=America/New_York:20230919T150000
DTSTAMP:20260421T063134
CREATED:20230717T131842Z
LAST-MODIFIED:20230717T132013Z
UID:10001049-1695128400-1695135600@www.lifelonglearningcollaborative.org
SUMMARY:Classical Music 20th C.
DESCRIPTION:
URL:https://www.lifelonglearningcollaborative.org/event/classical-music-20th-c/2023-09-19/
LOCATION:Temple Beth-El\, 70 Orchard Avenue\, Providence\, RI\, United States
CATEGORIES:Courses
END:VEVENT
BEGIN:VEVENT
DTSTART;TZID=America/New_York:20230919T130000
DTEND;TZID=America/New_York:20230919T150000
DTSTAMP:20260421T063134
CREATED:20230717T132330Z
LAST-MODIFIED:20230717T132330Z
UID:10001069-1695128400-1695135600@www.lifelonglearningcollaborative.org
SUMMARY:Cell Phone Photo Club
DESCRIPTION:
URL:https://www.lifelonglearningcollaborative.org/event/cell-phone-photo-club-2-2/2023-09-19/
LOCATION:Temple Beth-El\, 70 Orchard Avenue\, Providence\, RI\, United States
CATEGORIES:Courses
END:VEVENT
BEGIN:VEVENT
DTSTART;TZID=America/New_York:20230919T151500
DTEND;TZID=America/New_York:20230919T171500
DTSTAMP:20260421T063134
CREATED:20230717T132527Z
LAST-MODIFIED:20230717T132550Z
UID:10001100-1695136500-1695143700@www.lifelonglearningcollaborative.org
SUMMARY:Scrabble
DESCRIPTION:
URL:https://www.lifelonglearningcollaborative.org/event/scrabble-7/2023-09-19/
LOCATION:Temple Beth-El\, 70 Orchard Avenue\, Providence\, RI\, United States
CATEGORIES:Courses
END:VEVENT
BEGIN:VEVENT
DTSTART;TZID=America/New_York:20230920T100000
DTEND;TZID=America/New_York:20230920T120000
DTSTAMP:20260421T063134
CREATED:20230717T132907Z
LAST-MODIFIED:20230717T132912Z
UID:10001119-1695204000-1695211200@www.lifelonglearningcollaborative.org
SUMMARY:US Supreme Court Decisions
DESCRIPTION:
URL:https://www.lifelonglearningcollaborative.org/event/us-supreme-court-decisions/2023-09-20/
LOCATION:ZOOM
CATEGORIES:Courses
END:VEVENT
BEGIN:VEVENT
DTSTART;TZID=America/New_York:20230920T100000
DTEND;TZID=America/New_York:20230920T120000
DTSTAMP:20260421T063134
CREATED:20230717T133007Z
LAST-MODIFIED:20230717T133007Z
UID:10001127-1695204000-1695211200@www.lifelonglearningcollaborative.org
SUMMARY:Gender/Power Plays
DESCRIPTION:
URL:https://www.lifelonglearningcollaborative.org/event/gender-power-plays/2023-09-20/
LOCATION:Temple Beth-El\, 70 Orchard Avenue\, Providence\, RI\, United States
CATEGORIES:Courses
END:VEVENT
BEGIN:VEVENT
DTSTART;TZID=America/New_York:20230920T130000
DTEND;TZID=America/New_York:20230920T150000
DTSTAMP:20260421T063134
CREATED:20230717T133214Z
LAST-MODIFIED:20230717T133247Z
UID:10001155-1695214800-1695222000@www.lifelonglearningcollaborative.org
SUMMARY:Hot Topics
DESCRIPTION:
URL:https://www.lifelonglearningcollaborative.org/event/hot-topics-3-2/2023-09-20/
LOCATION:ZOOM
CATEGORIES:Courses
END:VEVENT
BEGIN:VEVENT
DTSTART;TZID=America/New_York:20230920T130000
DTEND;TZID=America/New_York:20230920T150000
DTSTAMP:20260421T063134
CREATED:20230717T133327Z
LAST-MODIFIED:20230717T133327Z
UID:10001165-1695214800-1695222000@www.lifelonglearningcollaborative.org
SUMMARY:LLC Knits
DESCRIPTION:
URL:https://www.lifelonglearningcollaborative.org/event/llc-knits-3-2/2023-09-20/
LOCATION:Temple Beth-El\, 70 Orchard Avenue\, Providence\, RI\, United States
CATEGORIES:Courses
END:VEVENT
BEGIN:VEVENT
DTSTART;TZID=America/New_York:20230920T160000
DTEND;TZID=America/New_York:20230920T170000
DTSTAMP:20260421T063134
CREATED:20230821T135009Z
LAST-MODIFIED:20230821T135009Z
UID:10001410-1695225600-1695229200@www.lifelonglearningcollaborative.org
SUMMARY:Brown Bag Lecture feat. Danny Warshay
DESCRIPTION:Professor Danny Warshay\, Executive Director of the Nelson Center for Entrepreneurship at Brown University and Author of See\, Solve\, Scale: How Anyone Can Turn an Unsolved Problem into a Breakthrough Success \nWe are very excited to have as our guest Professor Danny Warshay\, who will present his three-step “See\, Solve\, Scale” workshop process that he teaches to aspiring entrepreneurs at Brown and in other contexts all over the world and that he shares in his award-winning book\, See\, Solve\, Scale: How Anyone Can Turn an Unsolved Problem into a Breakthrough Success. \nAs opposed to the myth that entrepreneurs are creative geniuses from birth\, ”See\, Solve\, Scale” is a skill set that anyone\, including our fellow students at LLC\, can learn\, master and apply to help us solve problems. \nDanny Warshay is a Professor and Executive Director of the Nelson Center for Entrepreneurship at Brown University. He leads creative and thought-provoking workshops on entrepreneurship around the world. Based on this course\, Danny has written the award-winning book\, See\, Solve\, Scale: How Anyone Can Turn an Unsolved Problem into a Breakthrough Success.
URL:https://www.lifelonglearningcollaborative.org/event/brown-bag-lecture-feat-danny-warshay/
LOCATION:ZOOM
CATEGORIES:Free Webinars
END:VEVENT
BEGIN:VEVENT
DTSTART;TZID=America/New_York:20230921T100000
DTEND;TZID=America/New_York:20230921T120000
DTSTAMP:20260421T063134
CREATED:20230717T133808Z
LAST-MODIFIED:20230717T133808Z
UID:10001222-1695290400-1695297600@www.lifelonglearningcollaborative.org
SUMMARY:Theater Conversations
DESCRIPTION:
URL:https://www.lifelonglearningcollaborative.org/event/theater-conversations/2023-09-21/
LOCATION:Temple Beth-El\, 70 Orchard Avenue\, Providence\, RI\, United States
CATEGORIES:Courses
END:VEVENT
BEGIN:VEVENT
DTSTART;TZID=America/New_York:20230921T130000
DTEND;TZID=America/New_York:20230921T150000
DTSTAMP:20260421T063134
CREATED:20230717T133447Z
LAST-MODIFIED:20230717T221908Z
UID:10001401-1695301200-1695308400@www.lifelonglearningcollaborative.org
SUMMARY:Your Hometown
DESCRIPTION:
URL:https://www.lifelonglearningcollaborative.org/event/your-hometown/2023-09-21/
LOCATION:Temple Beth-El\, 70 Orchard Avenue\, Providence\, RI\, United States
CATEGORIES:Courses
END:VEVENT
BEGIN:VEVENT
DTSTART;TZID=America/New_York:20230921T130000
DTEND;TZID=America/New_York:20230921T150000
DTSTAMP:20260421T063134
CREATED:20230717T133858Z
LAST-MODIFIED:20230717T133858Z
UID:10001239-1695301200-1695308400@www.lifelonglearningcollaborative.org
SUMMARY:Memoir
DESCRIPTION:
URL:https://www.lifelonglearningcollaborative.org/event/memoir/2023-09-21/
LOCATION:Temple Beth-El\, 70 Orchard Avenue\, Providence\, RI\, United States
CATEGORIES:Courses
END:VEVENT
BEGIN:VEVENT
DTSTART;TZID=America/New_York:20230921T130000
DTEND;TZID=America/New_York:20230921T150000
DTSTAMP:20260421T063134
CREATED:20230717T134009Z
LAST-MODIFIED:20230717T134009Z
UID:10001249-1695301200-1695308400@www.lifelonglearningcollaborative.org
SUMMARY:Paintings/Paris Cafes
DESCRIPTION:
URL:https://www.lifelonglearningcollaborative.org/event/paintings-paris-cafes/2023-09-21/
LOCATION:Temple Beth-El\, 70 Orchard Avenue\, Providence\, RI\, United States
CATEGORIES:Courses
END:VEVENT
BEGIN:VEVENT
DTSTART;TZID=America/New_York:20230921T130000
DTEND;TZID=America/New_York:20230921T150000
DTSTAMP:20260421T063134
CREATED:20230717T134117Z
LAST-MODIFIED:20230717T134117Z
UID:10001259-1695301200-1695308400@www.lifelonglearningcollaborative.org
SUMMARY:Photo Journey I
DESCRIPTION:ZOOM and Temple Beth-El
URL:https://www.lifelonglearningcollaborative.org/event/photo-journey-i/2023-09-21/
LOCATION:Temple Beth-El\, 70 Orchard Avenue\, Providence\, RI\, United States
CATEGORIES:Courses
END:VEVENT
BEGIN:VEVENT
DTSTART;TZID=America/New_York:20230922T100000
DTEND;TZID=America/New_York:20230922T110000
DTSTAMP:20260421T063134
CREATED:20230717T134610Z
LAST-MODIFIED:20230717T134610Z
UID:10001377-1695376800-1695380400@www.lifelonglearningcollaborative.org
SUMMARY:Get Fit at Home
DESCRIPTION:
URL:https://www.lifelonglearningcollaborative.org/event/get-fit-at-home-3-3/2023-09-22/
LOCATION:ZOOM
CATEGORIES:Courses
END:VEVENT
BEGIN:VEVENT
DTSTART;TZID=America/New_York:20230922T100000
DTEND;TZID=America/New_York:20230922T120000
DTSTAMP:20260421T063134
CREATED:20230717T134450Z
LAST-MODIFIED:20230717T134450Z
UID:10001306-1695376800-1695384000@www.lifelonglearningcollaborative.org
SUMMARY:Lives of Objects
DESCRIPTION:
URL:https://www.lifelonglearningcollaborative.org/event/lives-of-objects/2023-09-22/
LOCATION:Temple Beth-El\, 70 Orchard Avenue\, Providence\, RI\, United States
CATEGORIES:Courses
END:VEVENT
BEGIN:VEVENT
DTSTART;TZID=America/New_York:20230925T130000
DTEND;TZID=America/New_York:20230925T150000
DTSTAMP:20260421T063134
CREATED:20230717T130815Z
LAST-MODIFIED:20240715T142005Z
UID:10000852-1695646800-1695654000@www.lifelonglearningcollaborative.org
SUMMARY:Book Club
DESCRIPTION:
URL:https://www.lifelonglearningcollaborative.org/event/book-club/2023-09-25/
LOCATION:ZOOM
CATEGORIES:Courses
END:VEVENT
BEGIN:VEVENT
DTSTART;TZID=America/New_York:20230926T100000
DTEND;TZID=America/New_York:20230926T120000
DTSTAMP:20260421T063134
CREATED:20230717T131409Z
LAST-MODIFIED:20230717T131409Z
UID:10000949-1695722400-1695729600@www.lifelonglearningcollaborative.org
SUMMARY:Luminous Things: Big Six
DESCRIPTION:Hybrid: Temple Beth-El and Zoom
URL:https://www.lifelonglearningcollaborative.org/event/luminous-things-big-six/2023-09-26/
LOCATION:Temple Beth-El\, 70 Orchard Avenue\, Providence\, RI\, United States
CATEGORIES:Courses
END:VEVENT
BEGIN:VEVENT
DTSTART;TZID=America/New_York:20230926T100000
DTEND;TZID=America/New_York:20230926T120000
DTSTAMP:20260421T063134
CREATED:20230717T131734Z
LAST-MODIFIED:20230717T132146Z
UID:10001030-1695722400-1695729600@www.lifelonglearningcollaborative.org
SUMMARY:Düsseldorf
DESCRIPTION:
URL:https://www.lifelonglearningcollaborative.org/event/dusseldorf/2023-09-26/
LOCATION:Temple Beth-El\, 70 Orchard Avenue\, Providence\, RI\, United States
CATEGORIES:Courses
END:VEVENT
BEGIN:VEVENT
DTSTART;TZID=America/New_York:20230926T130000
DTEND;TZID=America/New_York:20230926T150000
DTSTAMP:20260421T063134
CREATED:20230717T131842Z
LAST-MODIFIED:20230717T132013Z
UID:10001050-1695733200-1695740400@www.lifelonglearningcollaborative.org
SUMMARY:Classical Music 20th C.
DESCRIPTION:
URL:https://www.lifelonglearningcollaborative.org/event/classical-music-20th-c/2023-09-26/
LOCATION:Temple Beth-El\, 70 Orchard Avenue\, Providence\, RI\, United States
CATEGORIES:Courses
END:VEVENT
BEGIN:VEVENT
DTSTART;TZID=America/New_York:20230926T130000
DTEND;TZID=America/New_York:20230926T150000
DTSTAMP:20260421T063134
CREATED:20230717T132330Z
LAST-MODIFIED:20230717T132330Z
UID:10001070-1695733200-1695740400@www.lifelonglearningcollaborative.org
SUMMARY:Cell Phone Photo Club
DESCRIPTION:
URL:https://www.lifelonglearningcollaborative.org/event/cell-phone-photo-club-2-2/2023-09-26/
LOCATION:Temple Beth-El\, 70 Orchard Avenue\, Providence\, RI\, United States
CATEGORIES:Courses
END:VEVENT
BEGIN:VEVENT
DTSTART;TZID=America/New_York:20230926T151500
DTEND;TZID=America/New_York:20230926T171500
DTSTAMP:20260421T063134
CREATED:20230717T132527Z
LAST-MODIFIED:20230717T132550Z
UID:10001101-1695741300-1695748500@www.lifelonglearningcollaborative.org
SUMMARY:Scrabble
DESCRIPTION:
URL:https://www.lifelonglearningcollaborative.org/event/scrabble-7/2023-09-26/
LOCATION:Temple Beth-El\, 70 Orchard Avenue\, Providence\, RI\, United States
CATEGORIES:Courses
END:VEVENT
BEGIN:VEVENT
DTSTART;TZID=America/New_York:20230927T100000
DTEND;TZID=America/New_York:20230927T120000
DTSTAMP:20260421T063134
CREATED:20230717T132907Z
LAST-MODIFIED:20230717T132912Z
UID:10001120-1695808800-1695816000@www.lifelonglearningcollaborative.org
SUMMARY:US Supreme Court Decisions
DESCRIPTION:
URL:https://www.lifelonglearningcollaborative.org/event/us-supreme-court-decisions/2023-09-27/
LOCATION:ZOOM
CATEGORIES:Courses
END:VEVENT
BEGIN:VEVENT
DTSTART;TZID=America/New_York:20230927T100000
DTEND;TZID=America/New_York:20230927T120000
DTSTAMP:20260421T063134
CREATED:20230717T133007Z
LAST-MODIFIED:20230717T133007Z
UID:10001128-1695808800-1695816000@www.lifelonglearningcollaborative.org
SUMMARY:Gender/Power Plays
DESCRIPTION:
URL:https://www.lifelonglearningcollaborative.org/event/gender-power-plays/2023-09-27/
LOCATION:Temple Beth-El\, 70 Orchard Avenue\, Providence\, RI\, United States
CATEGORIES:Courses
END:VEVENT
BEGIN:VEVENT
DTSTART;TZID=America/New_York:20230927T130000
DTEND;TZID=America/New_York:20230927T150000
DTSTAMP:20260421T063134
CREATED:20230717T133214Z
LAST-MODIFIED:20230717T133247Z
UID:10001156-1695819600-1695826800@www.lifelonglearningcollaborative.org
SUMMARY:Hot Topics
DESCRIPTION:
URL:https://www.lifelonglearningcollaborative.org/event/hot-topics-3-2/2023-09-27/
LOCATION:ZOOM
CATEGORIES:Courses
END:VEVENT
BEGIN:VEVENT
DTSTART;TZID=America/New_York:20230927T130000
DTEND;TZID=America/New_York:20230927T150000
DTSTAMP:20260421T063134
CREATED:20230717T133327Z
LAST-MODIFIED:20230717T133327Z
UID:10001166-1695819600-1695826800@www.lifelonglearningcollaborative.org
SUMMARY:LLC Knits
DESCRIPTION:
URL:https://www.lifelonglearningcollaborative.org/event/llc-knits-3-2/2023-09-27/
LOCATION:Temple Beth-El\, 70 Orchard Avenue\, Providence\, RI\, United States
CATEGORIES:Courses
END:VEVENT
BEGIN:VEVENT
DTSTART;TZID=America/New_York:20230928T100000
DTEND;TZID=America/New_York:20230928T120000
DTSTAMP:20260421T063134
CREATED:20230717T133808Z
LAST-MODIFIED:20230717T133808Z
UID:10001223-1695895200-1695902400@www.lifelonglearningcollaborative.org
SUMMARY:Theater Conversations
DESCRIPTION:
URL:https://www.lifelonglearningcollaborative.org/event/theater-conversations/2023-09-28/
LOCATION:Temple Beth-El\, 70 Orchard Avenue\, Providence\, RI\, United States
CATEGORIES:Courses
END:VEVENT
BEGIN:VEVENT
DTSTART;TZID=America/New_York:20230928T130000
DTEND;TZID=America/New_York:20230928T150000
DTSTAMP:20260421T063134
CREATED:20230717T133447Z
LAST-MODIFIED:20230717T221908Z
UID:10001402-1695906000-1695913200@www.lifelonglearningcollaborative.org
SUMMARY:Your Hometown
DESCRIPTION:
URL:https://www.lifelonglearningcollaborative.org/event/your-hometown/2023-09-28/
LOCATION:Temple Beth-El\, 70 Orchard Avenue\, Providence\, RI\, United States
CATEGORIES:Courses
END:VEVENT
BEGIN:VEVENT
DTSTART;TZID=America/New_York:20230928T130000
DTEND;TZID=America/New_York:20230928T150000
DTSTAMP:20260421T063134
CREATED:20230717T133858Z
LAST-MODIFIED:20230717T133858Z
UID:10001240-1695906000-1695913200@www.lifelonglearningcollaborative.org
SUMMARY:Memoir
DESCRIPTION:
URL:https://www.lifelonglearningcollaborative.org/event/memoir/2023-09-28/
LOCATION:Temple Beth-El\, 70 Orchard Avenue\, Providence\, RI\, United States
CATEGORIES:Courses
END:VEVENT
END:VCALENDAR