BEGIN:VCALENDAR
VERSION:2.0
PRODID:-//Lifelong Learning Collaborative - ECPv6.15.12.2//NONSGML v1.0//EN
CALSCALE:GREGORIAN
METHOD:PUBLISH
X-WR-CALNAME:Lifelong Learning Collaborative
X-ORIGINAL-URL:https://www.lifelonglearningcollaborative.org
X-WR-CALDESC:Events for Lifelong Learning Collaborative
REFRESH-INTERVAL;VALUE=DURATION:PT1H
X-Robots-Tag:noindex
X-PUBLISHED-TTL:PT1H
BEGIN:VTIMEZONE
TZID:America/New_York
BEGIN:DAYLIGHT
TZOFFSETFROM:-0500
TZOFFSETTO:-0400
TZNAME:EDT
DTSTART:20250309T070000
END:DAYLIGHT
BEGIN:STANDARD
TZOFFSETFROM:-0400
TZOFFSETTO:-0500
TZNAME:EST
DTSTART:20251102T060000
END:STANDARD
BEGIN:DAYLIGHT
TZOFFSETFROM:-0500
TZOFFSETTO:-0400
TZNAME:EDT
DTSTART:20260308T070000
END:DAYLIGHT
BEGIN:STANDARD
TZOFFSETFROM:-0400
TZOFFSETTO:-0500
TZNAME:EST
DTSTART:20261101T060000
END:STANDARD
BEGIN:DAYLIGHT
TZOFFSETFROM:-0500
TZOFFSETTO:-0400
TZNAME:EDT
DTSTART:20270314T070000
END:DAYLIGHT
BEGIN:STANDARD
TZOFFSETFROM:-0400
TZOFFSETTO:-0500
TZNAME:EST
DTSTART:20271107T060000
END:STANDARD
END:VTIMEZONE
BEGIN:VEVENT
DTSTART;TZID=America/New_York:20260126T100000
DTEND;TZID=America/New_York:20260126T120000
DTSTAMP:20260420T000904
CREATED:20251124T211018Z
LAST-MODIFIED:20251124T212538Z
UID:10003707-1769421600-1769428800@www.lifelonglearningcollaborative.org
SUMMARY:Jane Austen
DESCRIPTION:
URL:https://www.lifelonglearningcollaborative.org/event/jane-austen/2026-01-26/
LOCATION:Shriners Center\, 1 Rhodes Place\, Cranston\, RI\, 02905\, United States
CATEGORIES:Courses
END:VEVENT
BEGIN:VEVENT
DTSTART;TZID=America/New_York:20260126T100000
DTEND;TZID=America/New_York:20260126T120000
DTSTAMP:20260420T000904
CREATED:20251124T212145Z
LAST-MODIFIED:20251124T212658Z
UID:10003717-1769421600-1769428800@www.lifelonglearningcollaborative.org
SUMMARY:Open Studio Art (Zoom)
DESCRIPTION:
URL:https://www.lifelonglearningcollaborative.org/event/open-studio-art-zoom-2-5/2026-01-26/
LOCATION:ZOOM
CATEGORIES:Courses
END:VEVENT
BEGIN:VEVENT
DTSTART;TZID=America/New_York:20260126T100000
DTEND;TZID=America/New_York:20260126T120000
DTSTAMP:20260420T000904
CREATED:20251125T140258Z
LAST-MODIFIED:20251125T140258Z
UID:10003724-1769421600-1769428800@www.lifelonglearningcollaborative.org
SUMMARY:Great Decisions 2026
DESCRIPTION:
URL:https://www.lifelonglearningcollaborative.org/event/great-decisions-2026/2026-01-26/
LOCATION:ZOOM
CATEGORIES:Courses
END:VEVENT
BEGIN:VEVENT
DTSTART;TZID=America/New_York:20260126T130000
DTEND;TZID=America/New_York:20260126T150000
DTSTAMP:20260420T000904
CREATED:20250714T135535Z
LAST-MODIFIED:20250714T135535Z
UID:10003413-1769432400-1769439600@www.lifelonglearningcollaborative.org
SUMMARY:Hist Novel Book Club 25-26
DESCRIPTION:
URL:https://www.lifelonglearningcollaborative.org/event/hist-novel-book-club-25-26/2026-01-26/
LOCATION:ZOOM
CATEGORIES:Courses
END:VEVENT
BEGIN:VEVENT
DTSTART;TZID=America/New_York:20260126T130000
DTEND;TZID=America/New_York:20260126T150000
DTSTAMP:20260420T000904
CREATED:20251125T140356Z
LAST-MODIFIED:20251125T140356Z
UID:10003733-1769432400-1769439600@www.lifelonglearningcollaborative.org
SUMMARY:Literary Rx
DESCRIPTION:
URL:https://www.lifelonglearningcollaborative.org/event/literary-rx/2026-01-26/
LOCATION:international house of rhode island\, 8 Stimson Avenue\, Providence\, RI\, 02906\, United States
CATEGORIES:Courses
END:VEVENT
BEGIN:VEVENT
DTSTART;TZID=America/New_York:20260126T160000
DTEND;TZID=America/New_York:20260126T170000
DTSTAMP:20260420T000904
CREATED:20251209T143844Z
LAST-MODIFIED:20251209T143844Z
UID:10003897-1769443200-1769446800@www.lifelonglearningcollaborative.org
SUMMARY:Webinar Lecture feat. Dana Guyer\, Palliative Care Physician
DESCRIPTION:
URL:https://www.lifelonglearningcollaborative.org/event/webinar-lecture-feat-dana-guyer-palliative-care-physician/
LOCATION:ZOOM
CATEGORIES:Free Webinars
END:VEVENT
BEGIN:VEVENT
DTSTART;TZID=America/New_York:20260127T100000
DTEND;TZID=America/New_York:20260127T120000
DTSTAMP:20260420T000904
CREATED:20251125T140457Z
LAST-MODIFIED:20251125T140524Z
UID:10003741-1769508000-1769515200@www.lifelonglearningcollaborative.org
SUMMARY:iPhone Photo Basics
DESCRIPTION:
URL:https://www.lifelonglearningcollaborative.org/event/iphone-photo-basics/2026-01-27/
LOCATION:Shriners Center\, 1 Rhodes Place\, Cranston\, RI\, 02905\, United States
CATEGORIES:Courses
END:VEVENT
BEGIN:VEVENT
DTSTART;TZID=America/New_York:20260127T100000
DTEND;TZID=America/New_York:20260127T120000
DTSTAMP:20260420T000904
CREATED:20251125T140815Z
LAST-MODIFIED:20251125T140815Z
UID:10003761-1769508000-1769515200@www.lifelonglearningcollaborative.org
SUMMARY:Guys & Dolls
DESCRIPTION:
URL:https://www.lifelonglearningcollaborative.org/event/guys-dolls/2026-01-27/
LOCATION:ZOOM
CATEGORIES:Courses
END:VEVENT
BEGIN:VEVENT
DTSTART;TZID=America/New_York:20260127T100000
DTEND;TZID=America/New_York:20260127T120000
DTSTAMP:20260420T000904
CREATED:20251125T141124Z
LAST-MODIFIED:20251125T141124Z
UID:10003768-1769508000-1769515200@www.lifelonglearningcollaborative.org
SUMMARY:Writing a Memoir (Zoom)
DESCRIPTION:
URL:https://www.lifelonglearningcollaborative.org/event/writing-a-memoir-zoom-2-3/2026-01-27/
LOCATION:ZOOM
CATEGORIES:Courses
END:VEVENT
BEGIN:VEVENT
DTSTART;TZID=America/New_York:20260127T100000
DTEND;TZID=America/New_York:20260127T123000
DTSTAMP:20260420T000904
CREATED:20251125T140626Z
LAST-MODIFIED:20251125T140626Z
UID:10003745-1769508000-1769517000@www.lifelonglearningcollaborative.org
SUMMARY:Open Studio Art @ Shriners
DESCRIPTION:
URL:https://www.lifelonglearningcollaborative.org/event/open-studio-art-shriners/2026-01-27/
LOCATION:Shriners Center\, 1 Rhodes Place\, Cranston\, RI\, 02905\, United States
CATEGORIES:Courses
END:VEVENT
BEGIN:VEVENT
DTSTART;TZID=America/New_York:20260127T100000
DTEND;TZID=America/New_York:20260127T123000
DTSTAMP:20260420T000904
CREATED:20251125T140731Z
LAST-MODIFIED:20251125T140731Z
UID:10003753-1769508000-1769517000@www.lifelonglearningcollaborative.org
SUMMARY:Scrabble
DESCRIPTION:
URL:https://www.lifelonglearningcollaborative.org/event/scrabble-23/2026-01-27/
LOCATION:Shriners Center\, 1 Rhodes Place\, Cranston\, RI\, 02905\, United States
CATEGORIES:Courses
END:VEVENT
BEGIN:VEVENT
DTSTART;TZID=America/New_York:20260127T130000
DTEND;TZID=America/New_York:20260127T150000
DTSTAMP:20260420T000904
CREATED:20251125T141919Z
LAST-MODIFIED:20251125T141919Z
UID:10003784-1769518800-1769526000@www.lifelonglearningcollaborative.org
SUMMARY:Jewish Baking
DESCRIPTION:Private Residence in Providence
URL:https://www.lifelonglearningcollaborative.org/event/jewish-baking/2026-01-27/
CATEGORIES:Courses
END:VEVENT
BEGIN:VEVENT
DTSTART;TZID=America/New_York:20260128T100000
DTEND;TZID=America/New_York:20260128T120000
DTSTAMP:20260420T000904
CREATED:20251125T142038Z
LAST-MODIFIED:20251125T142038Z
UID:10003794-1769594400-1769601600@www.lifelonglearningcollaborative.org
SUMMARY:How Things Are Made HYBRID
DESCRIPTION:Shriners or Zoom
URL:https://www.lifelonglearningcollaborative.org/event/how-things-are-made-hybrid-2-2/2026-01-28/
LOCATION:Shriners Center\, 1 Rhodes Place\, Cranston\, RI\, 02905\, United States
CATEGORIES:Courses
END:VEVENT
BEGIN:VEVENT
DTSTART;TZID=America/New_York:20260128T100000
DTEND;TZID=America/New_York:20260128T120000
DTSTAMP:20260420T000904
CREATED:20251125T142121Z
LAST-MODIFIED:20251125T142121Z
UID:10003801-1769594400-1769601600@www.lifelonglearningcollaborative.org
SUMMARY:Reading Plays Aloud
DESCRIPTION:
URL:https://www.lifelonglearningcollaborative.org/event/reading-plays-aloud-2-2/2026-01-28/
LOCATION:Shriners Center\, 1 Rhodes Place\, Cranston\, RI\, 02905\, United States
CATEGORIES:Courses
END:VEVENT
BEGIN:VEVENT
DTSTART;TZID=America/New_York:20260128T100000
DTEND;TZID=America/New_York:20260128T120000
DTSTAMP:20260420T000904
CREATED:20251125T142217Z
LAST-MODIFIED:20251125T142217Z
UID:10003807-1769594400-1769601600@www.lifelonglearningcollaborative.org
SUMMARY:America's Presidents
DESCRIPTION:
URL:https://www.lifelonglearningcollaborative.org/event/americas-presidents/2026-01-28/
LOCATION:ZOOM
CATEGORIES:Courses
END:VEVENT
BEGIN:VEVENT
DTSTART;TZID=America/New_York:20260128T130000
DTEND;TZID=America/New_York:20260128T150000
DTSTAMP:20260420T000904
CREATED:20251125T142451Z
LAST-MODIFIED:20251125T142451Z
UID:10003815-1769605200-1769612400@www.lifelonglearningcollaborative.org
SUMMARY:Hot Topics
DESCRIPTION:
URL:https://www.lifelonglearningcollaborative.org/event/hot-topics-3-9/2026-01-28/
LOCATION:ZOOM
CATEGORIES:Courses
END:VEVENT
BEGIN:VEVENT
DTSTART;TZID=America/New_York:20260128T130000
DTEND;TZID=America/New_York:20260128T150000
DTSTAMP:20260420T000904
CREATED:20251125T142720Z
LAST-MODIFIED:20251125T142720Z
UID:10003823-1769605200-1769612400@www.lifelonglearningcollaborative.org
SUMMARY:Roman Empire
DESCRIPTION:
URL:https://www.lifelonglearningcollaborative.org/event/roman-empire/2026-01-28/
LOCATION:ZOOM
CATEGORIES:Courses
END:VEVENT
BEGIN:VEVENT
DTSTART;TZID=America/New_York:20260128T130000
DTEND;TZID=America/New_York:20260128T150000
DTSTAMP:20260420T000904
CREATED:20251125T142939Z
LAST-MODIFIED:20251125T142939Z
UID:10003831-1769605200-1769612400@www.lifelonglearningcollaborative.org
SUMMARY:LLC Knits
DESCRIPTION:
URL:https://www.lifelonglearningcollaborative.org/event/llc-knits-3-7/2026-01-28/
LOCATION:Shriners Center\, 1 Rhodes Place\, Cranston\, RI\, 02905\, United States
CATEGORIES:Courses
END:VEVENT
BEGIN:VEVENT
DTSTART;TZID=America/New_York:20260129T100000
DTEND;TZID=America/New_York:20260129T120000
DTSTAMP:20260420T000904
CREATED:20251125T143211Z
LAST-MODIFIED:20251125T143211Z
UID:10003839-1769680800-1769688000@www.lifelonglearningcollaborative.org
SUMMARY:Science for Our Time HYBRID
DESCRIPTION:Shriners and on Zoom
URL:https://www.lifelonglearningcollaborative.org/event/science-for-our-time-hybrid/2026-01-29/
LOCATION:Shriners Center\, 1 Rhodes Place\, Cranston\, RI\, 02905\, United States
CATEGORIES:Courses
END:VEVENT
BEGIN:VEVENT
DTSTART;TZID=America/New_York:20260129T100000
DTEND;TZID=America/New_York:20260129T120000
DTSTAMP:20260420T000904
CREATED:20251125T143348Z
LAST-MODIFIED:20251125T143348Z
UID:10003847-1769680800-1769688000@www.lifelonglearningcollaborative.org
SUMMARY:O.Henry Stories
DESCRIPTION:
URL:https://www.lifelonglearningcollaborative.org/event/o-henry-stories/2026-01-29/
LOCATION:Shriners Center\, 1 Rhodes Place\, Cranston\, RI\, 02905\, United States
CATEGORIES:Courses
END:VEVENT
BEGIN:VEVENT
DTSTART;TZID=America/New_York:20260129T130000
DTEND;TZID=America/New_York:20260129T150000
DTSTAMP:20260420T000904
CREATED:20251125T143520Z
LAST-MODIFIED:20251125T143520Z
UID:10003855-1769691600-1769698800@www.lifelonglearningcollaborative.org
SUMMARY:Writing a Memoir (Shriners)
DESCRIPTION:
URL:https://www.lifelonglearningcollaborative.org/event/writing-a-memoir-shriners/2026-01-29/
LOCATION:Shriners Center\, 1 Rhodes Place\, Cranston\, RI\, 02905\, United States
CATEGORIES:Courses
END:VEVENT
BEGIN:VEVENT
DTSTART;TZID=America/New_York:20260129T130000
DTEND;TZID=America/New_York:20260129T150000
DTSTAMP:20260420T000904
CREATED:20251125T143611Z
LAST-MODIFIED:20251125T143611Z
UID:10003863-1769691600-1769698800@www.lifelonglearningcollaborative.org
SUMMARY:Collage Making
DESCRIPTION:
URL:https://www.lifelonglearningcollaborative.org/event/collage-making/2026-01-29/
LOCATION:Shriners Center\, 1 Rhodes Place\, Cranston\, RI\, 02905\, United States
CATEGORIES:Courses
END:VEVENT
BEGIN:VEVENT
DTSTART;TZID=America/New_York:20260129T130000
DTEND;TZID=America/New_York:20260129T150000
DTSTAMP:20260420T000904
CREATED:20251125T144029Z
LAST-MODIFIED:20251125T144029Z
UID:10003880-1769691600-1769698800@www.lifelonglearningcollaborative.org
SUMMARY:Ukraine
DESCRIPTION:Shriners and on Zoom
URL:https://www.lifelonglearningcollaborative.org/event/ukraine-2-2/2026-01-29/
LOCATION:Shriners Center\, 1 Rhodes Place\, Cranston\, RI\, 02905\, United States
CATEGORIES:Courses
END:VEVENT
BEGIN:VEVENT
DTSTART;TZID=America/New_York:20260130T100000
DTEND;TZID=America/New_York:20260130T110000
DTSTAMP:20260420T000904
CREATED:20251125T144132Z
LAST-MODIFIED:20251125T144132Z
UID:10003888-1769767200-1769770800@www.lifelonglearningcollaborative.org
SUMMARY:Personal Training at Home
DESCRIPTION:
URL:https://www.lifelonglearningcollaborative.org/event/personal-training-at-home/2026-01-30/
LOCATION:ZOOM
CATEGORIES:Courses
END:VEVENT
BEGIN:VEVENT
DTSTART;TZID=America/New_York:20260202T100000
DTEND;TZID=America/New_York:20260202T120000
DTSTAMP:20260420T000904
CREATED:20251124T211018Z
LAST-MODIFIED:20251124T212538Z
UID:10003708-1770026400-1770033600@www.lifelonglearningcollaborative.org
SUMMARY:Jane Austen
DESCRIPTION:
URL:https://www.lifelonglearningcollaborative.org/event/jane-austen/2026-02-02/
LOCATION:Shriners Center\, 1 Rhodes Place\, Cranston\, RI\, 02905\, United States
CATEGORIES:Courses
END:VEVENT
BEGIN:VEVENT
DTSTART;TZID=America/New_York:20260202T100000
DTEND;TZID=America/New_York:20260202T120000
DTSTAMP:20260420T000904
CREATED:20251124T212145Z
LAST-MODIFIED:20251124T212658Z
UID:10003718-1770026400-1770033600@www.lifelonglearningcollaborative.org
SUMMARY:Open Studio Art (Zoom)
DESCRIPTION:
URL:https://www.lifelonglearningcollaborative.org/event/open-studio-art-zoom-2-5/2026-02-02/
LOCATION:ZOOM
CATEGORIES:Courses
END:VEVENT
BEGIN:VEVENT
DTSTART;TZID=America/New_York:20260202T100000
DTEND;TZID=America/New_York:20260202T120000
DTSTAMP:20260420T000904
CREATED:20251125T140258Z
LAST-MODIFIED:20251125T140258Z
UID:10003725-1770026400-1770033600@www.lifelonglearningcollaborative.org
SUMMARY:Great Decisions 2026
DESCRIPTION:
URL:https://www.lifelonglearningcollaborative.org/event/great-decisions-2026/2026-02-02/
LOCATION:ZOOM
CATEGORIES:Courses
END:VEVENT
BEGIN:VEVENT
DTSTART;TZID=America/New_York:20260202T130000
DTEND;TZID=America/New_York:20260202T150000
DTSTAMP:20260420T000904
CREATED:20251125T140356Z
LAST-MODIFIED:20251125T140356Z
UID:10003734-1770037200-1770044400@www.lifelonglearningcollaborative.org
SUMMARY:Literary Rx
DESCRIPTION:
URL:https://www.lifelonglearningcollaborative.org/event/literary-rx/2026-02-02/
LOCATION:international house of rhode island\, 8 Stimson Avenue\, Providence\, RI\, 02906\, United States
CATEGORIES:Courses
END:VEVENT
BEGIN:VEVENT
DTSTART;TZID=America/New_York:20260203T100000
DTEND;TZID=America/New_York:20260203T120000
DTSTAMP:20260420T000904
CREATED:20251125T140815Z
LAST-MODIFIED:20251125T140815Z
UID:10003762-1770112800-1770120000@www.lifelonglearningcollaborative.org
SUMMARY:Guys & Dolls
DESCRIPTION:
URL:https://www.lifelonglearningcollaborative.org/event/guys-dolls/2026-02-03/
LOCATION:ZOOM
CATEGORIES:Courses
END:VEVENT
BEGIN:VEVENT
DTSTART;TZID=America/New_York:20260203T100000
DTEND;TZID=America/New_York:20260203T120000
DTSTAMP:20260420T000904
CREATED:20251125T141124Z
LAST-MODIFIED:20251125T141124Z
UID:10003769-1770112800-1770120000@www.lifelonglearningcollaborative.org
SUMMARY:Writing a Memoir (Zoom)
DESCRIPTION:
URL:https://www.lifelonglearningcollaborative.org/event/writing-a-memoir-zoom-2-3/2026-02-03/
LOCATION:ZOOM
CATEGORIES:Courses
END:VEVENT
END:VCALENDAR