BEGIN:VCALENDAR
VERSION:2.0
PRODID:-//Lifelong Learning Collaborative - ECPv6.15.12.2//NONSGML v1.0//EN
CALSCALE:GREGORIAN
METHOD:PUBLISH
X-WR-CALNAME:Lifelong Learning Collaborative
X-ORIGINAL-URL:https://www.lifelonglearningcollaborative.org
X-WR-CALDESC:Events for Lifelong Learning Collaborative
REFRESH-INTERVAL;VALUE=DURATION:PT1H
X-Robots-Tag:noindex
X-PUBLISHED-TTL:PT1H
BEGIN:VTIMEZONE
TZID:America/New_York
BEGIN:DAYLIGHT
TZOFFSETFROM:-0500
TZOFFSETTO:-0400
TZNAME:EDT
DTSTART:20230312T070000
END:DAYLIGHT
BEGIN:STANDARD
TZOFFSETFROM:-0400
TZOFFSETTO:-0500
TZNAME:EST
DTSTART:20231105T060000
END:STANDARD
BEGIN:DAYLIGHT
TZOFFSETFROM:-0500
TZOFFSETTO:-0400
TZNAME:EDT
DTSTART:20240310T070000
END:DAYLIGHT
BEGIN:STANDARD
TZOFFSETFROM:-0400
TZOFFSETTO:-0500
TZNAME:EST
DTSTART:20241103T060000
END:STANDARD
BEGIN:DAYLIGHT
TZOFFSETFROM:-0500
TZOFFSETTO:-0400
TZNAME:EDT
DTSTART:20250309T070000
END:DAYLIGHT
BEGIN:STANDARD
TZOFFSETFROM:-0400
TZOFFSETTO:-0500
TZNAME:EST
DTSTART:20251102T060000
END:STANDARD
BEGIN:DAYLIGHT
TZOFFSETFROM:-0500
TZOFFSETTO:-0400
TZNAME:EDT
DTSTART:20260308T070000
END:DAYLIGHT
BEGIN:STANDARD
TZOFFSETFROM:-0400
TZOFFSETTO:-0500
TZNAME:EST
DTSTART:20261101T060000
END:STANDARD
END:VTIMEZONE
BEGIN:VEVENT
DTSTART;VALUE=DATE:20241125
DTEND;VALUE=DATE:20241126
DTSTAMP:20260420T124939
CREATED:20240903T153712Z
LAST-MODIFIED:20240903T153712Z
UID:10002236-1732492800-1732579199@www.lifelonglearningcollaborative.org
SUMMARY:Wintersession 2025 catalog announcement
DESCRIPTION:
URL:https://www.lifelonglearningcollaborative.org/event/wintersession-2025-catalog-announcement/
CATEGORIES:Semester Announcements
END:VEVENT
BEGIN:VEVENT
DTSTART;TZID=America/New_York:20241125T130000
DTEND;TZID=America/New_York:20241125T150000
DTSTAMP:20260420T124939
CREATED:20240715T131626Z
LAST-MODIFIED:20240715T131626Z
UID:10001915-1732539600-1732546800@www.lifelonglearningcollaborative.org
SUMMARY:Historical Novel Book Club 24-25
DESCRIPTION:
URL:https://www.lifelonglearningcollaborative.org/event/historical-novel-book-club-24-25/2024-11-25/
LOCATION:ZOOM
CATEGORIES:Courses
END:VEVENT
BEGIN:VEVENT
DTSTART;TZID=America/New_York:20241128T130000
DTEND;TZID=America/New_York:20241128T150000
DTSTAMP:20260420T124939
CREATED:20240715T135955Z
LAST-MODIFIED:20241016T115655Z
UID:10002243-1732798800-1732806000@www.lifelonglearningcollaborative.org
SUMMARY:Words & Images
DESCRIPTION:Temple Beth-El & 1 local museum\nMeets at the Art Club on Dec 5 and back at the Temple Dec 12
URL:https://www.lifelonglearningcollaborative.org/event/words-images/2024-11-28/
LOCATION:Temple Beth-El\, 70 Orchard Avenue\, Providence\, RI\, United States
CATEGORIES:Courses
END:VEVENT
BEGIN:VEVENT
DTSTART;TZID=America/New_York:20241202T090000
DTEND;TZID=America/New_York:20241202T235900
DTSTAMP:20260420T124939
CREATED:20240903T153750Z
LAST-MODIFIED:20240903T153750Z
UID:10002237-1733130000-1733183940@www.lifelonglearningcollaborative.org
SUMMARY:Wintersession 2025 registration opens
DESCRIPTION:
URL:https://www.lifelonglearningcollaborative.org/event/wintersession-2025-registration-opens/
CATEGORIES:Semester Announcements
END:VEVENT
BEGIN:VEVENT
DTSTART;TZID=America/New_York:20241204T100000
DTEND;TZID=America/New_York:20241204T113000
DTSTAMP:20260420T124939
CREATED:20241028T150919Z
LAST-MODIFIED:20241028T150919Z
UID:10002246-1733306400-1733311800@www.lifelonglearningcollaborative.org
SUMMARY:LLC Ranger-guided Tour of Old Slater Mill
DESCRIPTION:LLC’s Cultural Activities and Diversity\, Equity and Inclusion (DEI) Committees present A private ranger-guided tour of Old Slater Mill National Historic Landmark – ﻿Including their most recent exhibit “Laboring for Freedom: African Americans in the Blackstone River Valley.” \nOld Slater Mill is the birthplace of the American Industrial Revolution. Originally constructed in 1793\, this mill stands as an important reminder of the changes brought on by industrialization.  \nTHE TOUR\nAs part of our tour of the Mill\, we will have an extended talk on the most recent exhibit\, Laboring for Freedom: African Americans in the Blackstone River Valley\, by a ranger historian. This exhibit opened on October 18th and will only be in place until late December. \nWe will meet inside the Mill (67 Roosevelt Avenue\, Pawtucket\, RI 02860) at 10:15 AM. The tour will start promptly at 10:30 AM. We will begin with a short video and proceed with our Ranger guide to the exhibits. We will have the opportunity to ask questions and spend up to 90 minutes with a Park Ranger. \nACCESSIBILITY\nThe mill is handicap accessible but does have uneven floors. Seating will be available at each exhibit. Bathrooms\, elevators\, and drinking water are available. \nPARKING/CARPOOLING\nThere is a large parking lot at the site. A list of members signed up for the tour will be distributed one week before the event to help you facilitate carpooling. \nLunch is on your own. A list of restaurants near the Old Slater Mill will be sent out to participants before the event.
URL:https://www.lifelonglearningcollaborative.org/event/llc-ranger-guided-tour-of-old-slater-mill/
CATEGORIES:Cultural Trips
END:VEVENT
BEGIN:VEVENT
DTSTART;TZID=America/New_York:20241204T100000
DTEND;TZID=America/New_York:20241204T120000
DTSTAMP:20260420T124939
CREATED:20240715T133428Z
LAST-MODIFIED:20240715T133428Z
UID:10002047-1733306400-1733313600@www.lifelonglearningcollaborative.org
SUMMARY:Read\, Listen\, Be Inspired\, Write
DESCRIPTION:
URL:https://www.lifelonglearningcollaborative.org/event/read-listen-be-inspired-write/2024-12-04/
LOCATION:Temple Beth-El\, 70 Orchard Avenue\, Providence\, RI\, United States
CATEGORIES:Courses
END:VEVENT
BEGIN:VEVENT
DTSTART;TZID=America/New_York:20241205T100000
DTEND;TZID=America/New_York:20241205T120000
DTSTAMP:20260420T124939
CREATED:20240715T134948Z
LAST-MODIFIED:20240715T135149Z
UID:10002126-1733392800-1733400000@www.lifelonglearningcollaborative.org
SUMMARY:Our Brains\, Memory\, Brain Health Hybrid (TBE)
DESCRIPTION:Class will be on Zoom Oct 24
URL:https://www.lifelonglearningcollaborative.org/event/our-brains-memory-brain-health-hybrid/2024-12-05/
LOCATION:Temple Beth-El\, 70 Orchard Avenue\, Providence\, RI\, United States
CATEGORIES:Courses
END:VEVENT
BEGIN:VEVENT
DTSTART;TZID=America/New_York:20241205T100000
DTEND;TZID=America/New_York:20241205T120000
DTSTAMP:20260420T124939
CREATED:20240715T135101Z
LAST-MODIFIED:20240715T135101Z
UID:10002136-1733392800-1733400000@www.lifelonglearningcollaborative.org
SUMMARY:Our Brains\, Memory\, Brain Health Hybrid (Zoom)
DESCRIPTION:Both classes will be on Zoom on Oct 24
URL:https://www.lifelonglearningcollaborative.org/event/our-brains-memory-brain-health-hybrid-zoom/2024-12-05/
LOCATION:ZOOM
CATEGORIES:Courses
END:VEVENT
BEGIN:VEVENT
DTSTART;TZID=America/New_York:20241205T130000
DTEND;TZID=America/New_York:20241205T150000
DTSTAMP:20260420T124939
CREATED:20240715T135955Z
LAST-MODIFIED:20241016T115655Z
UID:10002244-1733403600-1733410800@www.lifelonglearningcollaborative.org
SUMMARY:Words & Images
DESCRIPTION:Temple Beth-El & 1 local museum\nMeets at the Art Club on Dec 5 and back at the Temple Dec 12
URL:https://www.lifelonglearningcollaborative.org/event/words-images/2024-12-05/
LOCATION:Temple Beth-El\, 70 Orchard Avenue\, Providence\, RI\, United States
CATEGORIES:Courses
END:VEVENT
BEGIN:VEVENT
DTSTART;TZID=America/New_York:20241206T130000
DTEND;TZID=America/New_York:20241206T150000
DTSTAMP:20260420T124939
CREATED:20240715T140803Z
LAST-MODIFIED:20240715T140803Z
UID:10002218-1733490000-1733497200@www.lifelonglearningcollaborative.org
SUMMARY:Ancient Persia
DESCRIPTION:
URL:https://www.lifelonglearningcollaborative.org/event/ancient-persia/2024-12-06/
LOCATION:ZOOM
CATEGORIES:Courses
END:VEVENT
BEGIN:VEVENT
DTSTART;TZID=America/New_York:20241211T100000
DTEND;TZID=America/New_York:20241211T120000
DTSTAMP:20260420T124939
CREATED:20240715T133428Z
LAST-MODIFIED:20240715T133428Z
UID:10002048-1733911200-1733918400@www.lifelonglearningcollaborative.org
SUMMARY:Read\, Listen\, Be Inspired\, Write
DESCRIPTION:
URL:https://www.lifelonglearningcollaborative.org/event/read-listen-be-inspired-write/2024-12-11/
LOCATION:Temple Beth-El\, 70 Orchard Avenue\, Providence\, RI\, United States
CATEGORIES:Courses
END:VEVENT
BEGIN:VEVENT
DTSTART;TZID=America/New_York:20241212T130000
DTEND;TZID=America/New_York:20241212T150000
DTSTAMP:20260420T124939
CREATED:20240715T135955Z
LAST-MODIFIED:20241016T115655Z
UID:10002245-1734008400-1734015600@www.lifelonglearningcollaborative.org
SUMMARY:Words & Images
DESCRIPTION:Temple Beth-El & 1 local museum\nMeets at the Art Club on Dec 5 and back at the Temple Dec 12
URL:https://www.lifelonglearningcollaborative.org/event/words-images/2024-12-12/
LOCATION:Temple Beth-El\, 70 Orchard Avenue\, Providence\, RI\, United States
CATEGORIES:Courses
END:VEVENT
BEGIN:VEVENT
DTSTART;TZID=America/New_York:20241230T130000
DTEND;TZID=America/New_York:20241230T150000
DTSTAMP:20260420T124939
CREATED:20240715T131626Z
LAST-MODIFIED:20240715T131626Z
UID:10001916-1735563600-1735570800@www.lifelonglearningcollaborative.org
SUMMARY:Historical Novel Book Club 24-25
DESCRIPTION:
URL:https://www.lifelonglearningcollaborative.org/event/historical-novel-book-club-24-25/2024-12-30/
LOCATION:ZOOM
CATEGORIES:Courses
END:VEVENT
BEGIN:VEVENT
DTSTART;VALUE=DATE:20250106
DTEND;VALUE=DATE:20250107
DTSTAMP:20260420T124939
CREATED:20240903T153823Z
LAST-MODIFIED:20240903T153823Z
UID:10002238-1736121600-1736207999@www.lifelonglearningcollaborative.org
SUMMARY:Wintersession 2025 classes begin
DESCRIPTION:
URL:https://www.lifelonglearningcollaborative.org/event/wintersession-2025-classes-begin/
CATEGORIES:Semester Announcements
END:VEVENT
BEGIN:VEVENT
DTSTART;TZID=America/New_York:20250106T100000
DTEND;TZID=America/New_York:20250106T120000
DTSTAMP:20260420T124939
CREATED:20241125T143510Z
LAST-MODIFIED:20241125T145252Z
UID:10002250-1736157600-1736164800@www.lifelonglearningcollaborative.org
SUMMARY:Open Studio Art (ZOOM)
DESCRIPTION:
URL:https://www.lifelonglearningcollaborative.org/event/open-studio-art-zoom-2-2/2025-01-06/
LOCATION:ZOOM
CATEGORIES:Courses
END:VEVENT
BEGIN:VEVENT
DTSTART;TZID=America/New_York:20250107T100000
DTEND;TZID=America/New_York:20250107T120000
DTSTAMP:20260420T124939
CREATED:20241125T144203Z
LAST-MODIFIED:20241125T145313Z
UID:10002429-1736244000-1736251200@www.lifelonglearningcollaborative.org
SUMMARY:Open Studio Art
DESCRIPTION:
URL:https://www.lifelonglearningcollaborative.org/event/open-studio-art-4/2025-01-07/
LOCATION:Temple Beth-El\, 70 Orchard Avenue\, Providence\, RI\, United States
CATEGORIES:Courses
END:VEVENT
BEGIN:VEVENT
DTSTART;TZID=America/New_York:20250107T100000
DTEND;TZID=America/New_York:20250107T120000
DTSTAMP:20260420T124939
CREATED:20241125T144253Z
LAST-MODIFIED:20241125T145332Z
UID:10002489-1736244000-1736251200@www.lifelonglearningcollaborative.org
SUMMARY:Huck's Friend James Reimagined (ZOOM)
DESCRIPTION:
URL:https://www.lifelonglearningcollaborative.org/event/hucks-friend-james-reimagined-zoom/2025-01-07/
LOCATION:ZOOM
CATEGORIES:Courses
END:VEVENT
BEGIN:VEVENT
DTSTART;TZID=America/New_York:20250107T130000
DTEND;TZID=America/New_York:20250107T141500
DTSTAMP:20260420T124939
CREATED:20241125T144348Z
LAST-MODIFIED:20241125T145231Z
UID:10002549-1736254800-1736259300@www.lifelonglearningcollaborative.org
SUMMARY:Alexander Technique
DESCRIPTION:
URL:https://www.lifelonglearningcollaborative.org/event/alexander-technique/2025-01-07/
LOCATION:Temple Beth-El\, 70 Orchard Avenue\, Providence\, RI\, United States
CATEGORIES:Courses
END:VEVENT
BEGIN:VEVENT
DTSTART;TZID=America/New_York:20250107T130000
DTEND;TZID=America/New_York:20250107T150000
DTSTAMP:20260420T124939
CREATED:20241125T144600Z
LAST-MODIFIED:20241125T145146Z
UID:10002667-1736254800-1736262000@www.lifelonglearningcollaborative.org
SUMMARY:Cell Phone Photo
DESCRIPTION:
URL:https://www.lifelonglearningcollaborative.org/event/cell-phone-photo-3-2/2025-01-07/
LOCATION:Temple Beth-El\, 70 Orchard Avenue\, Providence\, RI\, United States
CATEGORIES:Courses
END:VEVENT
BEGIN:VEVENT
DTSTART;TZID=America/New_York:20250107T151500
DTEND;TZID=America/New_York:20250107T170000
DTSTAMP:20260420T124939
CREATED:20241125T144641Z
LAST-MODIFIED:20241125T145018Z
UID:10002727-1736262900-1736269200@www.lifelonglearningcollaborative.org
SUMMARY:Scrabble
DESCRIPTION:
URL:https://www.lifelonglearningcollaborative.org/event/scrabble-15/2025-01-07/
LOCATION:Temple Beth-El\, 70 Orchard Avenue\, Providence\, RI\, United States
CATEGORIES:Courses
END:VEVENT
BEGIN:VEVENT
DTSTART;TZID=America/New_York:20250108T100000
DTEND;TZID=America/New_York:20250108T120000
DTSTAMP:20260420T124939
CREATED:20241125T144745Z
LAST-MODIFIED:20241125T144958Z
UID:10002787-1736330400-1736337600@www.lifelonglearningcollaborative.org
SUMMARY:Structures Hybrid
DESCRIPTION:On Zoom and in-person at Temple Beth-El
URL:https://www.lifelonglearningcollaborative.org/event/structures-hybrid/2025-01-08/
CATEGORIES:Courses
END:VEVENT
BEGIN:VEVENT
DTSTART;TZID=America/New_York:20250108T100000
DTEND;TZID=America/New_York:20250108T120000
DTSTAMP:20260420T124939
CREATED:20241125T144840Z
LAST-MODIFIED:20241125T144840Z
UID:10002847-1736330400-1736337600@www.lifelonglearningcollaborative.org
SUMMARY:The Media (ZOOM)
DESCRIPTION:
URL:https://www.lifelonglearningcollaborative.org/event/the-media-zoom/2025-01-08/
LOCATION:ZOOM
CATEGORIES:Courses
END:VEVENT
BEGIN:VEVENT
DTSTART;TZID=America/New_York:20250108T130000
DTEND;TZID=America/New_York:20250108T150000
DTSTAMP:20260420T124939
CREATED:20241125T145122Z
LAST-MODIFIED:20241125T145122Z
UID:10002855-1736341200-1736348400@www.lifelonglearningcollaborative.org
SUMMARY:LLC Knits Hybrid
DESCRIPTION:This hybrid class is on Zoom and in-person at Temple Beth-El
URL:https://www.lifelonglearningcollaborative.org/event/llc-knits-hybrid/2025-01-08/
CATEGORIES:Courses
END:VEVENT
BEGIN:VEVENT
DTSTART;TZID=America/New_York:20250108T130000
DTEND;TZID=America/New_York:20250108T150000
DTSTAMP:20260420T124939
CREATED:20241125T145755Z
LAST-MODIFIED:20241125T145755Z
UID:10002876-1736341200-1736348400@www.lifelonglearningcollaborative.org
SUMMARY:Hot Topics
DESCRIPTION:
URL:https://www.lifelonglearningcollaborative.org/event/hot-topics-3-6/2025-01-08/
LOCATION:ZOOM
CATEGORIES:Courses
END:VEVENT
BEGIN:VEVENT
DTSTART;TZID=America/New_York:20250109T100000
DTEND;TZID=America/New_York:20250109T120000
DTSTAMP:20260420T124939
CREATED:20241125T145843Z
LAST-MODIFIED:20241125T145843Z
UID:10002884-1736416800-1736424000@www.lifelonglearningcollaborative.org
SUMMARY:World's Greatest Short Stories
DESCRIPTION:
URL:https://www.lifelonglearningcollaborative.org/event/worlds-greatest-short-stories/2025-01-09/
LOCATION:Temple Beth-El\, 70 Orchard Avenue\, Providence\, RI\, United States
CATEGORIES:Courses
END:VEVENT
BEGIN:VEVENT
DTSTART;TZID=America/New_York:20250109T100000
DTEND;TZID=America/New_York:20250109T120000
DTSTAMP:20260420T124939
CREATED:20241125T145944Z
LAST-MODIFIED:20241125T151200Z
UID:10002892-1736416800-1736424000@www.lifelonglearningcollaborative.org
SUMMARY:Pompeii (ZOOM)
DESCRIPTION:
URL:https://www.lifelonglearningcollaborative.org/event/pompeii-zoom/2025-01-09/
LOCATION:ZOOM
CATEGORIES:Courses
END:VEVENT
BEGIN:VEVENT
DTSTART;TZID=America/New_York:20250109T100000
DTEND;TZID=America/New_York:20250109T120000
DTSTAMP:20260420T124939
CREATED:20241125T150049Z
LAST-MODIFIED:20241125T150049Z
UID:10002893-1736416800-1736424000@www.lifelonglearningcollaborative.org
SUMMARY:Overlooked No More Hybrid
DESCRIPTION:This hybrid class is on Zoom and in-person at Temple Beth-El
URL:https://www.lifelonglearningcollaborative.org/event/overlooked-no-more-hybrid/2025-01-09/
CATEGORIES:Courses
END:VEVENT
BEGIN:VEVENT
DTSTART;TZID=America/New_York:20250109T130000
DTEND;TZID=America/New_York:20250109T150000
DTSTAMP:20260420T124939
CREATED:20241125T150127Z
LAST-MODIFIED:20241125T150127Z
UID:10002901-1736427600-1736434800@www.lifelonglearningcollaborative.org
SUMMARY:Writing a Memoir
DESCRIPTION:
URL:https://www.lifelonglearningcollaborative.org/event/writing-a-memoir-3-5/2025-01-09/
LOCATION:Temple Beth-El\, 70 Orchard Avenue\, Providence\, RI\, United States
CATEGORIES:Courses
END:VEVENT
BEGIN:VEVENT
DTSTART;TZID=America/New_York:20250110T100000
DTEND;TZID=America/New_York:20250110T110000
DTSTAMP:20260420T124939
CREATED:20241125T150614Z
LAST-MODIFIED:20241125T150614Z
UID:10002909-1736503200-1736506800@www.lifelonglearningcollaborative.org
SUMMARY:Get Fit at Home (ZOOM)
DESCRIPTION:
URL:https://www.lifelonglearningcollaborative.org/event/get-fit-at-home-zoom/2025-01-10/
LOCATION:ZOOM
CATEGORIES:Courses
END:VEVENT
BEGIN:VEVENT
DTSTART;TZID=America/New_York:20250113T100000
DTEND;TZID=America/New_York:20250113T120000
DTSTAMP:20260420T124939
CREATED:20241125T143510Z
LAST-MODIFIED:20241125T145252Z
UID:10002251-1736762400-1736769600@www.lifelonglearningcollaborative.org
SUMMARY:Open Studio Art (ZOOM)
DESCRIPTION:
URL:https://www.lifelonglearningcollaborative.org/event/open-studio-art-zoom-2-2/2025-01-13/
LOCATION:ZOOM
CATEGORIES:Courses
END:VEVENT
END:VCALENDAR