BEGIN:VCALENDAR
VERSION:2.0
PRODID:-//Lifelong Learning Collaborative - ECPv6.15.12.2//NONSGML v1.0//EN
CALSCALE:GREGORIAN
METHOD:PUBLISH
X-WR-CALNAME:Lifelong Learning Collaborative
X-ORIGINAL-URL:https://www.lifelonglearningcollaborative.org
X-WR-CALDESC:Events for Lifelong Learning Collaborative
REFRESH-INTERVAL;VALUE=DURATION:PT1H
X-Robots-Tag:noindex
X-PUBLISHED-TTL:PT1H
BEGIN:VTIMEZONE
TZID:America/New_York
BEGIN:DAYLIGHT
TZOFFSETFROM:-0500
TZOFFSETTO:-0400
TZNAME:EDT
DTSTART:20250309T070000
END:DAYLIGHT
BEGIN:STANDARD
TZOFFSETFROM:-0400
TZOFFSETTO:-0500
TZNAME:EST
DTSTART:20251102T060000
END:STANDARD
BEGIN:DAYLIGHT
TZOFFSETFROM:-0500
TZOFFSETTO:-0400
TZNAME:EDT
DTSTART:20260308T070000
END:DAYLIGHT
BEGIN:STANDARD
TZOFFSETFROM:-0400
TZOFFSETTO:-0500
TZNAME:EST
DTSTART:20261101T060000
END:STANDARD
BEGIN:DAYLIGHT
TZOFFSETFROM:-0500
TZOFFSETTO:-0400
TZNAME:EDT
DTSTART:20270314T070000
END:DAYLIGHT
BEGIN:STANDARD
TZOFFSETFROM:-0400
TZOFFSETTO:-0500
TZNAME:EST
DTSTART:20271107T060000
END:STANDARD
END:VTIMEZONE
BEGIN:VEVENT
DTSTART;TZID=America/New_York:20260326T130000
DTEND;TZID=America/New_York:20260326T150000
DTSTAMP:20260419T200211
CREATED:20260119T163057Z
LAST-MODIFIED:20260119T163057Z
UID:10004081-1774530000-1774537200@www.lifelonglearningcollaborative.org
SUMMARY:Bridge
DESCRIPTION:
URL:https://www.lifelonglearningcollaborative.org/event/bridge-2/2026-03-26/
LOCATION:Regency Plaza Apartments\, RI\, United States
CATEGORIES:Courses
END:VEVENT
BEGIN:VEVENT
DTSTART;TZID=America/New_York:20260326T123000
DTEND;TZID=America/New_York:20260326T143000
DTSTAMP:20260419T200211
CREATED:20260119T163330Z
LAST-MODIFIED:20260119T163330Z
UID:10004091-1774528200-1774535400@www.lifelonglearningcollaborative.org
SUMMARY:Memoir (In-person)
DESCRIPTION:
URL:https://www.lifelonglearningcollaborative.org/event/memoir-in-person/2026-03-26/
LOCATION:Shriners Center\, 1 Rhodes Place\, Cranston\, RI\, 02905\, United States
CATEGORIES:Courses
END:VEVENT
BEGIN:VEVENT
DTSTART;TZID=America/New_York:20260326T100000
DTEND;TZID=America/New_York:20260326T120000
DTSTAMP:20260419T200211
CREATED:20260119T163012Z
LAST-MODIFIED:20260119T163012Z
UID:10004071-1774519200-1774526400@www.lifelonglearningcollaborative.org
SUMMARY:Theater Conversations
DESCRIPTION:First play closes on March 22
URL:https://www.lifelonglearningcollaborative.org/event/theater-conversations-3-5/2026-03-26/
LOCATION:Shriners Center\, 1 Rhodes Place\, Cranston\, RI\, 02905\, United States
CATEGORIES:Courses
END:VEVENT
BEGIN:VEVENT
DTSTART;TZID=America/New_York:20260325T130000
DTEND;TZID=America/New_York:20260325T150000
DTSTAMP:20260419T200211
CREATED:20260119T162913Z
LAST-MODIFIED:20260316T150634Z
UID:10004214-1774443600-1774450800@www.lifelonglearningcollaborative.org
SUMMARY:Improv Theater
DESCRIPTION:
URL:https://www.lifelonglearningcollaborative.org/event/improv-theater/2026-03-25/
LOCATION:Shriners Center\, 1 Rhodes Place\, Cranston\, RI\, 02905\, United States
CATEGORIES:Courses
END:VEVENT
BEGIN:VEVENT
DTSTART;TZID=America/New_York:20260325T130000
DTEND;TZID=America/New_York:20260325T150000
DTSTAMP:20260419T200211
CREATED:20260119T162638Z
LAST-MODIFIED:20260119T162638Z
UID:10004050-1774443600-1774450800@www.lifelonglearningcollaborative.org
SUMMARY:Hot Topics
DESCRIPTION:
URL:https://www.lifelonglearningcollaborative.org/event/hot-topics-3-10/2026-03-25/
LOCATION:ZOOM
CATEGORIES:Courses
END:VEVENT
BEGIN:VEVENT
DTSTART;TZID=America/New_York:20260325T130000
DTEND;TZID=America/New_York:20260325T150000
DTSTAMP:20260419T200211
CREATED:20260119T162448Z
LAST-MODIFIED:20260119T162448Z
UID:10004048-1774443600-1774450800@www.lifelonglearningcollaborative.org
SUMMARY:Knitting
DESCRIPTION:
URL:https://www.lifelonglearningcollaborative.org/event/knitting/2026-03-25/
LOCATION:Shriners Center\, 1 Rhodes Place\, Cranston\, RI\, 02905\, United States
CATEGORIES:Courses
END:VEVENT
BEGIN:VEVENT
DTSTART;TZID=America/New_York:20260325T100000
DTEND;TZID=America/New_York:20260325T120000
DTSTAMP:20260419T200211
CREATED:20260119T162220Z
LAST-MODIFIED:20260119T162220Z
UID:10004040-1774432800-1774440000@www.lifelonglearningcollaborative.org
SUMMARY:Independence at 250
DESCRIPTION:
URL:https://www.lifelonglearningcollaborative.org/event/independence-at-250/2026-03-25/
LOCATION:Shriners Center\, 1 Rhodes Place\, Cranston\, RI\, 02905\, United States
CATEGORIES:Courses
END:VEVENT
BEGIN:VEVENT
DTSTART;TZID=America/New_York:20260325T100000
DTEND;TZID=America/New_York:20260325T120000
DTSTAMP:20260419T200211
CREATED:20260119T162123Z
LAST-MODIFIED:20260119T162123Z
UID:10004021-1774432800-1774440000@www.lifelonglearningcollaborative.org
SUMMARY:Paint Like a Woman
DESCRIPTION:
URL:https://www.lifelonglearningcollaborative.org/event/paint-like-a-woman-2-2/2026-03-25/
LOCATION:Shriners Center\, 1 Rhodes Place\, Cranston\, RI\, 02905\, United States
CATEGORIES:Courses
END:VEVENT
BEGIN:VEVENT
DTSTART;TZID=America/New_York:20260325T100000
DTEND;TZID=America/New_York:20260325T120000
DTSTAMP:20260419T200211
CREATED:20260119T161816Z
LAST-MODIFIED:20260119T161816Z
UID:10004009-1774432800-1774440000@www.lifelonglearningcollaborative.org
SUMMARY:Looking at Ourselves
DESCRIPTION:
URL:https://www.lifelonglearningcollaborative.org/event/looking-at-ourselves/2026-03-25/
LOCATION:Shriners Center\, 1 Rhodes Place\, Cranston\, RI\, 02905\, United States
CATEGORIES:Courses
END:VEVENT
BEGIN:VEVENT
DTSTART;TZID=America/New_York:20260324T150000
DTEND;TZID=America/New_York:20260324T173000
DTSTAMP:20260419T200211
CREATED:20260323T131242Z
LAST-MODIFIED:20260323T131243Z
UID:10003991-1774364400-1774373400@www.lifelonglearningcollaborative.org
SUMMARY:Scrabble
DESCRIPTION:
URL:https://www.lifelonglearningcollaborative.org/event/scrabble-25-2/2026-03-24/
LOCATION:Shriners Center\, 1 Rhodes Place\, Cranston\, RI\, 02905\, United States
CATEGORIES:Courses
END:VEVENT
BEGIN:VEVENT
DTSTART;TZID=America/New_York:20260324T130000
DTEND;TZID=America/New_York:20260324T150000
DTSTAMP:20260419T200211
CREATED:20260119T161425Z
LAST-MODIFIED:20260323T130801Z
UID:10003975-1774357200-1774364400@www.lifelonglearningcollaborative.org
SUMMARY:Diamonds: Jewels\, Couture\, Glamour
DESCRIPTION:
URL:https://www.lifelonglearningcollaborative.org/event/diamonds-jewels-couture-glamour/2026-03-24/2/
LOCATION:Shriners Center\, 1 Rhodes Place\, Cranston\, RI\, 02905\, United States
CATEGORIES:Courses
END:VEVENT
BEGIN:VEVENT
DTSTART;TZID=America/New_York:20260324T123000
DTEND;TZID=America/New_York:20260324T140000
DTSTAMP:20260419T200211
CREATED:20260119T161627Z
LAST-MODIFIED:20260119T161627Z
UID:10003985-1774355400-1774360800@www.lifelonglearningcollaborative.org
SUMMARY:1938 Hurricane
DESCRIPTION:Providence Art Club
URL:https://www.lifelonglearningcollaborative.org/event/1938-hurricane/2026-03-24/
CATEGORIES:Courses
END:VEVENT
BEGIN:VEVENT
DTSTART;TZID=America/New_York:20260324T100000
DTEND;TZID=America/New_York:20260324T123000
DTSTAMP:20260419T200211
CREATED:20260119T142028Z
LAST-MODIFIED:20260119T142028Z
UID:10003939-1774346400-1774355400@www.lifelonglearningcollaborative.org
SUMMARY:Studio Art (In-person)
DESCRIPTION:
URL:https://www.lifelonglearningcollaborative.org/event/studio-art-in-person/2026-03-24/
LOCATION:Shriners Center\, 1 Rhodes Place\, Cranston\, RI\, 02905\, United States
CATEGORIES:Courses
END:VEVENT
BEGIN:VEVENT
DTSTART;TZID=America/New_York:20260324T100000
DTEND;TZID=America/New_York:20260324T120000
DTSTAMP:20260419T200211
CREATED:20260119T142433Z
LAST-MODIFIED:20260119T142433Z
UID:10003957-1774346400-1774353600@www.lifelonglearningcollaborative.org
SUMMARY:Cell Phone Photo Club
DESCRIPTION:
URL:https://www.lifelonglearningcollaborative.org/event/cell-phone-photo-club-2-10/2026-03-24/
LOCATION:Shriners Center\, 1 Rhodes Place\, Cranston\, RI\, 02905\, United States
CATEGORIES:Courses
END:VEVENT
BEGIN:VEVENT
DTSTART;TZID=America/New_York:20260324T100000
DTEND;TZID=America/New_York:20260324T120000
DTSTAMP:20260419T200211
CREATED:20260119T142135Z
LAST-MODIFIED:20260119T142135Z
UID:10003949-1774346400-1774353600@www.lifelonglearningcollaborative.org
SUMMARY:Memoir (Zoom)
DESCRIPTION:
URL:https://www.lifelonglearningcollaborative.org/event/memoir-zoom/2026-03-24/
LOCATION:ZOOM
CATEGORIES:Courses
END:VEVENT
BEGIN:VEVENT
DTSTART;TZID=America/New_York:20260324T080000
DTEND;TZID=America/New_York:20260324T170000
DTSTAMP:20260419T200211
CREATED:20260119T161425Z
LAST-MODIFIED:20260323T130801Z
UID:10003982-1774339200-1774371600@www.lifelonglearningcollaborative.org
SUMMARY:Diamonds: Jewels\, Couture\, Glamour
DESCRIPTION:
URL:https://www.lifelonglearningcollaborative.org/event/diamonds-jewels-couture-glamour/2026-03-24/1/
LOCATION:Shriners Center\, 1 Rhodes Place\, Cranston\, RI\, 02905\, United States
CATEGORIES:Courses
END:VEVENT
BEGIN:VEVENT
DTSTART;TZID=America/New_York:20260323T130000
DTEND;TZID=America/New_York:20260323T150000
DTSTAMP:20260419T200211
CREATED:20260119T141918Z
LAST-MODIFIED:20260119T141918Z
UID:10003929-1774270800-1774278000@www.lifelonglearningcollaborative.org
SUMMARY:Irish\, Then Italians
DESCRIPTION:
URL:https://www.lifelonglearningcollaborative.org/event/irish-then-italians/2026-03-23/
LOCATION:Shriners Center\, 1 Rhodes Place\, Cranston\, RI\, 02905\, United States
CATEGORIES:Courses
END:VEVENT
BEGIN:VEVENT
DTSTART;TZID=America/New_York:20260323T100000
DTEND;TZID=America/New_York:20260323T120000
DTSTAMP:20260419T200211
CREATED:20260119T162123Z
LAST-MODIFIED:20260119T162123Z
UID:10004020-1774260000-1774267200@www.lifelonglearningcollaborative.org
SUMMARY:Paint Like a Woman
DESCRIPTION:
URL:https://www.lifelonglearningcollaborative.org/event/paint-like-a-woman-2-2/2026-03-23/
LOCATION:Shriners Center\, 1 Rhodes Place\, Cranston\, RI\, 02905\, United States
CATEGORIES:Courses
END:VEVENT
BEGIN:VEVENT
DTSTART;TZID=America/New_York:20260323T100000
DTEND;TZID=America/New_York:20260323T120000
DTSTAMP:20260419T200211
CREATED:20260119T140530Z
LAST-MODIFIED:20260323T131054Z
UID:10004224-1774260000-1774267200@www.lifelonglearningcollaborative.org
SUMMARY:Democracy
DESCRIPTION:
URL:https://www.lifelonglearningcollaborative.org/event/democracy/2026-03-23/
LOCATION:ZOOM
CATEGORIES:Courses
END:VEVENT
BEGIN:VEVENT
DTSTART;TZID=America/New_York:20260323T100000
DTEND;TZID=America/New_York:20260323T120000
DTSTAMP:20260419T200211
CREATED:20260119T140406Z
LAST-MODIFIED:20260323T131758Z
UID:10004234-1774260000-1774267200@www.lifelonglearningcollaborative.org
SUMMARY:"Magic Mountain"
DESCRIPTION:
URL:https://www.lifelonglearningcollaborative.org/event/magic-mountain/2026-03-23/
LOCATION:Shriners Center\, 1 Rhodes Place\, Cranston\, RI\, 02905\, United States
CATEGORIES:Courses
END:VEVENT
BEGIN:VEVENT
DTSTART;TZID=America/New_York:20260323T100000
DTEND;TZID=America/New_York:20260323T120000
DTSTAMP:20260419T200211
CREATED:20260119T140307Z
LAST-MODIFIED:20260119T140307Z
UID:10003911-1774260000-1774267200@www.lifelonglearningcollaborative.org
SUMMARY:Studio Art (Zoom)
DESCRIPTION:
URL:https://www.lifelonglearningcollaborative.org/event/studio-art-zoom/2026-03-23/
LOCATION:ZOOM
CATEGORIES:Courses
END:VEVENT
BEGIN:VEVENT
DTSTART;TZID=America/New_York:20260323T100000
DTEND;TZID=America/New_York:20260323T120000
DTSTAMP:20260419T200211
CREATED:20260119T140142Z
LAST-MODIFIED:20260119T140142Z
UID:10003901-1774260000-1774267200@www.lifelonglearningcollaborative.org
SUMMARY:Russian Short Stories
DESCRIPTION:Wingate Residences\, East Side of Providence
URL:https://www.lifelonglearningcollaborative.org/event/russian-short-stories/2026-03-23/
CATEGORIES:Courses
END:VEVENT
BEGIN:VEVENT
DTSTART;TZID=America/New_York:20260320T100000
DTEND;TZID=America/New_York:20260320T120000
DTSTAMP:20260419T200211
CREATED:20260323T131155Z
LAST-MODIFIED:20260323T131156Z
UID:10004128-1774000800-1774008000@www.lifelonglearningcollaborative.org
SUMMARY:Prov Public Art\, Jane's Walk
DESCRIPTION:Shriners & other sites
URL:https://www.lifelonglearningcollaborative.org/event/prov-public-art-janes-walk-2-2/2026-03-20/
LOCATION:Shriners Center\, 1 Rhodes Place\, Cranston\, RI\, 02905\, United States
CATEGORIES:Courses
END:VEVENT
BEGIN:VEVENT
DTSTART;TZID=America/New_York:20260320T100000
DTEND;TZID=America/New_York:20260320T120000
DTSTAMP:20260419T200211
CREATED:20260119T163748Z
LAST-MODIFIED:20260119T163748Z
UID:10004127-1774000800-1774008000@www.lifelonglearningcollaborative.org
SUMMARY:Prov Public Art\, Jane's Walk
DESCRIPTION:Shriners & other sites
URL:https://www.lifelonglearningcollaborative.org/event/prov-public-art-janes-walk/
LOCATION:Shriners Center\, 1 Rhodes Place\, Cranston\, RI\, 02905\, United States
CATEGORIES:Courses
END:VEVENT
BEGIN:VEVENT
DTSTART;TZID=America/New_York:20260320T100000
DTEND;TZID=America/New_York:20260320T120000
DTSTAMP:20260419T200211
CREATED:20260119T163522Z
LAST-MODIFIED:20260119T163522Z
UID:10004110-1774000800-1774008000@www.lifelonglearningcollaborative.org
SUMMARY:Anthropology Movies
DESCRIPTION:
URL:https://www.lifelonglearningcollaborative.org/event/anthropology-movies-2-2/2026-03-20/
LOCATION:Shriners Center\, 1 Rhodes Place\, Cranston\, RI\, 02905\, United States
CATEGORIES:Courses
END:VEVENT
BEGIN:VEVENT
DTSTART;TZID=America/New_York:20260320T100000
DTEND;TZID=America/New_York:20260320T110000
DTSTAMP:20260419T200211
CREATED:20260119T163622Z
LAST-MODIFIED:20260119T163622Z
UID:10004119-1774000800-1774004400@www.lifelonglearningcollaborative.org
SUMMARY:Personal Training
DESCRIPTION:
URL:https://www.lifelonglearningcollaborative.org/event/personal-training/2026-03-20/
LOCATION:ZOOM
CATEGORIES:Courses
END:VEVENT
BEGIN:VEVENT
DTSTART;TZID=America/New_York:20260319T130000
DTEND;TZID=America/New_York:20260319T150000
DTSTAMP:20260419T200211
CREATED:20260119T163057Z
LAST-MODIFIED:20260119T163057Z
UID:10004080-1773925200-1773932400@www.lifelonglearningcollaborative.org
SUMMARY:Bridge
DESCRIPTION:
URL:https://www.lifelonglearningcollaborative.org/event/bridge-2/2026-03-19/
LOCATION:Regency Plaza Apartments\, RI\, United States
CATEGORIES:Courses
END:VEVENT
BEGIN:VEVENT
DTSTART;TZID=America/New_York:20260319T123000
DTEND;TZID=America/New_York:20260319T143000
DTSTAMP:20260419T200211
CREATED:20260119T163330Z
LAST-MODIFIED:20260119T163330Z
UID:10004090-1773923400-1773930600@www.lifelonglearningcollaborative.org
SUMMARY:Memoir (In-person)
DESCRIPTION:
URL:https://www.lifelonglearningcollaborative.org/event/memoir-in-person/2026-03-19/
LOCATION:Shriners Center\, 1 Rhodes Place\, Cranston\, RI\, 02905\, United States
CATEGORIES:Courses
END:VEVENT
BEGIN:VEVENT
DTSTART;TZID=America/New_York:20260319T100000
DTEND;TZID=America/New_York:20260319T120000
DTSTAMP:20260419T200211
CREATED:20260119T163012Z
LAST-MODIFIED:20260119T163012Z
UID:10004070-1773914400-1773921600@www.lifelonglearningcollaborative.org
SUMMARY:Theater Conversations
DESCRIPTION:First play closes on March 22
URL:https://www.lifelonglearningcollaborative.org/event/theater-conversations-3-5/2026-03-19/
LOCATION:Shriners Center\, 1 Rhodes Place\, Cranston\, RI\, 02905\, United States
CATEGORIES:Courses
END:VEVENT
BEGIN:VEVENT
DTSTART;TZID=America/New_York:20260318T130000
DTEND;TZID=America/New_York:20260318T150000
DTSTAMP:20260419T200211
CREATED:20260119T162913Z
LAST-MODIFIED:20260316T150634Z
UID:10004213-1773838800-1773846000@www.lifelonglearningcollaborative.org
SUMMARY:Improv Theater
DESCRIPTION:
URL:https://www.lifelonglearningcollaborative.org/event/improv-theater/2026-03-18/
LOCATION:Shriners Center\, 1 Rhodes Place\, Cranston\, RI\, 02905\, United States
CATEGORIES:Courses
END:VEVENT
END:VCALENDAR