BEGIN:VCALENDAR
VERSION:2.0
PRODID:-//Lifelong Learning Collaborative - ECPv6.15.12.2//NONSGML v1.0//EN
CALSCALE:GREGORIAN
METHOD:PUBLISH
X-ORIGINAL-URL:https://www.lifelonglearningcollaborative.org
X-WR-CALDESC:Events for Lifelong Learning Collaborative
REFRESH-INTERVAL;VALUE=DURATION:PT1H
X-Robots-Tag:noindex
X-PUBLISHED-TTL:PT1H
BEGIN:VTIMEZONE
TZID:America/New_York
BEGIN:DAYLIGHT
TZOFFSETFROM:-0500
TZOFFSETTO:-0400
TZNAME:EDT
DTSTART:20230312T070000
END:DAYLIGHT
BEGIN:STANDARD
TZOFFSETFROM:-0400
TZOFFSETTO:-0500
TZNAME:EST
DTSTART:20231105T060000
END:STANDARD
BEGIN:DAYLIGHT
TZOFFSETFROM:-0500
TZOFFSETTO:-0400
TZNAME:EDT
DTSTART:20240310T070000
END:DAYLIGHT
BEGIN:STANDARD
TZOFFSETFROM:-0400
TZOFFSETTO:-0500
TZNAME:EST
DTSTART:20241103T060000
END:STANDARD
BEGIN:DAYLIGHT
TZOFFSETFROM:-0500
TZOFFSETTO:-0400
TZNAME:EDT
DTSTART:20250309T070000
END:DAYLIGHT
BEGIN:STANDARD
TZOFFSETFROM:-0400
TZOFFSETTO:-0500
TZNAME:EST
DTSTART:20251102T060000
END:STANDARD
BEGIN:DAYLIGHT
TZOFFSETFROM:-0500
TZOFFSETTO:-0400
TZNAME:EDT
DTSTART:20260308T070000
END:DAYLIGHT
BEGIN:STANDARD
TZOFFSETFROM:-0400
TZOFFSETTO:-0500
TZNAME:EST
DTSTART:20261101T060000
END:STANDARD
BEGIN:DAYLIGHT
TZOFFSETFROM:-0500
TZOFFSETTO:-0400
TZNAME:EDT
DTSTART:20270314T070000
END:DAYLIGHT
BEGIN:STANDARD
TZOFFSETFROM:-0400
TZOFFSETTO:-0500
TZNAME:EST
DTSTART:20271107T060000
END:STANDARD
END:VTIMEZONE
BEGIN:VEVENT
DTSTART;TZID=America/New_York:20260312T123000
DTEND;TZID=America/New_York:20260312T153000
DTSTAMP:20260419T213828
CREATED:20260309T125709Z
LAST-MODIFIED:20260309T125709Z
UID:10004150-1773318600-1773329400@www.lifelonglearningcollaborative.org
SUMMARY:Connections & Conversations
DESCRIPTION:
URL:https://www.lifelonglearningcollaborative.org/event/connections-conversations/
LOCATION:Scottish Rite Masonic Center\, 2115 Broad Street\, Cranston\, RI\, 02905\, United States
CATEGORIES:Social Events
END:VEVENT
BEGIN:VEVENT
DTSTART;TZID=America/New_York:20251212T090000
DTEND;TZID=America/New_York:20251212T110000
DTSTAMP:20260419T213828
CREATED:20251129T135433Z
LAST-MODIFIED:20251129T135433Z
UID:10003895-1765530000-1765537200@www.lifelonglearningcollaborative.org
SUMMARY:LLC Breakfast Club
DESCRIPTION:Second Friday of Oct\, Nov\, Dec \nThe Butcher’s Shop and Deli﻿\n157 Elmgrove Street﻿\n﻿Providence\, RI 02906
URL:https://www.lifelonglearningcollaborative.org/event/llc-breakfast-club/2025-12-12/
LOCATION:RI
CATEGORIES:Social Events
END:VEVENT
BEGIN:VEVENT
DTSTART;TZID=America/New_York:20251114T090000
DTEND;TZID=America/New_York:20251114T110000
DTSTAMP:20260419T213828
CREATED:20251129T135433Z
LAST-MODIFIED:20251129T135433Z
UID:10003894-1763110800-1763118000@www.lifelonglearningcollaborative.org
SUMMARY:LLC Breakfast Club
DESCRIPTION:Second Friday of Oct\, Nov\, Dec \nThe Butcher’s Shop and Deli﻿\n157 Elmgrove Street﻿\n﻿Providence\, RI 02906
URL:https://www.lifelonglearningcollaborative.org/event/llc-breakfast-club/2025-11-14/
LOCATION:RI
CATEGORIES:Social Events
END:VEVENT
BEGIN:VEVENT
DTSTART;TZID=America/New_York:20251010T090000
DTEND;TZID=America/New_York:20251010T110000
DTSTAMP:20260419T213828
CREATED:20251129T135433Z
LAST-MODIFIED:20251129T135433Z
UID:10003893-1760086800-1760094000@www.lifelonglearningcollaborative.org
SUMMARY:LLC Breakfast Club
DESCRIPTION:Second Friday of Oct\, Nov\, Dec \nThe Butcher’s Shop and Deli﻿\n157 Elmgrove Street﻿\n﻿Providence\, RI 02906
URL:https://www.lifelonglearningcollaborative.org/event/llc-breakfast-club/2025-10-10/
LOCATION:RI
CATEGORIES:Social Events
END:VEVENT
BEGIN:VEVENT
DTSTART;TZID=America/New_York:20240718T120000
DTEND;TZID=America/New_York:20240718T150000
DTSTAMP:20260419T213828
CREATED:20240718T120952Z
LAST-MODIFIED:20240718T142125Z
UID:10002229-1721304000-1721314800@www.lifelonglearningcollaborative.org
SUMMARY:Friends\, Art... and All That's Jazz
DESCRIPTION:Tuesday\, August 6\, 2024\n12 noon – 3 pm\nMeeting Hall of Temple Beth-El\nNO WALK-INS; LLC MEMBERS MUST PRE-REGISTER \nSummer jazz class instructor Clay Nordhill has assembled a quartet of talented local musicians to present a concert marking the class’s last meeting\, and all LLC members are invited to attend. Prior to the concert\, attendees can enjoy a bag lunch* with other members and view a small exhibit featuring the work of the spring LLC Art classes – Cell Phone Photography Club\, Open Studio Art\, Paint Like a Woman\, and Beautiful Black and White Photography \nAn accomplished jazz guitarist and composer\, Clay is a graduate of URI with a focus on Jazz Performance. He has performed at the Newport Jazz Festival as well as at venues throughout the Northeast and has spent much of the last two years on tour\, first with the national company of Annie and currently with Mrs. Doubtfire. \nThe Meeting Hall will open at noon so that members who would like to can bring their lunch*\, visit with friends before the concert and enjoy the art exhibit. \nThe jazz concert will begin at 1 PM. \nThis event is free of charge to LLC members. All attendees must register in advance. Seating is limited\, and registration will be closed when we reach capacity. \n*If you plan to bring a bag lunch to enjoy before the concert\, please observe the Temple’s food restrictions: Any food brought into the Temple must not include pork\, pork products\, or shellfish and should not mix meat and dairy in the same dish.
URL:https://www.lifelonglearningcollaborative.org/event/friends-art-and-all-thats-jazz/
LOCATION:Temple Beth-El\, 70 Orchard Avenue\, Providence\, RI\, United States
CATEGORIES:Art Exhibits,Concerts,Courses,Social Events
END:VEVENT
END:VCALENDAR