BEGIN:VCALENDAR
VERSION:2.0
PRODID:-//Lifelong Learning Collaborative - ECPv6.15.12.2//NONSGML v1.0//EN
CALSCALE:GREGORIAN
METHOD:PUBLISH
X-WR-CALNAME:Lifelong Learning Collaborative
X-ORIGINAL-URL:https://www.lifelonglearningcollaborative.org
X-WR-CALDESC:Events for Lifelong Learning Collaborative
REFRESH-INTERVAL;VALUE=DURATION:PT1H
X-Robots-Tag:noindex
X-PUBLISHED-TTL:PT1H
BEGIN:VTIMEZONE
TZID:America/New_York
BEGIN:DAYLIGHT
TZOFFSETFROM:-0500
TZOFFSETTO:-0400
TZNAME:EDT
DTSTART:20240310T070000
END:DAYLIGHT
BEGIN:STANDARD
TZOFFSETFROM:-0400
TZOFFSETTO:-0500
TZNAME:EST
DTSTART:20241103T060000
END:STANDARD
BEGIN:DAYLIGHT
TZOFFSETFROM:-0500
TZOFFSETTO:-0400
TZNAME:EDT
DTSTART:20250309T070000
END:DAYLIGHT
BEGIN:STANDARD
TZOFFSETFROM:-0400
TZOFFSETTO:-0500
TZNAME:EST
DTSTART:20251102T060000
END:STANDARD
BEGIN:DAYLIGHT
TZOFFSETFROM:-0500
TZOFFSETTO:-0400
TZNAME:EDT
DTSTART:20260308T070000
END:DAYLIGHT
BEGIN:STANDARD
TZOFFSETFROM:-0400
TZOFFSETTO:-0500
TZNAME:EST
DTSTART:20261101T060000
END:STANDARD
BEGIN:DAYLIGHT
TZOFFSETFROM:-0500
TZOFFSETTO:-0400
TZNAME:EDT
DTSTART:20270314T070000
END:DAYLIGHT
BEGIN:STANDARD
TZOFFSETFROM:-0400
TZOFFSETTO:-0500
TZNAME:EST
DTSTART:20271107T060000
END:STANDARD
END:VTIMEZONE
BEGIN:VEVENT
DTSTART;TZID=America/New_York:20250416T160000
DTEND;TZID=America/New_York:20250416T170000
DTSTAMP:20260423T010704
CREATED:20250219T185502Z
LAST-MODIFIED:20250219T185502Z
UID:10003221-1744819200-1744822800@www.lifelonglearningcollaborative.org
SUMMARY:Webinar Lecture w/ Ed Iannuccilli\, MD\, Author
DESCRIPTION:The First Italians to Rhode Island \nJoin us for an enlightening presentation by Dr. Ed Iannuccilli exploring the legacy of early Italians in Rhode Island. Discover how these artisans\, initially conscripted for work in homes and churches\, shaped our communities. Dr. Iannuccilli will highlight notable figures like Giuseppe Carlo Mariani and celebrate the contributions of Italians who have left a lasting impact. Don’t miss this opportunity to learn about the rich heritage that continues to inspire pride in our Italian-American community. \nEd Iannuccilli\, MD\, a retired gastroenterologist\, has had extensive experience in academics\, management\, governance\, and entrepreneurial endeavors. Former Chairman of the Board at Rhode Island Hospital and a former member of the Lifespan Board\, he is a Clinical Professor Emeritus at the Warren Alpert Medical School at Brown University. He is the author of five books: Growing Up Italian: Grandfather’s Fig Tree and Other Stories\, What Ever Happened to Sunday Dinner and Other Stories\, My Story Continues: From Neighborhood to Junior High School\, Growing Up Italian: Collected Stories (e-book)\, A Whole Bunch of 500-Word Stories\, and Essays on the Art and Pain of Downsizing.
URL:https://www.lifelonglearningcollaborative.org/event/webinar-lecture-w-ed-iannuccilli-md-author/
LOCATION:ZOOM
CATEGORIES:Free Webinars
END:VEVENT
BEGIN:VEVENT
DTSTART;TZID=America/New_York:20250428T160000
DTEND;TZID=America/New_York:20250428T170000
DTSTAMP:20260423T010704
CREATED:20250219T185604Z
LAST-MODIFIED:20250219T185604Z
UID:10003222-1745856000-1745859600@www.lifelonglearningcollaborative.org
SUMMARY:Webinar Lecture w/ William Kole\, Journalist\, Author
DESCRIPTION:William J. Kole\, Award-winning journalist and author of The Big 100: The New World of Super-Aging\nLiving to 100 Whether You Want To Or Not \nAsk anyone how they feel about living to 100\, and you’re sure to get a spirited response. Some are eager to live as long as they can. Many worry about outliving their children\, their friends\, and their money. “It depends\,” others will answer: “Will I still have my health\, my mobility\, and my mind?” \nNews Flash: A triple-digit lifespan may well be your destiny whether you’d like it or not. We’re in the midst of what the United Nations calls a “longevity revolution.” More of us than ever before are living to 100. The number of centenarians is projected to increase eight times over by 2050\, and half of all 5-year-olds alive right now are expected to hit the century mark. \nHow is this tectonic demographic shift changing society? What will it be like to live into our 100s in a world that still values youth over advanced age? And is there anything we can do today to ensure our extra tomorrows are worth living? Award-winning journalist and author William J. Kole answers those pressing questions and others as he shares insights from his critically acclaimed book. \nWilliam J. Kole\, author of The Big 100: The New World of Super-Aging\, recently retired as New England editor for The Associated Press but continues to work as an editor for Axios. An acclaimed former foreign correspondent who has reported from North America\, Europe\, Africa and the Middle East\, Kole was a 2022 fellow in aging journalism at Columbia University in New York and at the National Press Foundation in Washington\, D.C.
URL:https://www.lifelonglearningcollaborative.org/event/webinar-lecture-w-william-kole-journalist-author/
LOCATION:ZOOM
CATEGORIES:Free Webinars
END:VEVENT
BEGIN:VEVENT
DTSTART;TZID=America/New_York:20250507T160000
DTEND;TZID=America/New_York:20250507T170000
DTSTAMP:20260423T010704
CREATED:20250219T185735Z
LAST-MODIFIED:20250219T185735Z
UID:10003223-1746633600-1746637200@www.lifelonglearningcollaborative.org
SUMMARY:Webinar Lecture w/ Wendy Nilsson\, M.Ed\, CPSI\, Superintendent of the Providence Parks Department
DESCRIPTION:Roger Williams Park: History and Renewal \nJoin us for an insightful presentation by Wendy Nilsson\, Superintendent of the Providence Parks Department\, as she explores the rich history of Roger Williams Park\, its evolution as a cornerstone of the Providence community\, and its transformation through recent renovation projects. \nShe will discuss the park’s origins\, cultural significance\, ecological features\, and efforts to preserve and enhance its beauty and functionality for future generations. \nDon’t miss this opportunity to explore the heart of our city’s green space! \nWendy Nilsson\, M.Ed\, CPSI\, has served as the Superintendent of the Providence Parks Department for the past nine years\, leading a dynamic\, multi-departmental team in reimagining the city’s 123 parks\, including iconic spaces such as Roger Williams Park\, the North Burial Ground\, the Museum of Natural History\, the Roger Williams Park Zoo\, the Gateway Visitors Center\, the Botanical Center\, the Providence Rink\, and numerous historic buildings.
URL:https://www.lifelonglearningcollaborative.org/event/webinar-lecture-w-wendy-nilsson-m-ed-cpsi-superintendent-of-the-providence-parks-department/
LOCATION:ZOOM
CATEGORIES:Free Webinars
END:VEVENT
BEGIN:VEVENT
DTSTART;TZID=America/New_York:20250908T160000
DTEND;TZID=America/New_York:20250908T170000
DTSTAMP:20260423T010704
CREATED:20250728T215817Z
LAST-MODIFIED:20250728T220640Z
UID:10003697-1757347200-1757350800@www.lifelonglearningcollaborative.org
SUMMARY:LLC Webinar Lecture Series presents Jack Reed\, US Senator from RI
DESCRIPTION:
URL:https://www.lifelonglearningcollaborative.org/event/llc-webinar-lecture-w-jack-reed-us-senator-from-ri/
LOCATION:ZOOM
CATEGORIES:Free Webinars
END:VEVENT
BEGIN:VEVENT
DTSTART;TZID=America/New_York:20250911T160000
DTEND;TZID=America/New_York:20250911T170000
DTSTAMP:20260423T010704
CREATED:20250728T220207Z
LAST-MODIFIED:20250728T220958Z
UID:10003698-1757606400-1757610000@www.lifelonglearningcollaborative.org
SUMMARY:LLC Webinar Lecture Series presents Dr. Marschall Runge\, Author\, Executive Vice President for Medical Affairs at the University of Michigan and CEO of Michigan Medicine Great Healthcare Disruption: Big Tech\, Bold Policy\, and the Future of American Medicine
DESCRIPTION:
URL:https://www.lifelonglearningcollaborative.org/event/llc-webinar-lecture-w-dr-marschall-runge-author-executive-vice-president-for-medical-affairs-at-the-university-of-michigan-and-ceo-of-michigan-medicine-great-healthcare-disruption-big-tech-bold/
LOCATION:ZOOM
CATEGORIES:Free Webinars
END:VEVENT
BEGIN:VEVENT
DTSTART;TZID=America/New_York:20250929T160000
DTEND;TZID=America/New_York:20250929T170000
DTSTAMP:20260423T010704
CREATED:20250728T220513Z
LAST-MODIFIED:20250728T220928Z
UID:10003699-1759161600-1759165200@www.lifelonglearningcollaborative.org
SUMMARY:LLC Webinar Lecture Series presents A live performance of John Gardner's one-woman play\, Days of Vengeance\, performed by talented Actress Bette Smith
DESCRIPTION:
URL:https://www.lifelonglearningcollaborative.org/event/llc-webinar-lecture-series-presents-a-live-performance-of-john-gardners-one-woman-play-days-of-vengeance-performed-by-talented-actress-bette-smith/
LOCATION:ZOOM
CATEGORIES:Free Webinars
END:VEVENT
BEGIN:VEVENT
DTSTART;TZID=America/New_York:20251008T160000
DTEND;TZID=America/New_York:20251008T170000
DTSTAMP:20260423T010704
CREATED:20250728T220717Z
LAST-MODIFIED:20250728T220905Z
UID:10003700-1759939200-1759942800@www.lifelonglearningcollaborative.org
SUMMARY:LLC Webinar Lecture Series presents Dr. David Weed "King Philip's War"
DESCRIPTION:
URL:https://www.lifelonglearningcollaborative.org/event/llc-webinar-lecture-series-dr-david-weed-king-philips-war/
LOCATION:ZOOM
CATEGORIES:Free Webinars
END:VEVENT
BEGIN:VEVENT
DTSTART;TZID=America/New_York:20251015T160000
DTEND;TZID=America/New_York:20251015T170000
DTSTAMP:20260423T010704
CREATED:20250728T220843Z
LAST-MODIFIED:20250728T220843Z
UID:10003701-1760544000-1760547600@www.lifelonglearningcollaborative.org
SUMMARY:LLC Webinar Lecture Series presents Tamara Lanier\, Author of From These Roots: My Fight with Harvard to Reclaim My Legacy\, "From These Roots: A Quest to Retrieve My Ancestors’ Daguerreotypes"
DESCRIPTION:
URL:https://www.lifelonglearningcollaborative.org/event/llc-webinar-lecture-series-presents-tamara-lanier-author-of-from-these-roots-my-fight-with-harvard-to-reclaim-my-legacy-from-these-roots-a-quest-to-retrieve-my-ancestors-daguerreotypes/
LOCATION:ZOOM
CATEGORIES:Free Webinars
END:VEVENT
BEGIN:VEVENT
DTSTART;TZID=America/New_York:20251030T160000
DTEND;TZID=America/New_York:20251030T170000
DTSTAMP:20260423T010704
CREATED:20250728T221119Z
LAST-MODIFIED:20250728T221119Z
UID:10003702-1761840000-1761843600@www.lifelonglearningcollaborative.org
SUMMARY:LLC Webinar Lecture Series presents Sanford Levinson\, Professor and Author: "Reforming the United States Constitution"
DESCRIPTION:
URL:https://www.lifelonglearningcollaborative.org/event/llc-webinar-lecture-series-presents-sanford-levinson-professor-and-author-reforming-the-united-states-constitution/
LOCATION:ZOOM
CATEGORIES:Free Webinars
END:VEVENT
BEGIN:VEVENT
DTSTART;TZID=America/New_York:20251103T160000
DTEND;TZID=America/New_York:20251103T170000
DTSTAMP:20260423T010704
CREATED:20250728T221313Z
LAST-MODIFIED:20250728T221313Z
UID:10003703-1762185600-1762189200@www.lifelonglearningcollaborative.org
SUMMARY:LLC Webinar Lecture Series presents Matt Burriesci\, Executive Director of the Providence Athenaeum and Author: "Dead White Guys: The Western Canon\, and Why it Still Matters"
DESCRIPTION:
URL:https://www.lifelonglearningcollaborative.org/event/llc-webinar-lecture-series-presents-matt-burriesci-executive-director-of-the-providence-athenaeum-and-author-dead-white-guys-the-western-canon-and-why-it-still-matters/
LOCATION:ZOOM
CATEGORIES:Free Webinars
END:VEVENT
BEGIN:VEVENT
DTSTART;TZID=America/New_York:20260115T160000
DTEND;TZID=America/New_York:20260115T170000
DTSTAMP:20260423T010704
CREATED:20251209T143811Z
LAST-MODIFIED:20251209T143811Z
UID:10003896-1768492800-1768496400@www.lifelonglearningcollaborative.org
SUMMARY:Webinar Lecture feat. Otho Eskin\, Former Officer of U.S. Foreign Service\, Attorney and Author
DESCRIPTION:
URL:https://www.lifelonglearningcollaborative.org/event/webinar-lecture-feat-otho-eskin-former-officer-of-u-s-foreign-service-attorney-and-author/
LOCATION:ZOOM
CATEGORIES:Free Webinars
END:VEVENT
BEGIN:VEVENT
DTSTART;TZID=America/New_York:20260126T160000
DTEND;TZID=America/New_York:20260126T170000
DTSTAMP:20260423T010704
CREATED:20251209T143844Z
LAST-MODIFIED:20251209T143844Z
UID:10003897-1769443200-1769446800@www.lifelonglearningcollaborative.org
SUMMARY:Webinar Lecture feat. Dana Guyer\, Palliative Care Physician
DESCRIPTION:
URL:https://www.lifelonglearningcollaborative.org/event/webinar-lecture-feat-dana-guyer-palliative-care-physician/
LOCATION:ZOOM
CATEGORIES:Free Webinars
END:VEVENT
BEGIN:VEVENT
DTSTART;TZID=America/New_York:20260203T160000
DTEND;TZID=America/New_York:20260203T170000
DTSTAMP:20260423T010704
CREATED:20251209T144154Z
LAST-MODIFIED:20251209T144154Z
UID:10003899-1770134400-1770138000@www.lifelonglearningcollaborative.org
SUMMARY:Webinar Lecture feat. John M. Tarro\, MD\, ENT
DESCRIPTION:
URL:https://www.lifelonglearningcollaborative.org/event/webinar-lecture-feat-john-m-tarro-md-ent/
LOCATION:ZOOM
CATEGORIES:Free Webinars
END:VEVENT
BEGIN:VEVENT
DTSTART;TZID=America/New_York:20260226T160000
DTEND;TZID=America/New_York:20260226T170000
DTSTAMP:20260423T010704
CREATED:20251209T143917Z
LAST-MODIFIED:20251209T143917Z
UID:10003898-1772121600-1772125200@www.lifelonglearningcollaborative.org
SUMMARY:Webinar Lecture feat. Genealogist Heather Pouliot Kisilywicz
DESCRIPTION:
URL:https://www.lifelonglearningcollaborative.org/event/webinar-lecture-feat-genealogist-heather-pouliot-kisilywicz/
LOCATION:ZOOM
CATEGORIES:Free Webinars
END:VEVENT
BEGIN:VEVENT
DTSTART;TZID=America/New_York:20260316T160000
DTEND;TZID=America/New_York:20260316T170000
DTSTAMP:20260423T010704
CREATED:20260209T173808Z
LAST-MODIFIED:20260209T173808Z
UID:10004142-1773676800-1773680400@www.lifelonglearningcollaborative.org
SUMMARY:Webinar Lecture: Tim Reuben\, Lawyer/Author of Tequila – "Human Complexity"
DESCRIPTION:
URL:https://www.lifelonglearningcollaborative.org/event/webinar-lecture-tim-reuben-lawyer-author-of-tequila-human-complexity/
LOCATION:ZOOM
CATEGORIES:Free Webinars
END:VEVENT
BEGIN:VEVENT
DTSTART;TZID=America/New_York:20260330T160000
DTEND;TZID=America/New_York:20260330T170000
DTSTAMP:20260423T010704
CREATED:20260209T173841Z
LAST-MODIFIED:20260209T173841Z
UID:10004143-1774886400-1774890000@www.lifelonglearningcollaborative.org
SUMMARY:Webinar Lecture: Actress Gayle Hanrahan Performs Two Original Monologues
DESCRIPTION:
URL:https://www.lifelonglearningcollaborative.org/event/webinar-lecture-actress-gayle-hanrahan-performs-two-original-monologues/
LOCATION:ZOOM
CATEGORIES:Free Webinars
END:VEVENT
BEGIN:VEVENT
DTSTART;TZID=America/New_York:20260415T160000
DTEND;TZID=America/New_York:20260415T170000
DTSTAMP:20260423T010704
CREATED:20260209T173924Z
LAST-MODIFIED:20260209T173924Z
UID:10004144-1776268800-1776272400@www.lifelonglearningcollaborative.org
SUMMARY:Webinar Lecture: Author William J. Kole – "Why Christian Gun Culture Makes Us All Less Safe"
DESCRIPTION:
URL:https://www.lifelonglearningcollaborative.org/event/webinar-lecture-author-william-j-kole-why-christian-gun-culture-makes-us-all-less-safe/
LOCATION:ZOOM
CATEGORIES:Free Webinars
END:VEVENT
BEGIN:VEVENT
DTSTART;TZID=America/New_York:20260420T160000
DTEND;TZID=America/New_York:20260420T170000
DTSTAMP:20260423T010704
CREATED:20260209T173959Z
LAST-MODIFIED:20260209T173959Z
UID:10004145-1776700800-1776704400@www.lifelonglearningcollaborative.org
SUMMARY:Webinar Lecture: Educator/Historian Carol Cohen performs "A Walk Through the Garden with Eleanor Roosevelt"
DESCRIPTION:
URL:https://www.lifelonglearningcollaborative.org/event/webinar-lecture-educator-historian-carol-cohen-performs-a-walk-through-the-garden-with-eleanor-roosevelt/
LOCATION:ZOOM
CATEGORIES:Free Webinars
END:VEVENT
BEGIN:VEVENT
DTSTART;TZID=America/New_York:20260504T160000
DTEND;TZID=America/New_York:20260504T170000
DTSTAMP:20260423T010704
CREATED:20260209T174039Z
LAST-MODIFIED:20260209T174039Z
UID:10004146-1777910400-1777914000@www.lifelonglearningcollaborative.org
SUMMARY:Webinar Lecture: Psychologist and Author Dale Atkins – "The Importance of Grandchildren Creating Lasting Memories with Grandparents"
DESCRIPTION:
URL:https://www.lifelonglearningcollaborative.org/event/webinar-lecture-psychologist-and-author-dale-atkins-the-importance-of-grandchildren-creating-lasting-memories-with-grandparents/
LOCATION:ZOOM
CATEGORIES:Free Webinars
END:VEVENT
BEGIN:VEVENT
DTSTART;TZID=America/New_York:20260514T160000
DTEND;TZID=America/New_York:20260514T170000
DTSTAMP:20260423T010704
CREATED:20260209T174114Z
LAST-MODIFIED:20260209T174114Z
UID:10004147-1778774400-1778778000@www.lifelonglearningcollaborative.org
SUMMARY:Webinar Lecture: Annie Guest\, Therapist/Interior Designer – "Beyond Décor– Creating Spaces That Feel Right"
DESCRIPTION:
URL:https://www.lifelonglearningcollaborative.org/event/webinar-lecture-annie-guest-therapist-interior-designer-beyond-decor-creating-spaces-that-feel-right/
LOCATION:ZOOM
CATEGORIES:Free Webinars
END:VEVENT
END:VCALENDAR