BEGIN:VCALENDAR
VERSION:2.0
PRODID:-//Lifelong Learning Collaborative - ECPv6.15.12.2//NONSGML v1.0//EN
CALSCALE:GREGORIAN
METHOD:PUBLISH
X-WR-CALNAME:Lifelong Learning Collaborative
X-ORIGINAL-URL:https://www.lifelonglearningcollaborative.org
X-WR-CALDESC:Events for Lifelong Learning Collaborative
REFRESH-INTERVAL;VALUE=DURATION:PT1H
X-Robots-Tag:noindex
X-PUBLISHED-TTL:PT1H
BEGIN:VTIMEZONE
TZID:America/New_York
BEGIN:DAYLIGHT
TZOFFSETFROM:-0500
TZOFFSETTO:-0400
TZNAME:EDT
DTSTART:20240310T070000
END:DAYLIGHT
BEGIN:STANDARD
TZOFFSETFROM:-0400
TZOFFSETTO:-0500
TZNAME:EST
DTSTART:20241103T060000
END:STANDARD
BEGIN:DAYLIGHT
TZOFFSETFROM:-0500
TZOFFSETTO:-0400
TZNAME:EDT
DTSTART:20250309T070000
END:DAYLIGHT
BEGIN:STANDARD
TZOFFSETFROM:-0400
TZOFFSETTO:-0500
TZNAME:EST
DTSTART:20251102T060000
END:STANDARD
BEGIN:DAYLIGHT
TZOFFSETFROM:-0500
TZOFFSETTO:-0400
TZNAME:EDT
DTSTART:20260308T070000
END:DAYLIGHT
BEGIN:STANDARD
TZOFFSETFROM:-0400
TZOFFSETTO:-0500
TZNAME:EST
DTSTART:20261101T060000
END:STANDARD
END:VTIMEZONE
BEGIN:VEVENT
DTSTART;TZID=America/New_York:20250319T160000
DTEND;TZID=America/New_York:20250319T170000
DTSTAMP:20260422T082740
CREATED:20250219T185140Z
LAST-MODIFIED:20250219T185140Z
UID:10003218-1742400000-1742403600@www.lifelonglearningcollaborative.org
SUMMARY:Webinar Lecture w/ Elizabeth Mosier
DESCRIPTION:Elizabeth Mosier\, Volunteer Technician at Philadelphia’s Independence National Historical Park Archaeology Laboratory\, Author\, and Creative Writing Teacher\nUsing Everyday Objects\, Ephemera\, and Heirlooms to Tell a Family Story \nUnlock the deeper truths of your family stories by exploring the overlooked details of everyday life. Join us for an enlightening presentation with Elizabeth Mosier\, a seasoned volunteer historical archaeologist with seven years of experience at Philadelphia’s Independence National Historical Park Archeology Laboratory. \nLearn how to incorporate material culture—everyday objects\, heirlooms\, and artifacts—into your personal narratives. Elizabeth will guide you on how these items can help recover\, repair\, and reclaim personal history that might otherwise be lost. \nIn this Webinar\, discover how small things can tell larger stories and place your personal history within a cultural and historical context. Don’t miss this opportunity to enrich your storytelling. \nAuthor Elizabeth Mosier logged 1\,000 volunteer hours processing colonial-era artifacts at Philadelphia’s Independence National Park Archeology Laboratory to write Excavating Memory: Archaeology and Home (New Rivers Press\, 2019). Retired from teaching creative writing at Bryn Mawr College\, she has presented on the role of artifacts in storytelling for audiences including memoirists\, genealogists\, and hospice and palliative care clinicians at Brown University’s Warren Alpert Medical School.
URL:https://www.lifelonglearningcollaborative.org/event/webinar-lecture-w-elizabeth-mosier/
LOCATION:ZOOM
CATEGORIES:Free Webinars
END:VEVENT
BEGIN:VEVENT
DTSTART;TZID=America/New_York:20250331T160000
DTEND;TZID=America/New_York:20250331T170000
DTSTAMP:20260422T082740
CREATED:20250219T185302Z
LAST-MODIFIED:20250219T185302Z
UID:10003219-1743436800-1743440400@www.lifelonglearningcollaborative.org
SUMMARY:Webinar Lecture w/ Rose Weaver "Menopause Mama"
DESCRIPTION:A live dramatic reading of Menopause Mama written\, acted\, and sung by the incredible Rose Weaver\nTelevision\, film\, music\, and solo performer and writer \nMenopause Mama is a compelling\, cutting edge and often hilarious solo performance about menopause and aging. Through a variety of characters\, Rose Weaver depicts the struggles\, triumphs\, tears and lighter side of menopause. Her take no-prisoners honestly is delivered with a touch of humor\, ensuring the audience is entertained while also gaining valuable insights. \nTry not to miss this extraordinary live performance. \nRose Weaver\, a 2000 Pell Award winner and a New England Emmy nominee\, has entertained audiences for more than 40 years in television\, film\, music\, and as a solo performer and writer. She has appeared in many theatres across the country\, including many performances for Trinity Theatre\, including August Wilson’s Gem of the Ocean where she played Aunt Ester; Billie Holiday in Lady Day at Emerson’s Bar & Grille; Dussie Mae in Ma Rainey’s Black Bottom; Bernice in The Piano Lesson\, and the Witch in Into the Woods. A few of her television performances include In the Heat of the Night\, Poetic Justice\, LA Law\, Tales From the Crypt\, The Accused\, Not In My Family\, Lady in White and Go Tell It On the Mountain.
URL:https://www.lifelonglearningcollaborative.org/event/webinar-lecture-w-rose-weaver-menopause-mama/
LOCATION:ZOOM
CATEGORIES:Free Webinars
END:VEVENT
END:VCALENDAR