BEGIN:VCALENDAR
VERSION:2.0
PRODID:-//Lifelong Learning Collaborative - ECPv6.15.12.2//NONSGML v1.0//EN
CALSCALE:GREGORIAN
METHOD:PUBLISH
X-ORIGINAL-URL:https://www.lifelonglearningcollaborative.org
X-WR-CALDESC:Events for Lifelong Learning Collaborative
REFRESH-INTERVAL;VALUE=DURATION:PT1H
X-Robots-Tag:noindex
X-PUBLISHED-TTL:PT1H
BEGIN:VTIMEZONE
TZID:America/New_York
BEGIN:DAYLIGHT
TZOFFSETFROM:-0500
TZOFFSETTO:-0400
TZNAME:EDT
DTSTART:20230312T070000
END:DAYLIGHT
BEGIN:STANDARD
TZOFFSETFROM:-0400
TZOFFSETTO:-0500
TZNAME:EST
DTSTART:20231105T060000
END:STANDARD
BEGIN:DAYLIGHT
TZOFFSETFROM:-0500
TZOFFSETTO:-0400
TZNAME:EDT
DTSTART:20240310T070000
END:DAYLIGHT
BEGIN:STANDARD
TZOFFSETFROM:-0400
TZOFFSETTO:-0500
TZNAME:EST
DTSTART:20241103T060000
END:STANDARD
BEGIN:DAYLIGHT
TZOFFSETFROM:-0500
TZOFFSETTO:-0400
TZNAME:EDT
DTSTART:20250309T070000
END:DAYLIGHT
BEGIN:STANDARD
TZOFFSETFROM:-0400
TZOFFSETTO:-0500
TZNAME:EST
DTSTART:20251102T060000
END:STANDARD
END:VTIMEZONE
BEGIN:VEVENT
DTSTART;TZID=America/New_York:20240912T160000
DTEND;TZID=America/New_York:20240912T170000
DTSTAMP:20260422T193412
CREATED:20240813T115321Z
LAST-MODIFIED:20240813T115321Z
UID:10002230-1726156800-1726160400@www.lifelonglearningcollaborative.org
SUMMARY:Webinar Lecture feat Ben Nacar\, Pianist/Composer
DESCRIPTION:The Evolution of the Cadenza: Lecture and Live Piano Recital \nJoin us for an enchanting afternoon of music and insight with our Lecture and Live Piano Recital featuring the acclaimed pianist Ben Nacar. Ben returns to LLC to captivate us once more. This time\, he will explore the fascinating world of the cadenza\, a hallmark of the classic concerto. A particular focus will be on Beethoven’s own cadenzas. Concertos by Mozart\, Tchaikovsky\, and Rachmaninoff will also figure in this presentation. Don’t miss this unique opportunity to experience a blend of performance and education from a truly talented musician. \nBenjamin Nacar\, pianist and composer\, gives frequent performances\, both solo and in collaboration with professional and student musicians. His continuing musical adventures are documented at his website bennacar.com and his YouTube channel youtube.com/insearchofthemuses. Information about his album can be found at bennacar.bandcamp.com.
URL:https://www.lifelonglearningcollaborative.org/event/webinar-lecture-feat-ben-nacar-pianist-composer/
LOCATION:ZOOM
CATEGORIES:Free Webinars
END:VEVENT
BEGIN:VEVENT
DTSTART;TZID=America/New_York:20240916T160000
DTEND;TZID=America/New_York:20240916T170000
DTSTAMP:20260422T193412
CREATED:20240813T115422Z
LAST-MODIFIED:20240813T115422Z
UID:10002231-1726502400-1726506000@www.lifelonglearningcollaborative.org
SUMMARY:Webinar Lecture feat. John Kostrzewa\, Writer of the Walking Rhode Island column for The Providence Journal
DESCRIPTION:Fall Hikes – Walking Rhode Island \nJohn Kostrzewa has been hiking across the state for years. His talk and slide show will include how he started\, where he has hiked and what he has learned. He’ll share his observations about the history\, geological features\, vegetation and wildlife he has found along the trails. He’ll also explain what makes Rhode Island’s trails unique and outline some of the challenges Rhode Islanders face to maintain the state’s public preserves. \nJohn Kostrzewa worked for forty-two years in the newspaper industry\, including the last twenty-nine at The Providence Journal as a business reporter\, columnist\, business editor\, and assistant managing editor. He started his walking column in 2021 and has published a compilation of his hikes into a book\, Walking Rhode Island 40 Hikes for Nature and History Lovers with Pictures\, GPS Coordinates and Trail Maps.
URL:https://www.lifelonglearningcollaborative.org/event/webinar-lecture-feat-john-kostrzewa-writer-of-the-walking-rhode-island-column-for-the-providence-journal/
LOCATION:ZOOM
CATEGORIES:Free Webinars
END:VEVENT
BEGIN:VEVENT
DTSTART;TZID=America/New_York:20240924T160000
DTEND;TZID=America/New_York:20240924T170000
DTSTAMP:20260422T193412
CREATED:20240813T115518Z
LAST-MODIFIED:20240813T115518Z
UID:10002232-1727193600-1727197200@www.lifelonglearningcollaborative.org
SUMMARY:Webinar Lecture feat. Linda Bloom\, LCSW and Charlie Bloom\, MSW\, Authors and Relationship Counselors
DESCRIPTION:Secrets to the Best Relationships \nNow more than ever\, people need guidance for navigating conflict wisely and skillfully\, drawing on insights from their work\, the blooms offer practical tools and strategies that apply to all relationships\, including relationships between seniors\, partners\, adult\, children\, grandchildren\, friends\, and others. During their presentation\, they refer to their newest book\, An End to Arguing\, where they convincingly show how destructive conflicts can be avoided. Successful discussions provide a stimulus for both individual and interpersonal growth. Their work doesn’t just provide a way of preventing differences from turning into painful conflict; it provides insight into what qualities are inherent and argument-free relationships. The way of getting there may be simpler than you think. Questions are welcome. \nLinda Bloom\, LCSW and Charlie Bloom\, MSW are trained as psychotherapists and relationship counselors. They have worked with individuals\, couples\, groups and organizations\, and have lectured and taught at learning institutions throughout the USA and internationally. They have authored five books\, including the bestseller\,101 Things I Knew When I Got Married.
URL:https://www.lifelonglearningcollaborative.org/event/webinar-lecture-feat-linda-bloom-lcsw-and-charlie-bloom-msw-authors-and-relationship-counselors/
LOCATION:ZOOM
CATEGORIES:Free Webinars
END:VEVENT
END:VCALENDAR