BEGIN:VCALENDAR
VERSION:2.0
PRODID:-//Lifelong Learning Collaborative - ECPv6.15.12.2//NONSGML v1.0//EN
CALSCALE:GREGORIAN
METHOD:PUBLISH
X-ORIGINAL-URL:https://www.lifelonglearningcollaborative.org
X-WR-CALDESC:Events for Lifelong Learning Collaborative
REFRESH-INTERVAL;VALUE=DURATION:PT1H
X-Robots-Tag:noindex
X-PUBLISHED-TTL:PT1H
BEGIN:VTIMEZONE
TZID:America/New_York
BEGIN:DAYLIGHT
TZOFFSETFROM:-0500
TZOFFSETTO:-0400
TZNAME:EDT
DTSTART:20240310T070000
END:DAYLIGHT
BEGIN:STANDARD
TZOFFSETFROM:-0400
TZOFFSETTO:-0500
TZNAME:EST
DTSTART:20241103T060000
END:STANDARD
BEGIN:DAYLIGHT
TZOFFSETFROM:-0500
TZOFFSETTO:-0400
TZNAME:EDT
DTSTART:20250309T070000
END:DAYLIGHT
BEGIN:STANDARD
TZOFFSETFROM:-0400
TZOFFSETTO:-0500
TZNAME:EST
DTSTART:20251102T060000
END:STANDARD
BEGIN:DAYLIGHT
TZOFFSETFROM:-0500
TZOFFSETTO:-0400
TZNAME:EDT
DTSTART:20260308T070000
END:DAYLIGHT
BEGIN:STANDARD
TZOFFSETFROM:-0400
TZOFFSETTO:-0500
TZNAME:EST
DTSTART:20261101T060000
END:STANDARD
END:VTIMEZONE
BEGIN:VEVENT
DTSTART;TZID=America/New_York:20250801T100000
DTEND;TZID=America/New_York:20250801T120000
DTSTAMP:20260421T171226
CREATED:20250527T013701Z
LAST-MODIFIED:20250527T013701Z
UID:10003364-1754042400-1754049600@www.lifelonglearningcollaborative.org
SUMMARY:Forget Plymouth Rock
DESCRIPTION:
URL:https://www.lifelonglearningcollaborative.org/event/forget-plymouth-rock-2-2/2025-08-01/
LOCATION:RI
CATEGORIES:Courses
END:VEVENT
BEGIN:VEVENT
DTSTART;TZID=America/New_York:20250804T100000
DTEND;TZID=America/New_York:20250804T120000
DTSTAMP:20260421T171226
CREATED:20250526T233807Z
LAST-MODIFIED:20251103T210152Z
UID:10003231-1754301600-1754308800@www.lifelonglearningcollaborative.org
SUMMARY:Current Events
DESCRIPTION:
URL:https://www.lifelonglearningcollaborative.org/event/current-events/2025-08-04/
LOCATION:ZOOM
CATEGORIES:Courses
END:VEVENT
BEGIN:VEVENT
DTSTART;TZID=America/New_York:20250804T130000
DTEND;TZID=America/New_York:20250804T150000
DTSTAMP:20260421T171226
CREATED:20250526T234005Z
LAST-MODIFIED:20250526T234005Z
UID:10003291-1754312400-1754319600@www.lifelonglearningcollaborative.org
SUMMARY:Armchair Travelers
DESCRIPTION:
URL:https://www.lifelonglearningcollaborative.org/event/armchair-travelers-2-2/2025-08-04/
LOCATION:international house of rhode island\, 8 Stimson Avenue\, Providence\, RI\, 02906\, United States
CATEGORIES:Courses
END:VEVENT
BEGIN:VEVENT
DTSTART;TZID=America/New_York:20250805T100000
DTEND;TZID=America/New_York:20250805T120000
DTSTAMP:20260421T171226
CREATED:20250526T234216Z
LAST-MODIFIED:20250526T234216Z
UID:10003295-1754388000-1754395200@www.lifelonglearningcollaborative.org
SUMMARY:Beach Reads
DESCRIPTION:
URL:https://www.lifelonglearningcollaborative.org/event/beach-reads-2-2/2025-08-05/
LOCATION:Temple Beth-El\, 70 Orchard Avenue\, Providence\, RI\, United States
CATEGORIES:Courses
END:VEVENT
BEGIN:VEVENT
DTSTART;TZID=America/New_York:20250805T151500
DTEND;TZID=America/New_York:20250805T170000
DTSTAMP:20260421T171226
CREATED:20250526T234839Z
LAST-MODIFIED:20250527T012549Z
UID:10003334-1754406900-1754413200@www.lifelonglearningcollaborative.org
SUMMARY:Scrabble
DESCRIPTION:
URL:https://www.lifelonglearningcollaborative.org/event/scrabble-19/2025-08-05/
LOCATION:Temple Beth-El\, 70 Orchard Avenue\, Providence\, RI\, United States
CATEGORIES:Courses
END:VEVENT
BEGIN:VEVENT
DTSTART;TZID=America/New_York:20250806T100000
DTEND;TZID=America/New_York:20250806T120000
DTSTAMP:20260421T171226
CREATED:20250527T012240Z
LAST-MODIFIED:20250527T012240Z
UID:10003318-1754474400-1754481600@www.lifelonglearningcollaborative.org
SUMMARY:How Things Are Made (Hybrid)
DESCRIPTION:
URL:https://www.lifelonglearningcollaborative.org/event/how-things-are-made-hybrid/2025-08-06/
LOCATION:RI
CATEGORIES:Courses
END:VEVENT
BEGIN:VEVENT
DTSTART;TZID=America/New_York:20250806T100000
DTEND;TZID=America/New_York:20250806T120000
DTSTAMP:20260421T171226
CREATED:20250527T012333Z
LAST-MODIFIED:20250527T012333Z
UID:10003326-1754474400-1754481600@www.lifelonglearningcollaborative.org
SUMMARY:Plein Air
DESCRIPTION:
URL:https://www.lifelonglearningcollaborative.org/event/plein-air-5/2025-08-06/
LOCATION:RI
CATEGORIES:Courses
END:VEVENT
BEGIN:VEVENT
DTSTART;TZID=America/New_York:20250806T130000
DTEND;TZID=America/New_York:20250806T150000
DTSTAMP:20260421T171226
CREATED:20250527T012956Z
LAST-MODIFIED:20250527T012956Z
UID:10003345-1754485200-1754492400@www.lifelonglearningcollaborative.org
SUMMARY:Fiction Writing Group
DESCRIPTION:
URL:https://www.lifelonglearningcollaborative.org/event/fiction-writing-group/2025-08-06/
LOCATION:Temple Beth-El\, 70 Orchard Avenue\, Providence\, RI\, United States
CATEGORIES:Courses
END:VEVENT
BEGIN:VEVENT
DTSTART;TZID=America/New_York:20250807T100000
DTEND;TZID=America/New_York:20250807T120000
DTSTAMP:20260421T171226
CREATED:20250527T013056Z
LAST-MODIFIED:20250527T013525Z
UID:10003351-1754560800-1754568000@www.lifelonglearningcollaborative.org
SUMMARY:Barbara Pym
DESCRIPTION:
URL:https://www.lifelonglearningcollaborative.org/event/barbara-pym/2025-08-07/
LOCATION:Temple Beth-El\, 70 Orchard Avenue\, Providence\, RI\, United States
CATEGORIES:Courses
END:VEVENT
BEGIN:VEVENT
DTSTART;TZID=America/New_York:20250808T100000
DTEND;TZID=America/New_York:20250808T110000
DTSTAMP:20260421T171226
CREATED:20250527T013150Z
LAST-MODIFIED:20250527T013150Z
UID:10003359-1754647200-1754650800@www.lifelonglearningcollaborative.org
SUMMARY:Get Fit
DESCRIPTION:
URL:https://www.lifelonglearningcollaborative.org/event/get-fit/2025-08-08/
LOCATION:ZOOM
CATEGORIES:Courses
END:VEVENT
BEGIN:VEVENT
DTSTART;TZID=America/New_York:20250808T100000
DTEND;TZID=America/New_York:20250808T120000
DTSTAMP:20260421T171226
CREATED:20250527T013701Z
LAST-MODIFIED:20250527T013701Z
UID:10003365-1754647200-1754654400@www.lifelonglearningcollaborative.org
SUMMARY:Forget Plymouth Rock
DESCRIPTION:
URL:https://www.lifelonglearningcollaborative.org/event/forget-plymouth-rock-2-2/2025-08-08/
LOCATION:RI
CATEGORIES:Courses
END:VEVENT
BEGIN:VEVENT
DTSTART;TZID=America/New_York:20250811T100000
DTEND;TZID=America/New_York:20250811T120000
DTSTAMP:20260421T171226
CREATED:20250526T233807Z
LAST-MODIFIED:20251103T210152Z
UID:10003232-1754906400-1754913600@www.lifelonglearningcollaborative.org
SUMMARY:Current Events
DESCRIPTION:
URL:https://www.lifelonglearningcollaborative.org/event/current-events/2025-08-11/
LOCATION:ZOOM
CATEGORIES:Courses
END:VEVENT
BEGIN:VEVENT
DTSTART;TZID=America/New_York:20250812T130000
DTEND;TZID=America/New_York:20250812T150000
DTSTAMP:20260421T171226
CREATED:20250526T234722Z
LAST-MODIFIED:20250526T234722Z
UID:10003303-1755003600-1755010800@www.lifelonglearningcollaborative.org
SUMMARY:Cell Phone Photo Club
DESCRIPTION:
URL:https://www.lifelonglearningcollaborative.org/event/cell-phone-photo-club-2-6/2025-08-12/
LOCATION:Temple Beth-El\, 70 Orchard Avenue\, Providence\, RI\, United States
CATEGORIES:Courses
END:VEVENT
BEGIN:VEVENT
DTSTART;TZID=America/New_York:20250812T151500
DTEND;TZID=America/New_York:20250812T170000
DTSTAMP:20260421T171226
CREATED:20250526T234839Z
LAST-MODIFIED:20250527T012549Z
UID:10003335-1755011700-1755018000@www.lifelonglearningcollaborative.org
SUMMARY:Scrabble
DESCRIPTION:
URL:https://www.lifelonglearningcollaborative.org/event/scrabble-19/2025-08-12/
LOCATION:Temple Beth-El\, 70 Orchard Avenue\, Providence\, RI\, United States
CATEGORIES:Courses
END:VEVENT
BEGIN:VEVENT
DTSTART;TZID=America/New_York:20250813T100000
DTEND;TZID=America/New_York:20250813T120000
DTSTAMP:20260421T171226
CREATED:20250527T012240Z
LAST-MODIFIED:20250527T012240Z
UID:10003319-1755079200-1755086400@www.lifelonglearningcollaborative.org
SUMMARY:How Things Are Made (Hybrid)
DESCRIPTION:
URL:https://www.lifelonglearningcollaborative.org/event/how-things-are-made-hybrid/2025-08-13/
LOCATION:RI
CATEGORIES:Courses
END:VEVENT
BEGIN:VEVENT
DTSTART;TZID=America/New_York:20250813T100000
DTEND;TZID=America/New_York:20250813T120000
DTSTAMP:20260421T171226
CREATED:20250527T012333Z
LAST-MODIFIED:20250527T012333Z
UID:10003327-1755079200-1755086400@www.lifelonglearningcollaborative.org
SUMMARY:Plein Air
DESCRIPTION:
URL:https://www.lifelonglearningcollaborative.org/event/plein-air-5/2025-08-13/
LOCATION:RI
CATEGORIES:Courses
END:VEVENT
BEGIN:VEVENT
DTSTART;TZID=America/New_York:20250815T100000
DTEND;TZID=America/New_York:20250815T120000
DTSTAMP:20260421T171226
CREATED:20250527T013701Z
LAST-MODIFIED:20250527T013701Z
UID:10003366-1755252000-1755259200@www.lifelonglearningcollaborative.org
SUMMARY:Forget Plymouth Rock
DESCRIPTION:
URL:https://www.lifelonglearningcollaborative.org/event/forget-plymouth-rock-2-2/2025-08-15/
LOCATION:RI
CATEGORIES:Courses
END:VEVENT
BEGIN:VEVENT
DTSTART;TZID=America/New_York:20250818T100000
DTEND;TZID=America/New_York:20250818T120000
DTSTAMP:20260421T171226
CREATED:20250526T233807Z
LAST-MODIFIED:20251103T210152Z
UID:10003233-1755511200-1755518400@www.lifelonglearningcollaborative.org
SUMMARY:Current Events
DESCRIPTION:
URL:https://www.lifelonglearningcollaborative.org/event/current-events/2025-08-18/
LOCATION:ZOOM
CATEGORIES:Courses
END:VEVENT
BEGIN:VEVENT
DTSTART;TZID=America/New_York:20250822T100000
DTEND;TZID=America/New_York:20250822T120000
DTSTAMP:20260421T171226
CREATED:20250527T013701Z
LAST-MODIFIED:20250527T013701Z
UID:10003367-1755856800-1755864000@www.lifelonglearningcollaborative.org
SUMMARY:Forget Plymouth Rock
DESCRIPTION:
URL:https://www.lifelonglearningcollaborative.org/event/forget-plymouth-rock-2-2/2025-08-22/
LOCATION:RI
CATEGORIES:Courses
END:VEVENT
BEGIN:VEVENT
DTSTART;TZID=America/New_York:20250825T100000
DTEND;TZID=America/New_York:20250825T120000
DTSTAMP:20260421T171226
CREATED:20250526T233807Z
LAST-MODIFIED:20251103T210152Z
UID:10003234-1756116000-1756123200@www.lifelonglearningcollaborative.org
SUMMARY:Current Events
DESCRIPTION:
URL:https://www.lifelonglearningcollaborative.org/event/current-events/2025-08-25/
LOCATION:ZOOM
CATEGORIES:Courses
END:VEVENT
BEGIN:VEVENT
DTSTART;TZID=America/New_York:20250825T130000
DTEND;TZID=America/New_York:20250825T150000
DTSTAMP:20260421T171226
CREATED:20240715T131626Z
LAST-MODIFIED:20240715T131626Z
UID:10001924-1756126800-1756134000@www.lifelonglearningcollaborative.org
SUMMARY:Historical Novel Book Club 24-25
DESCRIPTION:
URL:https://www.lifelonglearningcollaborative.org/event/historical-novel-book-club-24-25/2025-08-25/
LOCATION:ZOOM
CATEGORIES:Courses
END:VEVENT
BEGIN:VEVENT
DTSTART;TZID=America/New_York:20250901T100000
DTEND;TZID=America/New_York:20250901T120000
DTSTAMP:20260421T171226
CREATED:20250526T233807Z
LAST-MODIFIED:20251103T210152Z
UID:10003235-1756720800-1756728000@www.lifelonglearningcollaborative.org
SUMMARY:Current Events
DESCRIPTION:
URL:https://www.lifelonglearningcollaborative.org/event/current-events/2025-09-01/
LOCATION:ZOOM
CATEGORIES:Courses
END:VEVENT
BEGIN:VEVENT
DTSTART;TZID=America/New_York:20250908T100000
DTEND;TZID=America/New_York:20250908T120000
DTSTAMP:20260421T171226
CREATED:20250526T233807Z
LAST-MODIFIED:20251103T210152Z
UID:10003236-1757325600-1757332800@www.lifelonglearningcollaborative.org
SUMMARY:Current Events
DESCRIPTION:
URL:https://www.lifelonglearningcollaborative.org/event/current-events/2025-09-08/
LOCATION:ZOOM
CATEGORIES:Courses
END:VEVENT
BEGIN:VEVENT
DTSTART;TZID=America/New_York:20250908T100000
DTEND;TZID=America/New_York:20250908T120000
DTSTAMP:20260421T171226
CREATED:20250714T134514Z
LAST-MODIFIED:20250714T134514Z
UID:10003368-1757325600-1757332800@www.lifelonglearningcollaborative.org
SUMMARY:Open Studio Art (Zoom)
DESCRIPTION:
URL:https://www.lifelonglearningcollaborative.org/event/open-studio-art-zoom-2-4/2025-09-08/
LOCATION:ZOOM
CATEGORIES:Courses
END:VEVENT
BEGIN:VEVENT
DTSTART;TZID=America/New_York:20250908T100000
DTEND;TZID=America/New_York:20250908T120000
DTSTAMP:20260421T171226
CREATED:20250714T134837Z
LAST-MODIFIED:20250714T134837Z
UID:10003388-1757325600-1757332800@www.lifelonglearningcollaborative.org
SUMMARY:Helping Kids Learn
DESCRIPTION:
URL:https://www.lifelonglearningcollaborative.org/event/helping-kids-learn/
LOCATION:ZOOM
CATEGORIES:Courses
END:VEVENT
BEGIN:VEVENT
DTSTART;TZID=America/New_York:20250908T130000
DTEND;TZID=America/New_York:20250908T150000
DTSTAMP:20260421T171226
CREATED:20250714T134926Z
LAST-MODIFIED:20250714T135145Z
UID:10003399-1757336400-1757343600@www.lifelonglearningcollaborative.org
SUMMARY:Detective Novel Book Club
DESCRIPTION:
URL:https://www.lifelonglearningcollaborative.org/event/detective-novel-book-club/2025-09-08/
LOCATION:Shriners Center\, 1 Rhodes Place\, Cranston\, RI\, 02905\, United States
CATEGORIES:Courses
END:VEVENT
BEGIN:VEVENT
DTSTART;TZID=America/New_York:20250909T100000
DTEND;TZID=America/New_York:20250909T120000
DTSTAMP:20260421T171226
CREATED:20250714T143035Z
LAST-MODIFIED:20250714T143035Z
UID:10003428-1757412000-1757419200@www.lifelonglearningcollaborative.org
SUMMARY:Short Stories Desai & Eisenberg
DESCRIPTION:
URL:https://www.lifelonglearningcollaborative.org/event/short-stories-desai-eisenberg/2025-09-09/
LOCATION:Shriners Center\, 1 Rhodes Place\, Cranston\, RI\, 02905\, United States
CATEGORIES:Courses
END:VEVENT
BEGIN:VEVENT
DTSTART;TZID=America/New_York:20250909T100000
DTEND;TZID=America/New_York:20250909T120000
DTSTAMP:20260421T171226
CREATED:20250714T143319Z
LAST-MODIFIED:20250714T143319Z
UID:10003438-1757412000-1757419200@www.lifelonglearningcollaborative.org
SUMMARY:Writing a Memoir (Zoom)
DESCRIPTION:
URL:https://www.lifelonglearningcollaborative.org/event/writing-a-memoir-zoom-2-2/2025-09-09/
LOCATION:ZOOM
CATEGORIES:Courses
END:VEVENT
BEGIN:VEVENT
DTSTART;TZID=America/New_York:20250909T100000
DTEND;TZID=America/New_York:20250909T123000
DTSTAMP:20260421T171226
CREATED:20250714T143422Z
LAST-MODIFIED:20250714T143422Z
UID:10003444-1757412000-1757421000@www.lifelonglearningcollaborative.org
SUMMARY:Open Studio Art (In-person)
DESCRIPTION:
URL:https://www.lifelonglearningcollaborative.org/event/open-studio-art-in-person/2025-09-09/
LOCATION:Shriners Center\, 1 Rhodes Place\, Cranston\, RI\, 02905\, United States
CATEGORIES:Courses
END:VEVENT
BEGIN:VEVENT
DTSTART;TZID=America/New_York:20250909T100000
DTEND;TZID=America/New_York:20250909T123000
DTSTAMP:20260421T171226
CREATED:20250714T143654Z
LAST-MODIFIED:20250714T143654Z
UID:10003454-1757412000-1757421000@www.lifelonglearningcollaborative.org
SUMMARY:Scrabble
DESCRIPTION:
URL:https://www.lifelonglearningcollaborative.org/event/scrabble-21/2025-09-09/
LOCATION:Shriners Center\, 1 Rhodes Place\, Cranston\, RI\, 02905\, United States
CATEGORIES:Courses
END:VEVENT
END:VCALENDAR