BEGIN:VCALENDAR
VERSION:2.0
PRODID:-//Lifelong Learning Collaborative - ECPv6.15.12.2//NONSGML v1.0//EN
CALSCALE:GREGORIAN
METHOD:PUBLISH
X-WR-CALNAME:Lifelong Learning Collaborative
X-ORIGINAL-URL:https://www.lifelonglearningcollaborative.org
X-WR-CALDESC:Events for Lifelong Learning Collaborative
REFRESH-INTERVAL;VALUE=DURATION:PT1H
X-Robots-Tag:noindex
X-PUBLISHED-TTL:PT1H
BEGIN:VTIMEZONE
TZID:America/New_York
BEGIN:DAYLIGHT
TZOFFSETFROM:-0500
TZOFFSETTO:-0400
TZNAME:EDT
DTSTART:20240310T070000
END:DAYLIGHT
BEGIN:STANDARD
TZOFFSETFROM:-0400
TZOFFSETTO:-0500
TZNAME:EST
DTSTART:20241103T060000
END:STANDARD
BEGIN:DAYLIGHT
TZOFFSETFROM:-0500
TZOFFSETTO:-0400
TZNAME:EDT
DTSTART:20250309T070000
END:DAYLIGHT
BEGIN:STANDARD
TZOFFSETFROM:-0400
TZOFFSETTO:-0500
TZNAME:EST
DTSTART:20251102T060000
END:STANDARD
BEGIN:DAYLIGHT
TZOFFSETFROM:-0500
TZOFFSETTO:-0400
TZNAME:EDT
DTSTART:20260308T070000
END:DAYLIGHT
BEGIN:STANDARD
TZOFFSETFROM:-0400
TZOFFSETTO:-0500
TZNAME:EST
DTSTART:20261101T060000
END:STANDARD
END:VTIMEZONE
BEGIN:VEVENT
DTSTART;TZID=America/New_York:20250926T100000
DTEND;TZID=America/New_York:20250926T120000
DTSTAMP:20260422T190651
CREATED:20250714T145943Z
LAST-MODIFIED:20250714T145943Z
UID:10003672-1758880800-1758888000@www.lifelonglearningcollaborative.org
SUMMARY:1936 Olympics
DESCRIPTION:
URL:https://www.lifelonglearningcollaborative.org/event/1936-olympics/2025-09-26/
LOCATION:Shriners Center\, 1 Rhodes Place\, Cranston\, RI\, 02905\, United States
CATEGORIES:Courses
END:VEVENT
BEGIN:VEVENT
DTSTART;TZID=America/New_York:20250926T100000
DTEND;TZID=America/New_York:20250926T120000
DTSTAMP:20260422T190651
CREATED:20250714T150033Z
LAST-MODIFIED:20250714T150033Z
UID:10003683-1758880800-1758888000@www.lifelonglearningcollaborative.org
SUMMARY:Anthropology/Movies
DESCRIPTION:
URL:https://www.lifelonglearningcollaborative.org/event/anthropology-movies/2025-09-26/
LOCATION:Shriners Center\, 1 Rhodes Place\, Cranston\, RI\, 02905\, United States
CATEGORIES:Courses
END:VEVENT
BEGIN:VEVENT
DTSTART;TZID=America/New_York:20250926T100000
DTEND;TZID=America/New_York:20250926T230000
DTSTAMP:20260422T190651
CREATED:20250714T145833Z
LAST-MODIFIED:20251103T205822Z
UID:10003613-1758880800-1758927600@www.lifelonglearningcollaborative.org
SUMMARY:Get Fit
DESCRIPTION:
URL:https://www.lifelonglearningcollaborative.org/event/get-fit-2-2/2025-09-26/
LOCATION:ZOOM
CATEGORIES:Courses
END:VEVENT
BEGIN:VEVENT
DTSTART;TZID=America/New_York:20250929T100000
DTEND;TZID=America/New_York:20250929T120000
DTSTAMP:20260422T190651
CREATED:20250526T233807Z
LAST-MODIFIED:20251103T210152Z
UID:10003239-1759140000-1759147200@www.lifelonglearningcollaborative.org
SUMMARY:Current Events
DESCRIPTION:
URL:https://www.lifelonglearningcollaborative.org/event/current-events/2025-09-29/
LOCATION:ZOOM
CATEGORIES:Courses
END:VEVENT
BEGIN:VEVENT
DTSTART;TZID=America/New_York:20250929T100000
DTEND;TZID=America/New_York:20250929T120000
DTSTAMP:20260422T190651
CREATED:20250714T134514Z
LAST-MODIFIED:20250714T134514Z
UID:10003371-1759140000-1759147200@www.lifelonglearningcollaborative.org
SUMMARY:Open Studio Art (Zoom)
DESCRIPTION:
URL:https://www.lifelonglearningcollaborative.org/event/open-studio-art-zoom-2-4/2025-09-29/
LOCATION:ZOOM
CATEGORIES:Courses
END:VEVENT
BEGIN:VEVENT
DTSTART;TZID=America/New_York:20250929T130000
DTEND;TZID=America/New_York:20250929T150000
DTSTAMP:20260422T190651
CREATED:20250714T135535Z
LAST-MODIFIED:20250714T135535Z
UID:10003409-1759150800-1759158000@www.lifelonglearningcollaborative.org
SUMMARY:Hist Novel Book Club 25-26
DESCRIPTION:
URL:https://www.lifelonglearningcollaborative.org/event/hist-novel-book-club-25-26/2025-09-29/
LOCATION:ZOOM
CATEGORIES:Courses
END:VEVENT
BEGIN:VEVENT
DTSTART;TZID=America/New_York:20250930T100000
DTEND;TZID=America/New_York:20250930T120000
DTSTAMP:20260422T190651
CREATED:20250714T143035Z
LAST-MODIFIED:20250714T143035Z
UID:10003430-1759226400-1759233600@www.lifelonglearningcollaborative.org
SUMMARY:Short Stories Desai & Eisenberg
DESCRIPTION:
URL:https://www.lifelonglearningcollaborative.org/event/short-stories-desai-eisenberg/2025-09-30/
LOCATION:Shriners Center\, 1 Rhodes Place\, Cranston\, RI\, 02905\, United States
CATEGORIES:Courses
END:VEVENT
BEGIN:VEVENT
DTSTART;TZID=America/New_York:20250930T100000
DTEND;TZID=America/New_York:20250930T120000
DTSTAMP:20260422T190651
CREATED:20250714T143319Z
LAST-MODIFIED:20250714T143319Z
UID:10003439-1759226400-1759233600@www.lifelonglearningcollaborative.org
SUMMARY:Writing a Memoir (Zoom)
DESCRIPTION:
URL:https://www.lifelonglearningcollaborative.org/event/writing-a-memoir-zoom-2-2/2025-09-30/
LOCATION:ZOOM
CATEGORIES:Courses
END:VEVENT
BEGIN:VEVENT
DTSTART;TZID=America/New_York:20250930T100000
DTEND;TZID=America/New_York:20250930T123000
DTSTAMP:20260422T190651
CREATED:20250714T143422Z
LAST-MODIFIED:20250714T143422Z
UID:10003446-1759226400-1759235400@www.lifelonglearningcollaborative.org
SUMMARY:Open Studio Art (In-person)
DESCRIPTION:
URL:https://www.lifelonglearningcollaborative.org/event/open-studio-art-in-person/2025-09-30/
LOCATION:Shriners Center\, 1 Rhodes Place\, Cranston\, RI\, 02905\, United States
CATEGORIES:Courses
END:VEVENT
BEGIN:VEVENT
DTSTART;TZID=America/New_York:20250930T100000
DTEND;TZID=America/New_York:20250930T123000
DTSTAMP:20260422T190651
CREATED:20250714T143654Z
LAST-MODIFIED:20250714T143654Z
UID:10003456-1759226400-1759235400@www.lifelonglearningcollaborative.org
SUMMARY:Scrabble
DESCRIPTION:
URL:https://www.lifelonglearningcollaborative.org/event/scrabble-21/2025-09-30/
LOCATION:Shriners Center\, 1 Rhodes Place\, Cranston\, RI\, 02905\, United States
CATEGORIES:Courses
END:VEVENT
BEGIN:VEVENT
DTSTART;TZID=America/New_York:20250930T130000
DTEND;TZID=America/New_York:20250930T150000
DTSTAMP:20260422T190651
CREATED:20250714T143837Z
LAST-MODIFIED:20250714T143837Z
UID:10003466-1759237200-1759244400@www.lifelonglearningcollaborative.org
SUMMARY:Cornell Boxes
DESCRIPTION:
URL:https://www.lifelonglearningcollaborative.org/event/cornell-boxes/2025-09-30/
LOCATION:Shriners Center\, 1 Rhodes Place\, Cranston\, RI\, 02905\, United States
CATEGORIES:Courses
END:VEVENT
BEGIN:VEVENT
DTSTART;TZID=America/New_York:20250930T130000
DTEND;TZID=America/New_York:20250930T150000
DTSTAMP:20260422T190651
CREATED:20250714T143952Z
LAST-MODIFIED:20250714T143952Z
UID:10003471-1759237200-1759244400@www.lifelonglearningcollaborative.org
SUMMARY:Burning World
DESCRIPTION:
URL:https://www.lifelonglearningcollaborative.org/event/burning-world/2025-09-30/
LOCATION:Shriners Center\, 1 Rhodes Place\, Cranston\, RI\, 02905\, United States
CATEGORIES:Courses
END:VEVENT
BEGIN:VEVENT
DTSTART;TZID=America/New_York:20250930T130000
DTEND;TZID=America/New_York:20250930T150000
DTSTAMP:20260422T190651
CREATED:20250714T144217Z
LAST-MODIFIED:20250714T144217Z
UID:10003481-1759237200-1759244400@www.lifelonglearningcollaborative.org
SUMMARY:Cell Phone Photo
DESCRIPTION:
URL:https://www.lifelonglearningcollaborative.org/event/cell-phone-photo-3-3/2025-09-30/
LOCATION:Shriners Center\, 1 Rhodes Place\, Cranston\, RI\, 02905\, United States
CATEGORIES:Courses
END:VEVENT
BEGIN:VEVENT
DTSTART;TZID=America/New_York:20251001T100000
DTEND;TZID=America/New_York:20251001T120000
DTSTAMP:20260422T190651
CREATED:20250714T144630Z
LAST-MODIFIED:20250714T144630Z
UID:10003510-1759312800-1759320000@www.lifelonglearningcollaborative.org
SUMMARY:Ibsen Plays
DESCRIPTION:
URL:https://www.lifelonglearningcollaborative.org/event/ibsen-plays/2025-10-01/
LOCATION:Shriners Center\, 1 Rhodes Place\, Cranston\, RI\, 02905\, United States
CATEGORIES:Courses
END:VEVENT
BEGIN:VEVENT
DTSTART;TZID=America/New_York:20251001T100000
DTEND;TZID=America/New_York:20251001T120000
DTSTAMP:20260422T190651
CREATED:20250714T150301Z
LAST-MODIFIED:20250714T150301Z
UID:10003694-1759312800-1759320000@www.lifelonglearningcollaborative.org
SUMMARY:Creative Arts
DESCRIPTION:
URL:https://www.lifelonglearningcollaborative.org/event/creative-arts/2025-10-01/
LOCATION:Shriners Center\, 1 Rhodes Place\, Cranston\, RI\, 02905\, United States
CATEGORIES:Courses
END:VEVENT
BEGIN:VEVENT
DTSTART;TZID=America/New_York:20251001T130000
DTEND;TZID=America/New_York:20251001T150000
DTSTAMP:20260422T190651
CREATED:20250714T144722Z
LAST-MODIFIED:20250714T144722Z
UID:10003519-1759323600-1759330800@www.lifelonglearningcollaborative.org
SUMMARY:Hot Topics
DESCRIPTION:
URL:https://www.lifelonglearningcollaborative.org/event/hot-topics-3-8/2025-10-01/
LOCATION:ZOOM
CATEGORIES:Courses
END:VEVENT
BEGIN:VEVENT
DTSTART;TZID=America/New_York:20251001T130000
DTEND;TZID=America/New_York:20251001T150000
DTSTAMP:20260422T190651
CREATED:20250714T144838Z
LAST-MODIFIED:20250714T144838Z
UID:10003530-1759323600-1759330800@www.lifelonglearningcollaborative.org
SUMMARY:Jazz Dance
DESCRIPTION:
URL:https://www.lifelonglearningcollaborative.org/event/jazz-dance-2-2/2025-10-01/
LOCATION:Shriners Center\, 1 Rhodes Place\, Cranston\, RI\, 02905\, United States
CATEGORIES:Courses
END:VEVENT
BEGIN:VEVENT
DTSTART;TZID=America/New_York:20251001T130000
DTEND;TZID=America/New_York:20251001T150000
DTSTAMP:20260422T190651
CREATED:20250714T144934Z
LAST-MODIFIED:20250714T144934Z
UID:10003538-1759323600-1759330800@www.lifelonglearningcollaborative.org
SUMMARY:LLC Knits
DESCRIPTION:
URL:https://www.lifelonglearningcollaborative.org/event/llc-knits-3-6/2025-10-01/
LOCATION:Shriners Center\, 1 Rhodes Place\, Cranston\, RI\, 02905\, United States
CATEGORIES:Courses
END:VEVENT
BEGIN:VEVENT
DTSTART;TZID=America/New_York:20251002T130000
DTEND;TZID=America/New_York:20251002T141500
DTSTAMP:20260422T190651
CREATED:20250714T145748Z
LAST-MODIFIED:20250714T145748Z
UID:10003607-1759410000-1759414500@www.lifelonglearningcollaborative.org
SUMMARY:Alexander Technique
DESCRIPTION:
URL:https://www.lifelonglearningcollaborative.org/event/alexander-technique-2-3/2025-10-02/
LOCATION:Shriners Center\, 1 Rhodes Place\, Cranston\, RI\, 02905\, United States
CATEGORIES:Courses
END:VEVENT
BEGIN:VEVENT
DTSTART;TZID=America/New_York:20251003T100000
DTEND;TZID=America/New_York:20251003T120000
DTSTAMP:20260422T190651
CREATED:20250714T145943Z
LAST-MODIFIED:20250714T145943Z
UID:10003673-1759485600-1759492800@www.lifelonglearningcollaborative.org
SUMMARY:1936 Olympics
DESCRIPTION:
URL:https://www.lifelonglearningcollaborative.org/event/1936-olympics/2025-10-03/
LOCATION:Shriners Center\, 1 Rhodes Place\, Cranston\, RI\, 02905\, United States
CATEGORIES:Courses
END:VEVENT
BEGIN:VEVENT
DTSTART;TZID=America/New_York:20251003T100000
DTEND;TZID=America/New_York:20251003T120000
DTSTAMP:20260422T190651
CREATED:20250714T150033Z
LAST-MODIFIED:20250714T150033Z
UID:10003684-1759485600-1759492800@www.lifelonglearningcollaborative.org
SUMMARY:Anthropology/Movies
DESCRIPTION:
URL:https://www.lifelonglearningcollaborative.org/event/anthropology-movies/2025-10-03/
LOCATION:Shriners Center\, 1 Rhodes Place\, Cranston\, RI\, 02905\, United States
CATEGORIES:Courses
END:VEVENT
BEGIN:VEVENT
DTSTART;TZID=America/New_York:20251003T100000
DTEND;TZID=America/New_York:20251003T230000
DTSTAMP:20260422T190651
CREATED:20250714T145833Z
LAST-MODIFIED:20251103T205822Z
UID:10003614-1759485600-1759532400@www.lifelonglearningcollaborative.org
SUMMARY:Get Fit
DESCRIPTION:
URL:https://www.lifelonglearningcollaborative.org/event/get-fit-2-2/2025-10-03/
LOCATION:ZOOM
CATEGORIES:Courses
END:VEVENT
BEGIN:VEVENT
DTSTART;TZID=America/New_York:20251006T100000
DTEND;TZID=America/New_York:20251006T120000
DTSTAMP:20260422T190651
CREATED:20250526T233807Z
LAST-MODIFIED:20251103T210152Z
UID:10003240-1759744800-1759752000@www.lifelonglearningcollaborative.org
SUMMARY:Current Events
DESCRIPTION:
URL:https://www.lifelonglearningcollaborative.org/event/current-events/2025-10-06/
LOCATION:ZOOM
CATEGORIES:Courses
END:VEVENT
BEGIN:VEVENT
DTSTART;TZID=America/New_York:20251006T100000
DTEND;TZID=America/New_York:20251006T120000
DTSTAMP:20260422T190651
CREATED:20250714T134514Z
LAST-MODIFIED:20250714T134514Z
UID:10003372-1759744800-1759752000@www.lifelonglearningcollaborative.org
SUMMARY:Open Studio Art (Zoom)
DESCRIPTION:
URL:https://www.lifelonglearningcollaborative.org/event/open-studio-art-zoom-2-4/2025-10-06/
LOCATION:ZOOM
CATEGORIES:Courses
END:VEVENT
BEGIN:VEVENT
DTSTART;TZID=America/New_York:20251007T100000
DTEND;TZID=America/New_York:20251007T120000
DTSTAMP:20260422T190651
CREATED:20250714T143035Z
LAST-MODIFIED:20250714T143035Z
UID:10003431-1759831200-1759838400@www.lifelonglearningcollaborative.org
SUMMARY:Short Stories Desai & Eisenberg
DESCRIPTION:
URL:https://www.lifelonglearningcollaborative.org/event/short-stories-desai-eisenberg/2025-10-07/
LOCATION:Shriners Center\, 1 Rhodes Place\, Cranston\, RI\, 02905\, United States
CATEGORIES:Courses
END:VEVENT
BEGIN:VEVENT
DTSTART;TZID=America/New_York:20251007T100000
DTEND;TZID=America/New_York:20251007T120000
DTSTAMP:20260422T190651
CREATED:20250714T143319Z
LAST-MODIFIED:20250714T143319Z
UID:10003440-1759831200-1759838400@www.lifelonglearningcollaborative.org
SUMMARY:Writing a Memoir (Zoom)
DESCRIPTION:
URL:https://www.lifelonglearningcollaborative.org/event/writing-a-memoir-zoom-2-2/2025-10-07/
LOCATION:ZOOM
CATEGORIES:Courses
END:VEVENT
BEGIN:VEVENT
DTSTART;TZID=America/New_York:20251007T100000
DTEND;TZID=America/New_York:20251007T123000
DTSTAMP:20260422T190651
CREATED:20250714T143422Z
LAST-MODIFIED:20250714T143422Z
UID:10003447-1759831200-1759840200@www.lifelonglearningcollaborative.org
SUMMARY:Open Studio Art (In-person)
DESCRIPTION:
URL:https://www.lifelonglearningcollaborative.org/event/open-studio-art-in-person/2025-10-07/
LOCATION:Shriners Center\, 1 Rhodes Place\, Cranston\, RI\, 02905\, United States
CATEGORIES:Courses
END:VEVENT
BEGIN:VEVENT
DTSTART;TZID=America/New_York:20251007T100000
DTEND;TZID=America/New_York:20251007T123000
DTSTAMP:20260422T190651
CREATED:20250714T143654Z
LAST-MODIFIED:20250714T143654Z
UID:10003457-1759831200-1759840200@www.lifelonglearningcollaborative.org
SUMMARY:Scrabble
DESCRIPTION:
URL:https://www.lifelonglearningcollaborative.org/event/scrabble-21/2025-10-07/
LOCATION:Shriners Center\, 1 Rhodes Place\, Cranston\, RI\, 02905\, United States
CATEGORIES:Courses
END:VEVENT
BEGIN:VEVENT
DTSTART;TZID=America/New_York:20251007T130000
DTEND;TZID=America/New_York:20251007T150000
DTSTAMP:20260422T190651
CREATED:20250714T143837Z
LAST-MODIFIED:20250714T143837Z
UID:10003467-1759842000-1759849200@www.lifelonglearningcollaborative.org
SUMMARY:Cornell Boxes
DESCRIPTION:
URL:https://www.lifelonglearningcollaborative.org/event/cornell-boxes/2025-10-07/
LOCATION:Shriners Center\, 1 Rhodes Place\, Cranston\, RI\, 02905\, United States
CATEGORIES:Courses
END:VEVENT
BEGIN:VEVENT
DTSTART;TZID=America/New_York:20251007T130000
DTEND;TZID=America/New_York:20251007T150000
DTSTAMP:20260422T190651
CREATED:20250714T143952Z
LAST-MODIFIED:20250714T143952Z
UID:10003472-1759842000-1759849200@www.lifelonglearningcollaborative.org
SUMMARY:Burning World
DESCRIPTION:
URL:https://www.lifelonglearningcollaborative.org/event/burning-world/2025-10-07/
LOCATION:Shriners Center\, 1 Rhodes Place\, Cranston\, RI\, 02905\, United States
CATEGORIES:Courses
END:VEVENT
END:VCALENDAR