BEGIN:VCALENDAR
VERSION:2.0
PRODID:-//Lifelong Learning Collaborative - ECPv6.15.12.2//NONSGML v1.0//EN
CALSCALE:GREGORIAN
METHOD:PUBLISH
X-WR-CALNAME:Lifelong Learning Collaborative
X-ORIGINAL-URL:https://www.lifelonglearningcollaborative.org
X-WR-CALDESC:Events for Lifelong Learning Collaborative
REFRESH-INTERVAL;VALUE=DURATION:PT1H
X-Robots-Tag:noindex
X-PUBLISHED-TTL:PT1H
BEGIN:VTIMEZONE
TZID:America/New_York
BEGIN:DAYLIGHT
TZOFFSETFROM:-0500
TZOFFSETTO:-0400
TZNAME:EDT
DTSTART:20240310T070000
END:DAYLIGHT
BEGIN:STANDARD
TZOFFSETFROM:-0400
TZOFFSETTO:-0500
TZNAME:EST
DTSTART:20241103T060000
END:STANDARD
BEGIN:DAYLIGHT
TZOFFSETFROM:-0500
TZOFFSETTO:-0400
TZNAME:EDT
DTSTART:20250309T070000
END:DAYLIGHT
BEGIN:STANDARD
TZOFFSETFROM:-0400
TZOFFSETTO:-0500
TZNAME:EST
DTSTART:20251102T060000
END:STANDARD
BEGIN:DAYLIGHT
TZOFFSETFROM:-0500
TZOFFSETTO:-0400
TZNAME:EDT
DTSTART:20260308T070000
END:DAYLIGHT
BEGIN:STANDARD
TZOFFSETFROM:-0400
TZOFFSETTO:-0500
TZNAME:EST
DTSTART:20261101T060000
END:STANDARD
END:VTIMEZONE
BEGIN:VEVENT
DTSTART;TZID=America/New_York:20250917T130000
DTEND;TZID=America/New_York:20250917T150000
DTSTAMP:20260422T190656
CREATED:20250714T145106Z
LAST-MODIFIED:20250714T145106Z
UID:10003546-1758114000-1758121200@www.lifelonglearningcollaborative.org
SUMMARY:Luminous Things (Hybrid)
DESCRIPTION:
URL:https://www.lifelonglearningcollaborative.org/event/luminous-things-hybrid/2025-09-17/
LOCATION:Shriners Center\, 1 Rhodes Place\, Cranston\, RI\, 02905\, United States
CATEGORIES:Courses
END:VEVENT
BEGIN:VEVENT
DTSTART;TZID=America/New_York:20250918T100000
DTEND;TZID=America/New_York:20250918T120000
DTSTAMP:20260422T190656
CREATED:20250714T145207Z
LAST-MODIFIED:20250714T145207Z
UID:10003556-1758189600-1758196800@www.lifelonglearningcollaborative.org
SUMMARY:End Time Corporations
DESCRIPTION:
URL:https://www.lifelonglearningcollaborative.org/event/end-time-corporations/2025-09-18/
LOCATION:Shriners Center\, 1 Rhodes Place\, Cranston\, RI\, 02905\, United States
CATEGORIES:Courses
END:VEVENT
BEGIN:VEVENT
DTSTART;TZID=America/New_York:20250918T100000
DTEND;TZID=America/New_York:20250918T120000
DTSTAMP:20260422T190656
CREATED:20250714T145324Z
LAST-MODIFIED:20250714T145324Z
UID:10003566-1758189600-1758196800@www.lifelonglearningcollaborative.org
SUMMARY:You Should Hear This
DESCRIPTION:
URL:https://www.lifelonglearningcollaborative.org/event/you-should-hear-this/2025-09-18/
LOCATION:Shriners Center\, 1 Rhodes Place\, Cranston\, RI\, 02905\, United States
CATEGORIES:Courses
END:VEVENT
BEGIN:VEVENT
DTSTART;TZID=America/New_York:20250918T130000
DTEND;TZID=America/New_York:20250918T141500
DTSTAMP:20260422T190656
CREATED:20250714T145748Z
LAST-MODIFIED:20250714T145748Z
UID:10003605-1758200400-1758204900@www.lifelonglearningcollaborative.org
SUMMARY:Alexander Technique
DESCRIPTION:
URL:https://www.lifelonglearningcollaborative.org/event/alexander-technique-2-3/2025-09-18/
LOCATION:Shriners Center\, 1 Rhodes Place\, Cranston\, RI\, 02905\, United States
CATEGORIES:Courses
END:VEVENT
BEGIN:VEVENT
DTSTART;TZID=America/New_York:20250918T130000
DTEND;TZID=America/New_York:20250918T150000
DTSTAMP:20260422T190656
CREATED:20250714T145546Z
LAST-MODIFIED:20250714T145546Z
UID:10003586-1758200400-1758207600@www.lifelonglearningcollaborative.org
SUMMARY:Collage
DESCRIPTION:
URL:https://www.lifelonglearningcollaborative.org/event/collage/2025-09-18/
LOCATION:Shriners Center\, 1 Rhodes Place\, Cranston\, RI\, 02905\, United States
CATEGORIES:Courses
END:VEVENT
BEGIN:VEVENT
DTSTART;TZID=America/New_York:20250918T130000
DTEND;TZID=America/New_York:20250918T150000
DTSTAMP:20260422T190656
CREATED:20250714T145642Z
LAST-MODIFIED:20250714T145642Z
UID:10003596-1758200400-1758207600@www.lifelonglearningcollaborative.org
SUMMARY:Writing a Memoir (In-person)
DESCRIPTION:
URL:https://www.lifelonglearningcollaborative.org/event/writing-a-memoir-in-person/2025-09-18/
LOCATION:Shriners Center\, 1 Rhodes Place\, Cranston\, RI\, 02905\, United States
CATEGORIES:Courses
END:VEVENT
BEGIN:VEVENT
DTSTART;TZID=America/New_York:20250919T100000
DTEND;TZID=America/New_York:20250919T120000
DTSTAMP:20260422T190656
CREATED:20250714T145943Z
LAST-MODIFIED:20250714T145943Z
UID:10003671-1758276000-1758283200@www.lifelonglearningcollaborative.org
SUMMARY:1936 Olympics
DESCRIPTION:
URL:https://www.lifelonglearningcollaborative.org/event/1936-olympics/2025-09-19/
LOCATION:Shriners Center\, 1 Rhodes Place\, Cranston\, RI\, 02905\, United States
CATEGORIES:Courses
END:VEVENT
BEGIN:VEVENT
DTSTART;TZID=America/New_York:20250919T100000
DTEND;TZID=America/New_York:20250919T120000
DTSTAMP:20260422T190656
CREATED:20250714T150033Z
LAST-MODIFIED:20250714T150033Z
UID:10003682-1758276000-1758283200@www.lifelonglearningcollaborative.org
SUMMARY:Anthropology/Movies
DESCRIPTION:
URL:https://www.lifelonglearningcollaborative.org/event/anthropology-movies/2025-09-19/
LOCATION:Shriners Center\, 1 Rhodes Place\, Cranston\, RI\, 02905\, United States
CATEGORIES:Courses
END:VEVENT
BEGIN:VEVENT
DTSTART;TZID=America/New_York:20250919T100000
DTEND;TZID=America/New_York:20250919T230000
DTSTAMP:20260422T190656
CREATED:20250714T145833Z
LAST-MODIFIED:20251103T205822Z
UID:10003612-1758276000-1758322800@www.lifelonglearningcollaborative.org
SUMMARY:Get Fit
DESCRIPTION:
URL:https://www.lifelonglearningcollaborative.org/event/get-fit-2-2/2025-09-19/
LOCATION:ZOOM
CATEGORIES:Courses
END:VEVENT
BEGIN:VEVENT
DTSTART;TZID=America/New_York:20250922T100000
DTEND;TZID=America/New_York:20250922T120000
DTSTAMP:20260422T190656
CREATED:20250526T233807Z
LAST-MODIFIED:20251103T210152Z
UID:10003238-1758535200-1758542400@www.lifelonglearningcollaborative.org
SUMMARY:Current Events
DESCRIPTION:
URL:https://www.lifelonglearningcollaborative.org/event/current-events/2025-09-22/
LOCATION:ZOOM
CATEGORIES:Courses
END:VEVENT
BEGIN:VEVENT
DTSTART;TZID=America/New_York:20250922T100000
DTEND;TZID=America/New_York:20250922T120000
DTSTAMP:20260422T190656
CREATED:20250714T134514Z
LAST-MODIFIED:20250714T134514Z
UID:10003370-1758535200-1758542400@www.lifelonglearningcollaborative.org
SUMMARY:Open Studio Art (Zoom)
DESCRIPTION:
URL:https://www.lifelonglearningcollaborative.org/event/open-studio-art-zoom-2-4/2025-09-22/
LOCATION:ZOOM
CATEGORIES:Courses
END:VEVENT
BEGIN:VEVENT
DTSTART;TZID=America/New_York:20250924T100000
DTEND;TZID=America/New_York:20250924T120000
DTSTAMP:20260422T190656
CREATED:20250714T144630Z
LAST-MODIFIED:20250714T144630Z
UID:10003509-1758708000-1758715200@www.lifelonglearningcollaborative.org
SUMMARY:Ibsen Plays
DESCRIPTION:
URL:https://www.lifelonglearningcollaborative.org/event/ibsen-plays/2025-09-24/
LOCATION:Shriners Center\, 1 Rhodes Place\, Cranston\, RI\, 02905\, United States
CATEGORIES:Courses
END:VEVENT
BEGIN:VEVENT
DTSTART;TZID=America/New_York:20250924T100000
DTEND;TZID=America/New_York:20250924T120000
DTSTAMP:20260422T190656
CREATED:20250714T150301Z
LAST-MODIFIED:20250714T150301Z
UID:10003693-1758708000-1758715200@www.lifelonglearningcollaborative.org
SUMMARY:Creative Arts
DESCRIPTION:
URL:https://www.lifelonglearningcollaborative.org/event/creative-arts/2025-09-24/
LOCATION:Shriners Center\, 1 Rhodes Place\, Cranston\, RI\, 02905\, United States
CATEGORIES:Courses
END:VEVENT
BEGIN:VEVENT
DTSTART;TZID=America/New_York:20250924T130000
DTEND;TZID=America/New_York:20250924T150000
DTSTAMP:20260422T190656
CREATED:20250714T144838Z
LAST-MODIFIED:20250714T144838Z
UID:10003529-1758718800-1758726000@www.lifelonglearningcollaborative.org
SUMMARY:Jazz Dance
DESCRIPTION:
URL:https://www.lifelonglearningcollaborative.org/event/jazz-dance-2-2/2025-09-24/
LOCATION:Shriners Center\, 1 Rhodes Place\, Cranston\, RI\, 02905\, United States
CATEGORIES:Courses
END:VEVENT
BEGIN:VEVENT
DTSTART;TZID=America/New_York:20250924T130000
DTEND;TZID=America/New_York:20250924T150000
DTSTAMP:20260422T190656
CREATED:20250714T144934Z
LAST-MODIFIED:20250714T144934Z
UID:10003537-1758718800-1758726000@www.lifelonglearningcollaborative.org
SUMMARY:LLC Knits
DESCRIPTION:
URL:https://www.lifelonglearningcollaborative.org/event/llc-knits-3-6/2025-09-24/
LOCATION:Shriners Center\, 1 Rhodes Place\, Cranston\, RI\, 02905\, United States
CATEGORIES:Courses
END:VEVENT
BEGIN:VEVENT
DTSTART;TZID=America/New_York:20250925T100000
DTEND;TZID=America/New_York:20250925T120000
DTSTAMP:20260422T190656
CREATED:20250714T145207Z
LAST-MODIFIED:20250714T145207Z
UID:10003557-1758794400-1758801600@www.lifelonglearningcollaborative.org
SUMMARY:End Time Corporations
DESCRIPTION:
URL:https://www.lifelonglearningcollaborative.org/event/end-time-corporations/2025-09-25/
LOCATION:Shriners Center\, 1 Rhodes Place\, Cranston\, RI\, 02905\, United States
CATEGORIES:Courses
END:VEVENT
BEGIN:VEVENT
DTSTART;TZID=America/New_York:20250925T100000
DTEND;TZID=America/New_York:20250925T120000
DTSTAMP:20260422T190656
CREATED:20250714T145324Z
LAST-MODIFIED:20250714T145324Z
UID:10003567-1758794400-1758801600@www.lifelonglearningcollaborative.org
SUMMARY:You Should Hear This
DESCRIPTION:
URL:https://www.lifelonglearningcollaborative.org/event/you-should-hear-this/2025-09-25/
LOCATION:Shriners Center\, 1 Rhodes Place\, Cranston\, RI\, 02905\, United States
CATEGORIES:Courses
END:VEVENT
BEGIN:VEVENT
DTSTART;TZID=America/New_York:20250925T100000
DTEND;TZID=America/New_York:20250925T120000
DTSTAMP:20260422T190656
CREATED:20250714T145438Z
LAST-MODIFIED:20250714T145438Z
UID:10003575-1758794400-1758801600@www.lifelonglearningcollaborative.org
SUMMARY:Theater Conversations
DESCRIPTION:
URL:https://www.lifelonglearningcollaborative.org/event/theater-conversations-3-4/2025-09-25/
LOCATION:Shriners Center\, 1 Rhodes Place\, Cranston\, RI\, 02905\, United States
CATEGORIES:Courses
END:VEVENT
BEGIN:VEVENT
DTSTART;TZID=America/New_York:20250925T130000
DTEND;TZID=America/New_York:20250925T141500
DTSTAMP:20260422T190656
CREATED:20250714T145748Z
LAST-MODIFIED:20250714T145748Z
UID:10003606-1758805200-1758809700@www.lifelonglearningcollaborative.org
SUMMARY:Alexander Technique
DESCRIPTION:
URL:https://www.lifelonglearningcollaborative.org/event/alexander-technique-2-3/2025-09-25/
LOCATION:Shriners Center\, 1 Rhodes Place\, Cranston\, RI\, 02905\, United States
CATEGORIES:Courses
END:VEVENT
BEGIN:VEVENT
DTSTART;TZID=America/New_York:20250925T130000
DTEND;TZID=America/New_York:20250925T150000
DTSTAMP:20260422T190656
CREATED:20250714T145546Z
LAST-MODIFIED:20250714T145546Z
UID:10003587-1758805200-1758812400@www.lifelonglearningcollaborative.org
SUMMARY:Collage
DESCRIPTION:
URL:https://www.lifelonglearningcollaborative.org/event/collage/2025-09-25/
LOCATION:Shriners Center\, 1 Rhodes Place\, Cranston\, RI\, 02905\, United States
CATEGORIES:Courses
END:VEVENT
BEGIN:VEVENT
DTSTART;TZID=America/New_York:20250925T130000
DTEND;TZID=America/New_York:20250925T150000
DTSTAMP:20260422T190656
CREATED:20250714T145642Z
LAST-MODIFIED:20250714T145642Z
UID:10003597-1758805200-1758812400@www.lifelonglearningcollaborative.org
SUMMARY:Writing a Memoir (In-person)
DESCRIPTION:
URL:https://www.lifelonglearningcollaborative.org/event/writing-a-memoir-in-person/2025-09-25/
LOCATION:Shriners Center\, 1 Rhodes Place\, Cranston\, RI\, 02905\, United States
CATEGORIES:Courses
END:VEVENT
BEGIN:VEVENT
DTSTART;TZID=America/New_York:20250926T100000
DTEND;TZID=America/New_York:20250926T120000
DTSTAMP:20260422T190656
CREATED:20250714T145943Z
LAST-MODIFIED:20250714T145943Z
UID:10003672-1758880800-1758888000@www.lifelonglearningcollaborative.org
SUMMARY:1936 Olympics
DESCRIPTION:
URL:https://www.lifelonglearningcollaborative.org/event/1936-olympics/2025-09-26/
LOCATION:Shriners Center\, 1 Rhodes Place\, Cranston\, RI\, 02905\, United States
CATEGORIES:Courses
END:VEVENT
BEGIN:VEVENT
DTSTART;TZID=America/New_York:20250926T100000
DTEND;TZID=America/New_York:20250926T120000
DTSTAMP:20260422T190656
CREATED:20250714T150033Z
LAST-MODIFIED:20250714T150033Z
UID:10003683-1758880800-1758888000@www.lifelonglearningcollaborative.org
SUMMARY:Anthropology/Movies
DESCRIPTION:
URL:https://www.lifelonglearningcollaborative.org/event/anthropology-movies/2025-09-26/
LOCATION:Shriners Center\, 1 Rhodes Place\, Cranston\, RI\, 02905\, United States
CATEGORIES:Courses
END:VEVENT
BEGIN:VEVENT
DTSTART;TZID=America/New_York:20250926T100000
DTEND;TZID=America/New_York:20250926T230000
DTSTAMP:20260422T190656
CREATED:20250714T145833Z
LAST-MODIFIED:20251103T205822Z
UID:10003613-1758880800-1758927600@www.lifelonglearningcollaborative.org
SUMMARY:Get Fit
DESCRIPTION:
URL:https://www.lifelonglearningcollaborative.org/event/get-fit-2-2/2025-09-26/
LOCATION:ZOOM
CATEGORIES:Courses
END:VEVENT
BEGIN:VEVENT
DTSTART;TZID=America/New_York:20250929T100000
DTEND;TZID=America/New_York:20250929T120000
DTSTAMP:20260422T190656
CREATED:20250526T233807Z
LAST-MODIFIED:20251103T210152Z
UID:10003239-1759140000-1759147200@www.lifelonglearningcollaborative.org
SUMMARY:Current Events
DESCRIPTION:
URL:https://www.lifelonglearningcollaborative.org/event/current-events/2025-09-29/
LOCATION:ZOOM
CATEGORIES:Courses
END:VEVENT
BEGIN:VEVENT
DTSTART;TZID=America/New_York:20250929T100000
DTEND;TZID=America/New_York:20250929T120000
DTSTAMP:20260422T190656
CREATED:20250714T134514Z
LAST-MODIFIED:20250714T134514Z
UID:10003371-1759140000-1759147200@www.lifelonglearningcollaborative.org
SUMMARY:Open Studio Art (Zoom)
DESCRIPTION:
URL:https://www.lifelonglearningcollaborative.org/event/open-studio-art-zoom-2-4/2025-09-29/
LOCATION:ZOOM
CATEGORIES:Courses
END:VEVENT
BEGIN:VEVENT
DTSTART;TZID=America/New_York:20250929T130000
DTEND;TZID=America/New_York:20250929T150000
DTSTAMP:20260422T190656
CREATED:20250714T135535Z
LAST-MODIFIED:20250714T135535Z
UID:10003409-1759150800-1759158000@www.lifelonglearningcollaborative.org
SUMMARY:Hist Novel Book Club 25-26
DESCRIPTION:
URL:https://www.lifelonglearningcollaborative.org/event/hist-novel-book-club-25-26/2025-09-29/
LOCATION:ZOOM
CATEGORIES:Courses
END:VEVENT
BEGIN:VEVENT
DTSTART;TZID=America/New_York:20250930T100000
DTEND;TZID=America/New_York:20250930T120000
DTSTAMP:20260422T190656
CREATED:20250714T143035Z
LAST-MODIFIED:20250714T143035Z
UID:10003430-1759226400-1759233600@www.lifelonglearningcollaborative.org
SUMMARY:Short Stories Desai & Eisenberg
DESCRIPTION:
URL:https://www.lifelonglearningcollaborative.org/event/short-stories-desai-eisenberg/2025-09-30/
LOCATION:Shriners Center\, 1 Rhodes Place\, Cranston\, RI\, 02905\, United States
CATEGORIES:Courses
END:VEVENT
BEGIN:VEVENT
DTSTART;TZID=America/New_York:20250930T100000
DTEND;TZID=America/New_York:20250930T120000
DTSTAMP:20260422T190656
CREATED:20250714T143319Z
LAST-MODIFIED:20250714T143319Z
UID:10003439-1759226400-1759233600@www.lifelonglearningcollaborative.org
SUMMARY:Writing a Memoir (Zoom)
DESCRIPTION:
URL:https://www.lifelonglearningcollaborative.org/event/writing-a-memoir-zoom-2-2/2025-09-30/
LOCATION:ZOOM
CATEGORIES:Courses
END:VEVENT
BEGIN:VEVENT
DTSTART;TZID=America/New_York:20250930T100000
DTEND;TZID=America/New_York:20250930T123000
DTSTAMP:20260422T190656
CREATED:20250714T143422Z
LAST-MODIFIED:20250714T143422Z
UID:10003446-1759226400-1759235400@www.lifelonglearningcollaborative.org
SUMMARY:Open Studio Art (In-person)
DESCRIPTION:
URL:https://www.lifelonglearningcollaborative.org/event/open-studio-art-in-person/2025-09-30/
LOCATION:Shriners Center\, 1 Rhodes Place\, Cranston\, RI\, 02905\, United States
CATEGORIES:Courses
END:VEVENT
END:VCALENDAR