BEGIN:VCALENDAR
VERSION:2.0
PRODID:-//Lifelong Learning Collaborative - ECPv6.15.12.2//NONSGML v1.0//EN
CALSCALE:GREGORIAN
METHOD:PUBLISH
X-WR-CALNAME:Lifelong Learning Collaborative
X-ORIGINAL-URL:https://www.lifelonglearningcollaborative.org
X-WR-CALDESC:Events for Lifelong Learning Collaborative
REFRESH-INTERVAL;VALUE=DURATION:PT1H
X-Robots-Tag:noindex
X-PUBLISHED-TTL:PT1H
BEGIN:VTIMEZONE
TZID:America/New_York
BEGIN:DAYLIGHT
TZOFFSETFROM:-0500
TZOFFSETTO:-0400
TZNAME:EDT
DTSTART:20240310T070000
END:DAYLIGHT
BEGIN:STANDARD
TZOFFSETFROM:-0400
TZOFFSETTO:-0500
TZNAME:EST
DTSTART:20241103T060000
END:STANDARD
BEGIN:DAYLIGHT
TZOFFSETFROM:-0500
TZOFFSETTO:-0400
TZNAME:EDT
DTSTART:20250309T070000
END:DAYLIGHT
BEGIN:STANDARD
TZOFFSETFROM:-0400
TZOFFSETTO:-0500
TZNAME:EST
DTSTART:20251102T060000
END:STANDARD
BEGIN:DAYLIGHT
TZOFFSETFROM:-0500
TZOFFSETTO:-0400
TZNAME:EDT
DTSTART:20260308T070000
END:DAYLIGHT
BEGIN:STANDARD
TZOFFSETFROM:-0400
TZOFFSETTO:-0500
TZNAME:EST
DTSTART:20261101T060000
END:STANDARD
END:VTIMEZONE
BEGIN:VEVENT
DTSTART;TZID=America/New_York:20250721T100000
DTEND;TZID=America/New_York:20250721T120000
DTSTAMP:20260421T134354
CREATED:20250526T233807Z
LAST-MODIFIED:20251103T210152Z
UID:10003229-1753092000-1753099200@www.lifelonglearningcollaborative.org
SUMMARY:Current Events
DESCRIPTION:
URL:https://www.lifelonglearningcollaborative.org/event/current-events/2025-07-21/
LOCATION:ZOOM
CATEGORIES:Courses
END:VEVENT
BEGIN:VEVENT
DTSTART;TZID=America/New_York:20250721T130000
DTEND;TZID=America/New_York:20250721T150000
DTSTAMP:20260421T134354
CREATED:20250526T234005Z
LAST-MODIFIED:20250526T234005Z
UID:10003289-1753102800-1753110000@www.lifelonglearningcollaborative.org
SUMMARY:Armchair Travelers
DESCRIPTION:
URL:https://www.lifelonglearningcollaborative.org/event/armchair-travelers-2-2/2025-07-21/
LOCATION:international house of rhode island\, 8 Stimson Avenue\, Providence\, RI\, 02906\, United States
CATEGORIES:Courses
END:VEVENT
BEGIN:VEVENT
DTSTART;TZID=America/New_York:20250722T100000
DTEND;TZID=America/New_York:20250722T120000
DTSTAMP:20260421T134354
CREATED:20250526T234216Z
LAST-MODIFIED:20250526T234216Z
UID:10003294-1753178400-1753185600@www.lifelonglearningcollaborative.org
SUMMARY:Beach Reads
DESCRIPTION:
URL:https://www.lifelonglearningcollaborative.org/event/beach-reads-2-2/2025-07-22/
LOCATION:Temple Beth-El\, 70 Orchard Avenue\, Providence\, RI\, United States
CATEGORIES:Courses
END:VEVENT
BEGIN:VEVENT
DTSTART;TZID=America/New_York:20250722T151500
DTEND;TZID=America/New_York:20250722T170000
DTSTAMP:20260421T134354
CREATED:20250526T234839Z
LAST-MODIFIED:20250527T012549Z
UID:10003332-1753197300-1753203600@www.lifelonglearningcollaborative.org
SUMMARY:Scrabble
DESCRIPTION:
URL:https://www.lifelonglearningcollaborative.org/event/scrabble-19/2025-07-22/
LOCATION:Temple Beth-El\, 70 Orchard Avenue\, Providence\, RI\, United States
CATEGORIES:Courses
END:VEVENT
BEGIN:VEVENT
DTSTART;TZID=America/New_York:20250723T100000
DTEND;TZID=America/New_York:20250723T120000
DTSTAMP:20260421T134354
CREATED:20250527T012240Z
LAST-MODIFIED:20250527T012240Z
UID:10003316-1753264800-1753272000@www.lifelonglearningcollaborative.org
SUMMARY:How Things Are Made (Hybrid)
DESCRIPTION:
URL:https://www.lifelonglearningcollaborative.org/event/how-things-are-made-hybrid/2025-07-23/
LOCATION:RI
CATEGORIES:Courses
END:VEVENT
BEGIN:VEVENT
DTSTART;TZID=America/New_York:20250723T100000
DTEND;TZID=America/New_York:20250723T120000
DTSTAMP:20260421T134354
CREATED:20250527T012333Z
LAST-MODIFIED:20250527T012333Z
UID:10003324-1753264800-1753272000@www.lifelonglearningcollaborative.org
SUMMARY:Plein Air
DESCRIPTION:
URL:https://www.lifelonglearningcollaborative.org/event/plein-air-5/2025-07-23/
LOCATION:RI
CATEGORIES:Courses
END:VEVENT
BEGIN:VEVENT
DTSTART;TZID=America/New_York:20250723T130000
DTEND;TZID=America/New_York:20250723T150000
DTSTAMP:20260421T134354
CREATED:20250527T012811Z
LAST-MODIFIED:20250527T012811Z
UID:10003339-1753275600-1753282800@www.lifelonglearningcollaborative.org
SUMMARY:Jazz Dance
DESCRIPTION:
URL:https://www.lifelonglearningcollaborative.org/event/jazz-dance/2025-07-23/
LOCATION:Temple Beth-El\, 70 Orchard Avenue\, Providence\, RI\, United States
CATEGORIES:Courses
END:VEVENT
BEGIN:VEVENT
DTSTART;TZID=America/New_York:20250723T130000
DTEND;TZID=America/New_York:20250723T150000
DTSTAMP:20260421T134354
CREATED:20250527T012956Z
LAST-MODIFIED:20250527T012956Z
UID:10003344-1753275600-1753282800@www.lifelonglearningcollaborative.org
SUMMARY:Fiction Writing Group
DESCRIPTION:
URL:https://www.lifelonglearningcollaborative.org/event/fiction-writing-group/2025-07-23/
LOCATION:Temple Beth-El\, 70 Orchard Avenue\, Providence\, RI\, United States
CATEGORIES:Courses
END:VEVENT
BEGIN:VEVENT
DTSTART;TZID=America/New_York:20250724T100000
DTEND;TZID=America/New_York:20250724T120000
DTSTAMP:20260421T134354
CREATED:20250527T013056Z
LAST-MODIFIED:20250527T013525Z
UID:10003349-1753351200-1753358400@www.lifelonglearningcollaborative.org
SUMMARY:Barbara Pym
DESCRIPTION:
URL:https://www.lifelonglearningcollaborative.org/event/barbara-pym/2025-07-24/
LOCATION:Temple Beth-El\, 70 Orchard Avenue\, Providence\, RI\, United States
CATEGORIES:Courses
END:VEVENT
BEGIN:VEVENT
DTSTART;TZID=America/New_York:20250725T100000
DTEND;TZID=America/New_York:20250725T110000
DTSTAMP:20260421T134354
CREATED:20250527T013150Z
LAST-MODIFIED:20250527T013150Z
UID:10003357-1753437600-1753441200@www.lifelonglearningcollaborative.org
SUMMARY:Get Fit
DESCRIPTION:
URL:https://www.lifelonglearningcollaborative.org/event/get-fit/2025-07-25/
LOCATION:ZOOM
CATEGORIES:Courses
END:VEVENT
BEGIN:VEVENT
DTSTART;TZID=America/New_York:20250725T100000
DTEND;TZID=America/New_York:20250725T120000
DTSTAMP:20260421T134354
CREATED:20250527T013701Z
LAST-MODIFIED:20250527T013701Z
UID:10003363-1753437600-1753444800@www.lifelonglearningcollaborative.org
SUMMARY:Forget Plymouth Rock
DESCRIPTION:
URL:https://www.lifelonglearningcollaborative.org/event/forget-plymouth-rock-2-2/2025-07-25/
LOCATION:RI
CATEGORIES:Courses
END:VEVENT
BEGIN:VEVENT
DTSTART;TZID=America/New_York:20250728T100000
DTEND;TZID=America/New_York:20250728T120000
DTSTAMP:20260421T134354
CREATED:20250526T233807Z
LAST-MODIFIED:20251103T210152Z
UID:10003230-1753696800-1753704000@www.lifelonglearningcollaborative.org
SUMMARY:Current Events
DESCRIPTION:
URL:https://www.lifelonglearningcollaborative.org/event/current-events/2025-07-28/
LOCATION:ZOOM
CATEGORIES:Courses
END:VEVENT
BEGIN:VEVENT
DTSTART;TZID=America/New_York:20250728T130000
DTEND;TZID=America/New_York:20250728T150000
DTSTAMP:20260421T134354
CREATED:20240715T131626Z
LAST-MODIFIED:20240715T131626Z
UID:10001923-1753707600-1753714800@www.lifelonglearningcollaborative.org
SUMMARY:Historical Novel Book Club 24-25
DESCRIPTION:
URL:https://www.lifelonglearningcollaborative.org/event/historical-novel-book-club-24-25/2025-07-28/
LOCATION:ZOOM
CATEGORIES:Courses
END:VEVENT
BEGIN:VEVENT
DTSTART;TZID=America/New_York:20250728T130000
DTEND;TZID=America/New_York:20250728T150000
DTSTAMP:20260421T134354
CREATED:20250526T234005Z
LAST-MODIFIED:20250526T234005Z
UID:10003290-1753707600-1753714800@www.lifelonglearningcollaborative.org
SUMMARY:Armchair Travelers
DESCRIPTION:
URL:https://www.lifelonglearningcollaborative.org/event/armchair-travelers-2-2/2025-07-28/
LOCATION:international house of rhode island\, 8 Stimson Avenue\, Providence\, RI\, 02906\, United States
CATEGORIES:Courses
END:VEVENT
BEGIN:VEVENT
DTSTART;TZID=America/New_York:20250729T151500
DTEND;TZID=America/New_York:20250729T170000
DTSTAMP:20260421T134354
CREATED:20250526T234839Z
LAST-MODIFIED:20250527T012549Z
UID:10003333-1753802100-1753808400@www.lifelonglearningcollaborative.org
SUMMARY:Scrabble
DESCRIPTION:
URL:https://www.lifelonglearningcollaborative.org/event/scrabble-19/2025-07-29/
LOCATION:Temple Beth-El\, 70 Orchard Avenue\, Providence\, RI\, United States
CATEGORIES:Courses
END:VEVENT
BEGIN:VEVENT
DTSTART;TZID=America/New_York:20250730T100000
DTEND;TZID=America/New_York:20250730T120000
DTSTAMP:20260421T134354
CREATED:20250527T012240Z
LAST-MODIFIED:20250527T012240Z
UID:10003317-1753869600-1753876800@www.lifelonglearningcollaborative.org
SUMMARY:How Things Are Made (Hybrid)
DESCRIPTION:
URL:https://www.lifelonglearningcollaborative.org/event/how-things-are-made-hybrid/2025-07-30/
LOCATION:RI
CATEGORIES:Courses
END:VEVENT
BEGIN:VEVENT
DTSTART;TZID=America/New_York:20250730T100000
DTEND;TZID=America/New_York:20250730T120000
DTSTAMP:20260421T134354
CREATED:20250527T012333Z
LAST-MODIFIED:20250527T012333Z
UID:10003325-1753869600-1753876800@www.lifelonglearningcollaborative.org
SUMMARY:Plein Air
DESCRIPTION:
URL:https://www.lifelonglearningcollaborative.org/event/plein-air-5/2025-07-30/
LOCATION:RI
CATEGORIES:Courses
END:VEVENT
BEGIN:VEVENT
DTSTART;TZID=America/New_York:20250730T130000
DTEND;TZID=America/New_York:20250730T150000
DTSTAMP:20260421T134354
CREATED:20250527T012811Z
LAST-MODIFIED:20250527T012811Z
UID:10003340-1753880400-1753887600@www.lifelonglearningcollaborative.org
SUMMARY:Jazz Dance
DESCRIPTION:
URL:https://www.lifelonglearningcollaborative.org/event/jazz-dance/2025-07-30/
LOCATION:Temple Beth-El\, 70 Orchard Avenue\, Providence\, RI\, United States
CATEGORIES:Courses
END:VEVENT
BEGIN:VEVENT
DTSTART;TZID=America/New_York:20250731T100000
DTEND;TZID=America/New_York:20250731T120000
DTSTAMP:20260421T134354
CREATED:20250527T013056Z
LAST-MODIFIED:20250527T013525Z
UID:10003350-1753956000-1753963200@www.lifelonglearningcollaborative.org
SUMMARY:Barbara Pym
DESCRIPTION:
URL:https://www.lifelonglearningcollaborative.org/event/barbara-pym/2025-07-31/
LOCATION:Temple Beth-El\, 70 Orchard Avenue\, Providence\, RI\, United States
CATEGORIES:Courses
END:VEVENT
BEGIN:VEVENT
DTSTART;TZID=America/New_York:20250801T100000
DTEND;TZID=America/New_York:20250801T110000
DTSTAMP:20260421T134354
CREATED:20250527T013150Z
LAST-MODIFIED:20250527T013150Z
UID:10003358-1754042400-1754046000@www.lifelonglearningcollaborative.org
SUMMARY:Get Fit
DESCRIPTION:
URL:https://www.lifelonglearningcollaborative.org/event/get-fit/2025-08-01/
LOCATION:ZOOM
CATEGORIES:Courses
END:VEVENT
BEGIN:VEVENT
DTSTART;TZID=America/New_York:20250801T100000
DTEND;TZID=America/New_York:20250801T120000
DTSTAMP:20260421T134354
CREATED:20250527T013701Z
LAST-MODIFIED:20250527T013701Z
UID:10003364-1754042400-1754049600@www.lifelonglearningcollaborative.org
SUMMARY:Forget Plymouth Rock
DESCRIPTION:
URL:https://www.lifelonglearningcollaborative.org/event/forget-plymouth-rock-2-2/2025-08-01/
LOCATION:RI
CATEGORIES:Courses
END:VEVENT
BEGIN:VEVENT
DTSTART;TZID=America/New_York:20250804T100000
DTEND;TZID=America/New_York:20250804T120000
DTSTAMP:20260421T134354
CREATED:20250526T233807Z
LAST-MODIFIED:20251103T210152Z
UID:10003231-1754301600-1754308800@www.lifelonglearningcollaborative.org
SUMMARY:Current Events
DESCRIPTION:
URL:https://www.lifelonglearningcollaborative.org/event/current-events/2025-08-04/
LOCATION:ZOOM
CATEGORIES:Courses
END:VEVENT
BEGIN:VEVENT
DTSTART;TZID=America/New_York:20250804T130000
DTEND;TZID=America/New_York:20250804T150000
DTSTAMP:20260421T134354
CREATED:20250526T234005Z
LAST-MODIFIED:20250526T234005Z
UID:10003291-1754312400-1754319600@www.lifelonglearningcollaborative.org
SUMMARY:Armchair Travelers
DESCRIPTION:
URL:https://www.lifelonglearningcollaborative.org/event/armchair-travelers-2-2/2025-08-04/
LOCATION:international house of rhode island\, 8 Stimson Avenue\, Providence\, RI\, 02906\, United States
CATEGORIES:Courses
END:VEVENT
BEGIN:VEVENT
DTSTART;TZID=America/New_York:20250805T100000
DTEND;TZID=America/New_York:20250805T120000
DTSTAMP:20260421T134354
CREATED:20250526T234216Z
LAST-MODIFIED:20250526T234216Z
UID:10003295-1754388000-1754395200@www.lifelonglearningcollaborative.org
SUMMARY:Beach Reads
DESCRIPTION:
URL:https://www.lifelonglearningcollaborative.org/event/beach-reads-2-2/2025-08-05/
LOCATION:Temple Beth-El\, 70 Orchard Avenue\, Providence\, RI\, United States
CATEGORIES:Courses
END:VEVENT
BEGIN:VEVENT
DTSTART;TZID=America/New_York:20250805T151500
DTEND;TZID=America/New_York:20250805T170000
DTSTAMP:20260421T134354
CREATED:20250526T234839Z
LAST-MODIFIED:20250527T012549Z
UID:10003334-1754406900-1754413200@www.lifelonglearningcollaborative.org
SUMMARY:Scrabble
DESCRIPTION:
URL:https://www.lifelonglearningcollaborative.org/event/scrabble-19/2025-08-05/
LOCATION:Temple Beth-El\, 70 Orchard Avenue\, Providence\, RI\, United States
CATEGORIES:Courses
END:VEVENT
BEGIN:VEVENT
DTSTART;TZID=America/New_York:20250806T100000
DTEND;TZID=America/New_York:20250806T120000
DTSTAMP:20260421T134354
CREATED:20250527T012240Z
LAST-MODIFIED:20250527T012240Z
UID:10003318-1754474400-1754481600@www.lifelonglearningcollaborative.org
SUMMARY:How Things Are Made (Hybrid)
DESCRIPTION:
URL:https://www.lifelonglearningcollaborative.org/event/how-things-are-made-hybrid/2025-08-06/
LOCATION:RI
CATEGORIES:Courses
END:VEVENT
BEGIN:VEVENT
DTSTART;TZID=America/New_York:20250806T100000
DTEND;TZID=America/New_York:20250806T120000
DTSTAMP:20260421T134354
CREATED:20250527T012333Z
LAST-MODIFIED:20250527T012333Z
UID:10003326-1754474400-1754481600@www.lifelonglearningcollaborative.org
SUMMARY:Plein Air
DESCRIPTION:
URL:https://www.lifelonglearningcollaborative.org/event/plein-air-5/2025-08-06/
LOCATION:RI
CATEGORIES:Courses
END:VEVENT
BEGIN:VEVENT
DTSTART;TZID=America/New_York:20250806T130000
DTEND;TZID=America/New_York:20250806T150000
DTSTAMP:20260421T134354
CREATED:20250527T012956Z
LAST-MODIFIED:20250527T012956Z
UID:10003345-1754485200-1754492400@www.lifelonglearningcollaborative.org
SUMMARY:Fiction Writing Group
DESCRIPTION:
URL:https://www.lifelonglearningcollaborative.org/event/fiction-writing-group/2025-08-06/
LOCATION:Temple Beth-El\, 70 Orchard Avenue\, Providence\, RI\, United States
CATEGORIES:Courses
END:VEVENT
BEGIN:VEVENT
DTSTART;TZID=America/New_York:20250807T100000
DTEND;TZID=America/New_York:20250807T120000
DTSTAMP:20260421T134354
CREATED:20250527T013056Z
LAST-MODIFIED:20250527T013525Z
UID:10003351-1754560800-1754568000@www.lifelonglearningcollaborative.org
SUMMARY:Barbara Pym
DESCRIPTION:
URL:https://www.lifelonglearningcollaborative.org/event/barbara-pym/2025-08-07/
LOCATION:Temple Beth-El\, 70 Orchard Avenue\, Providence\, RI\, United States
CATEGORIES:Courses
END:VEVENT
BEGIN:VEVENT
DTSTART;TZID=America/New_York:20250808T100000
DTEND;TZID=America/New_York:20250808T110000
DTSTAMP:20260421T134354
CREATED:20250527T013150Z
LAST-MODIFIED:20250527T013150Z
UID:10003359-1754647200-1754650800@www.lifelonglearningcollaborative.org
SUMMARY:Get Fit
DESCRIPTION:
URL:https://www.lifelonglearningcollaborative.org/event/get-fit/2025-08-08/
LOCATION:ZOOM
CATEGORIES:Courses
END:VEVENT
END:VCALENDAR